BEGIN:VCALENDAR
VERSION:2.0
PRODID:-//Crossroads Church - ECPv6.15.17.1//NONSGML v1.0//EN
CALSCALE:GREGORIAN
METHOD:PUBLISH
X-ORIGINAL-URL:https://welcometocrossroads.org
X-WR-CALDESC:Events for Crossroads Church
REFRESH-INTERVAL;VALUE=DURATION:PT1H
X-Robots-Tag:noindex
X-PUBLISHED-TTL:PT1H
BEGIN:VTIMEZONE
TZID:America/Indiana/Indianapolis
BEGIN:DAYLIGHT
TZOFFSETFROM:-0500
TZOFFSETTO:-0400
TZNAME:EDT
DTSTART:20220313T070000
END:DAYLIGHT
BEGIN:STANDARD
TZOFFSETFROM:-0400
TZOFFSETTO:-0500
TZNAME:EST
DTSTART:20221106T060000
END:STANDARD
BEGIN:DAYLIGHT
TZOFFSETFROM:-0500
TZOFFSETTO:-0400
TZNAME:EDT
DTSTART:20230312T070000
END:DAYLIGHT
BEGIN:STANDARD
TZOFFSETFROM:-0400
TZOFFSETTO:-0500
TZNAME:EST
DTSTART:20231105T060000
END:STANDARD
BEGIN:DAYLIGHT
TZOFFSETFROM:-0500
TZOFFSETTO:-0400
TZNAME:EDT
DTSTART:20240310T070000
END:DAYLIGHT
BEGIN:STANDARD
TZOFFSETFROM:-0400
TZOFFSETTO:-0500
TZNAME:EST
DTSTART:20241103T060000
END:STANDARD
END:VTIMEZONE
BEGIN:VEVENT
DTSTART;TZID=America/Indiana/Indianapolis:20230402T103000
DTEND;TZID=America/Indiana/Indianapolis:20230402T123000
DTSTAMP:20260422T221752
CREATED:20220807T012618Z
LAST-MODIFIED:20220807T012618Z
UID:13785-1680431400-1680438600@welcometocrossroads.org
SUMMARY:Joyfully His LG
DESCRIPTION:
URL:https://welcometocrossroads.org/event/joyfully-his-lg-17/
END:VEVENT
BEGIN:VEVENT
DTSTART;TZID=America/Indiana/Indianapolis:20230402T103000
DTEND;TZID=America/Indiana/Indianapolis:20230402T123000
DTSTAMP:20260422T221752
CREATED:20221102T192252Z
LAST-MODIFIED:20221102T192252Z
UID:15519-1680431400-1680438600@welcometocrossroads.org
SUMMARY:Joyfully His LG
DESCRIPTION:
URL:https://welcometocrossroads.org/event/joyfully-his-lg-62/
END:VEVENT
BEGIN:VEVENT
DTSTART;TZID=America/Indiana/Indianapolis:20230402T110000
DTEND;TZID=America/Indiana/Indianapolis:20230402T113000
DTSTAMP:20260422T221752
CREATED:20220807T012618Z
LAST-MODIFIED:20220807T012618Z
UID:13786-1680433200-1680435000@welcometocrossroads.org
SUMMARY:Growth Track
DESCRIPTION:
URL:https://welcometocrossroads.org/event/growth-track-108/
LOCATION:Room 117
END:VEVENT
BEGIN:VEVENT
DTSTART;TZID=America/Indiana/Indianapolis:20230402T110000
DTEND;TZID=America/Indiana/Indianapolis:20230402T113000
DTSTAMP:20260422T221752
CREATED:20221102T192252Z
LAST-MODIFIED:20221102T192252Z
UID:15520-1680433200-1680435000@welcometocrossroads.org
SUMMARY:Growth Track
DESCRIPTION:
URL:https://welcometocrossroads.org/event/growth-track-195/
LOCATION:Room 117
END:VEVENT
BEGIN:VEVENT
DTSTART;TZID=America/Indiana/Indianapolis:20230402T170000
DTEND;TZID=America/Indiana/Indianapolis:20230402T183000
DTSTAMP:20260422T221752
CREATED:20220807T012618Z
LAST-MODIFIED:20220807T012618Z
UID:13788-1680454800-1680460200@welcometocrossroads.org
SUMMARY:Girl’s Ministry: Girl’s Ministry Life Group
DESCRIPTION:
URL:https://welcometocrossroads.org/event/girls-ministry-girls-ministry-life-group-35/
LOCATION:Rooms: 102\, 114\, 115\, 116\, 117 – 7209 E County Rd 100 S\, Avon\, IN 46123\, USA
END:VEVENT
BEGIN:VEVENT
DTSTART;TZID=America/Indiana/Indianapolis:20230402T170000
DTEND;TZID=America/Indiana/Indianapolis:20230402T183000
DTSTAMP:20260422T221752
CREATED:20221102T192253Z
LAST-MODIFIED:20221102T192253Z
UID:15522-1680454800-1680460200@welcometocrossroads.org
SUMMARY:Girl’s Ministry: Girl’s Ministry Life Group
DESCRIPTION:
URL:https://welcometocrossroads.org/event/girls-ministry-girls-ministry-life-group-130/
LOCATION:Rooms: 102\, 114\, 115\, 116\, 117 – 7209 E County Rd 100 S\, Avon\, IN 46123\, USA
END:VEVENT
BEGIN:VEVENT
DTSTART;TZID=America/Indiana/Indianapolis:20230402T173000
DTEND;TZID=America/Indiana/Indianapolis:20230402T180000
DTSTAMP:20260422T221752
CREATED:20220807T012618Z
LAST-MODIFIED:20220807T012618Z
UID:13787-1680456600-1680458400@welcometocrossroads.org
SUMMARY:CSM - Leader Huddle
DESCRIPTION:
URL:https://welcometocrossroads.org/event/csm-leader-huddle-115/
LOCATION:102
END:VEVENT
BEGIN:VEVENT
DTSTART;TZID=America/Indiana/Indianapolis:20230402T173000
DTEND;TZID=America/Indiana/Indianapolis:20230402T180000
DTSTAMP:20260422T221752
CREATED:20221102T192252Z
LAST-MODIFIED:20221102T192252Z
UID:15521-1680456600-1680458400@welcometocrossroads.org
SUMMARY:CSM - Leader Huddle
DESCRIPTION:
URL:https://welcometocrossroads.org/event/csm-leader-huddle-210/
LOCATION:102
END:VEVENT
BEGIN:VEVENT
DTSTART;TZID=America/Indiana/Indianapolis:20230402T190000
DTEND;TZID=America/Indiana/Indianapolis:20230402T200000
DTSTAMP:20260422T221752
CREATED:20221102T192253Z
LAST-MODIFIED:20221102T192253Z
UID:15523-1680462000-1680465600@welcometocrossroads.org
SUMMARY:Mull Bible Study
DESCRIPTION:
URL:https://welcometocrossroads.org/event/mull-bible-study-24/
END:VEVENT
END:VCALENDAR