BEGIN:VCALENDAR
VERSION:2.0
PRODID:-//Crossroads Church - ECPv6.15.17.1//NONSGML v1.0//EN
CALSCALE:GREGORIAN
METHOD:PUBLISH
X-WR-CALNAME:Crossroads Church
X-ORIGINAL-URL:https://welcometocrossroads.org
X-WR-CALDESC:Events for Crossroads Church
REFRESH-INTERVAL;VALUE=DURATION:PT1H
X-Robots-Tag:noindex
X-PUBLISHED-TTL:PT1H
BEGIN:VTIMEZONE
TZID:America/Indiana/Indianapolis
BEGIN:DAYLIGHT
TZOFFSETFROM:-0500
TZOFFSETTO:-0400
TZNAME:EDT
DTSTART:20220313T070000
END:DAYLIGHT
BEGIN:STANDARD
TZOFFSETFROM:-0400
TZOFFSETTO:-0500
TZNAME:EST
DTSTART:20221106T060000
END:STANDARD
BEGIN:DAYLIGHT
TZOFFSETFROM:-0500
TZOFFSETTO:-0400
TZNAME:EDT
DTSTART:20230312T070000
END:DAYLIGHT
BEGIN:STANDARD
TZOFFSETFROM:-0400
TZOFFSETTO:-0500
TZNAME:EST
DTSTART:20231105T060000
END:STANDARD
BEGIN:DAYLIGHT
TZOFFSETFROM:-0500
TZOFFSETTO:-0400
TZNAME:EDT
DTSTART:20240310T070000
END:DAYLIGHT
BEGIN:STANDARD
TZOFFSETFROM:-0400
TZOFFSETTO:-0500
TZNAME:EST
DTSTART:20241103T060000
END:STANDARD
END:VTIMEZONE
BEGIN:VEVENT
DTSTART;TZID=America/Indiana/Indianapolis:20230406T180000
DTEND;TZID=America/Indiana/Indianapolis:20230406T203000
DTSTAMP:20260423T071221
CREATED:20220807T012620Z
LAST-MODIFIED:20220807T012620Z
UID:13802-1680804000-1680813000@welcometocrossroads.org
SUMMARY:Crossroads RPG Club: Time
DESCRIPTION:
URL:https://welcometocrossroads.org/event/crossroads-rpg-club-time-35/
LOCATION:114 – 7209 E CR 100 S
END:VEVENT
BEGIN:VEVENT
DTSTART;TZID=America/Indiana/Indianapolis:20230406T180000
DTEND;TZID=America/Indiana/Indianapolis:20230406T203000
DTSTAMP:20260423T071221
CREATED:20221102T192255Z
LAST-MODIFIED:20221102T192255Z
UID:15538-1680804000-1680813000@welcometocrossroads.org
SUMMARY:Crossroads RPG Club: Time
DESCRIPTION:
URL:https://welcometocrossroads.org/event/crossroads-rpg-club-time-128/
LOCATION:114 – 7209 E CR 100 S
END:VEVENT
BEGIN:VEVENT
DTSTART;TZID=America/Indiana/Indianapolis:20230406T190000
DTEND;TZID=America/Indiana/Indianapolis:20230406T203000
DTSTAMP:20260423T071221
CREATED:20220807T012620Z
LAST-MODIFIED:20220807T012620Z
UID:13801-1680807600-1680813000@welcometocrossroads.org
SUMMARY:Worship Practice
DESCRIPTION:Weekly Worship Team Practice to Prepare for the weekend
URL:https://welcometocrossroads.org/event/worship-practice-34/
END:VEVENT
BEGIN:VEVENT
DTSTART;TZID=America/Indiana/Indianapolis:20230406T190000
DTEND;TZID=America/Indiana/Indianapolis:20230406T203000
DTSTAMP:20260423T071221
CREATED:20221102T192254Z
LAST-MODIFIED:20221102T192254Z
UID:15537-1680807600-1680813000@welcometocrossroads.org
SUMMARY:Worship Practice
DESCRIPTION:Weekly Worship Team Practice to Prepare for the weekend
URL:https://welcometocrossroads.org/event/worship-practice-126/
END:VEVENT
END:VCALENDAR