BEGIN:VCALENDAR
VERSION:2.0
PRODID:-//Crossroads Church - ECPv6.15.17.1//NONSGML v1.0//EN
CALSCALE:GREGORIAN
METHOD:PUBLISH
X-ORIGINAL-URL:https://welcometocrossroads.org
X-WR-CALDESC:Events for Crossroads Church
REFRESH-INTERVAL;VALUE=DURATION:PT1H
X-Robots-Tag:noindex
X-PUBLISHED-TTL:PT1H
BEGIN:VTIMEZONE
TZID:America/Indiana/Indianapolis
BEGIN:DAYLIGHT
TZOFFSETFROM:-0500
TZOFFSETTO:-0400
TZNAME:EDT
DTSTART:20220313T070000
END:DAYLIGHT
BEGIN:STANDARD
TZOFFSETFROM:-0400
TZOFFSETTO:-0500
TZNAME:EST
DTSTART:20221106T060000
END:STANDARD
BEGIN:DAYLIGHT
TZOFFSETFROM:-0500
TZOFFSETTO:-0400
TZNAME:EDT
DTSTART:20230312T070000
END:DAYLIGHT
BEGIN:STANDARD
TZOFFSETFROM:-0400
TZOFFSETTO:-0500
TZNAME:EST
DTSTART:20231105T060000
END:STANDARD
BEGIN:DAYLIGHT
TZOFFSETFROM:-0500
TZOFFSETTO:-0400
TZNAME:EDT
DTSTART:20240310T070000
END:DAYLIGHT
BEGIN:STANDARD
TZOFFSETFROM:-0400
TZOFFSETTO:-0500
TZNAME:EST
DTSTART:20241103T060000
END:STANDARD
END:VTIMEZONE
BEGIN:VEVENT
DTSTART;TZID=America/Indiana/Indianapolis:20230419T143000
DTEND;TZID=America/Indiana/Indianapolis:20230419T160000
DTSTAMP:20260424T194346
CREATED:20220807T012625Z
LAST-MODIFIED:20220807T012625Z
UID:13827-1681914600-1681920000@welcometocrossroads.org
SUMMARY:Ellis - Women's Bible Study
DESCRIPTION:
URL:https://welcometocrossroads.org/event/ellis-womens-bible-study-17/
END:VEVENT
BEGIN:VEVENT
DTSTART;TZID=America/Indiana/Indianapolis:20230419T143000
DTEND;TZID=America/Indiana/Indianapolis:20230419T160000
DTSTAMP:20260424T194346
CREATED:20221102T192303Z
LAST-MODIFIED:20221102T192303Z
UID:15566-1681914600-1681920000@welcometocrossroads.org
SUMMARY:Ellis - Women's Bible Study
DESCRIPTION:
URL:https://welcometocrossroads.org/event/ellis-womens-bible-study-59/
END:VEVENT
BEGIN:VEVENT
DTSTART;TZID=America/Indiana/Indianapolis:20230419T180000
DTEND;TZID=America/Indiana/Indianapolis:20230419T210000
DTSTAMP:20260424T194346
CREATED:20220807T012625Z
LAST-MODIFIED:20220807T012625Z
UID:13828-1681927200-1681938000@welcometocrossroads.org
SUMMARY:The Well - College & Career Weekly Meetings
DESCRIPTION:
URL:https://welcometocrossroads.org/event/the-well-college-career-weekly-meetings-37/
END:VEVENT
BEGIN:VEVENT
DTSTART;TZID=America/Indiana/Indianapolis:20230419T180000
DTEND;TZID=America/Indiana/Indianapolis:20230419T210000
DTSTAMP:20260424T194346
CREATED:20221102T192303Z
LAST-MODIFIED:20221102T192303Z
UID:15567-1681927200-1681938000@welcometocrossroads.org
SUMMARY:The Well - College & Career Weekly Meetings
DESCRIPTION:
URL:https://welcometocrossroads.org/event/the-well-college-career-weekly-meetings-130/
END:VEVENT
BEGIN:VEVENT
DTSTART;TZID=America/Indiana/Indianapolis:20230419T183000
DTEND;TZID=America/Indiana/Indianapolis:20230419T203000
DTSTAMP:20260424T194346
CREATED:20220807T012625Z
LAST-MODIFIED:20220807T012625Z
UID:13829-1681929000-1681936200@welcometocrossroads.org
SUMMARY:Women's Wellness LG
DESCRIPTION:Women’s LG\nVisit welcometocrossroads.org/groups for more information
URL:https://welcometocrossroads.org/event/womens-wellness-lg-65/
END:VEVENT
BEGIN:VEVENT
DTSTART;TZID=America/Indiana/Indianapolis:20230419T183000
DTEND;TZID=America/Indiana/Indianapolis:20230419T203000
DTSTAMP:20260424T194346
CREATED:20221102T192303Z
LAST-MODIFIED:20221102T192303Z
UID:15568-1681929000-1681936200@welcometocrossroads.org
SUMMARY:Women's Wellness LG
DESCRIPTION:Women’s LG\nVisit welcometocrossroads.org/groups for more information
URL:https://welcometocrossroads.org/event/womens-wellness-lg-107/
END:VEVENT
END:VCALENDAR