BEGIN:VCALENDAR
VERSION:2.0
PRODID:-//Crossroads Church - ECPv6.15.17.1//NONSGML v1.0//EN
CALSCALE:GREGORIAN
METHOD:PUBLISH
X-ORIGINAL-URL:https://welcometocrossroads.org
X-WR-CALDESC:Events for Crossroads Church
REFRESH-INTERVAL;VALUE=DURATION:PT1H
X-Robots-Tag:noindex
X-PUBLISHED-TTL:PT1H
BEGIN:VTIMEZONE
TZID:America/Indiana/Indianapolis
BEGIN:DAYLIGHT
TZOFFSETFROM:-0500
TZOFFSETTO:-0400
TZNAME:EDT
DTSTART:20220313T070000
END:DAYLIGHT
BEGIN:STANDARD
TZOFFSETFROM:-0400
TZOFFSETTO:-0500
TZNAME:EST
DTSTART:20221106T060000
END:STANDARD
BEGIN:DAYLIGHT
TZOFFSETFROM:-0500
TZOFFSETTO:-0400
TZNAME:EDT
DTSTART:20230312T070000
END:DAYLIGHT
BEGIN:STANDARD
TZOFFSETFROM:-0400
TZOFFSETTO:-0500
TZNAME:EST
DTSTART:20231105T060000
END:STANDARD
BEGIN:DAYLIGHT
TZOFFSETFROM:-0500
TZOFFSETTO:-0400
TZNAME:EDT
DTSTART:20240310T070000
END:DAYLIGHT
BEGIN:STANDARD
TZOFFSETFROM:-0400
TZOFFSETTO:-0500
TZNAME:EST
DTSTART:20241103T060000
END:STANDARD
END:VTIMEZONE
BEGIN:VEVENT
DTSTART;TZID=America/Indiana/Indianapolis:20230427T070000
DTEND;TZID=America/Indiana/Indianapolis:20230427T083000
DTSTAMP:20260422T181805
CREATED:20220807T012627Z
LAST-MODIFIED:20220807T012627Z
UID:13842-1682578800-1682584200@welcometocrossroads.org
SUMMARY:Trustees Meeting
DESCRIPTION:
URL:https://welcometocrossroads.org/event/trustees-meeting-33/
LOCATION:117 – 7209 E CR 100 S
END:VEVENT
BEGIN:VEVENT
DTSTART;TZID=America/Indiana/Indianapolis:20230427T070000
DTEND;TZID=America/Indiana/Indianapolis:20230427T083000
DTSTAMP:20260422T181805
CREATED:20221102T192305Z
LAST-MODIFIED:20221102T192305Z
UID:15593-1682578800-1682584200@welcometocrossroads.org
SUMMARY:Trustees Meeting
DESCRIPTION:
URL:https://welcometocrossroads.org/event/trustees-meeting-55/
LOCATION:117 – 7209 E CR 100 S
END:VEVENT
BEGIN:VEVENT
DTSTART;TZID=America/Indiana/Indianapolis:20230427T180000
DTEND;TZID=America/Indiana/Indianapolis:20230427T203000
DTSTAMP:20260422T181805
CREATED:20220807T012628Z
LAST-MODIFIED:20220807T012628Z
UID:13846-1682618400-1682627400@welcometocrossroads.org
SUMMARY:Crossroads RPG Club: Time
DESCRIPTION:
URL:https://welcometocrossroads.org/event/crossroads-rpg-club-time-38/
LOCATION:114 – 7209 E CR 100 S
END:VEVENT
BEGIN:VEVENT
DTSTART;TZID=America/Indiana/Indianapolis:20230427T180000
DTEND;TZID=America/Indiana/Indianapolis:20230427T203000
DTSTAMP:20260422T181805
CREATED:20221102T192305Z
LAST-MODIFIED:20221102T192305Z
UID:15594-1682618400-1682627400@welcometocrossroads.org
SUMMARY:Crossroads RPG Club: Time
DESCRIPTION:
URL:https://welcometocrossroads.org/event/crossroads-rpg-club-time-131/
LOCATION:114 – 7209 E CR 100 S
END:VEVENT
BEGIN:VEVENT
DTSTART;TZID=America/Indiana/Indianapolis:20230427T183000
DTEND;TZID=America/Indiana/Indianapolis:20230427T203000
DTSTAMP:20260422T181805
CREATED:20220807T012627Z
LAST-MODIFIED:20220807T012627Z
UID:13845-1682620200-1682627400@welcometocrossroads.org
SUMMARY:Collins - LG
DESCRIPTION:
URL:https://welcometocrossroads.org/event/collins-lg-56/
END:VEVENT
BEGIN:VEVENT
DTSTART;TZID=America/Indiana/Indianapolis:20230427T183000
DTEND;TZID=America/Indiana/Indianapolis:20230427T203000
DTSTAMP:20260422T181805
CREATED:20221102T192305Z
LAST-MODIFIED:20221102T192305Z
UID:15597-1682620200-1682627400@welcometocrossroads.org
SUMMARY:Collins - LG
DESCRIPTION:
URL:https://welcometocrossroads.org/event/collins-lg-99/
END:VEVENT
BEGIN:VEVENT
DTSTART;TZID=America/Indiana/Indianapolis:20230427T190000
DTEND;TZID=America/Indiana/Indianapolis:20230427T203000
DTSTAMP:20260422T181805
CREATED:20220807T012627Z
LAST-MODIFIED:20220807T012627Z
UID:13844-1682622000-1682627400@welcometocrossroads.org
SUMMARY:Worship Practice
DESCRIPTION:Weekly Worship Team Practice to Prepare for the weekend
URL:https://welcometocrossroads.org/event/worship-practice-37/
END:VEVENT
BEGIN:VEVENT
DTSTART;TZID=America/Indiana/Indianapolis:20230427T190000
DTEND;TZID=America/Indiana/Indianapolis:20230427T203000
DTSTAMP:20260422T181805
CREATED:20221102T192305Z
LAST-MODIFIED:20221102T192305Z
UID:15596-1682622000-1682627400@welcometocrossroads.org
SUMMARY:Worship Practice
DESCRIPTION:Weekly Worship Team Practice to Prepare for the weekend
URL:https://welcometocrossroads.org/event/worship-practice-129/
END:VEVENT
END:VCALENDAR