BEGIN:VCALENDAR
VERSION:2.0
PRODID:-//Crossroads Church - ECPv6.15.17.1//NONSGML v1.0//EN
CALSCALE:GREGORIAN
METHOD:PUBLISH
X-ORIGINAL-URL:https://welcometocrossroads.org
X-WR-CALDESC:Events for Crossroads Church
REFRESH-INTERVAL;VALUE=DURATION:PT1H
X-Robots-Tag:noindex
X-PUBLISHED-TTL:PT1H
BEGIN:VTIMEZONE
TZID:America/Indiana/Indianapolis
BEGIN:DAYLIGHT
TZOFFSETFROM:-0500
TZOFFSETTO:-0400
TZNAME:EDT
DTSTART:20220313T070000
END:DAYLIGHT
BEGIN:STANDARD
TZOFFSETFROM:-0400
TZOFFSETTO:-0500
TZNAME:EST
DTSTART:20221106T060000
END:STANDARD
BEGIN:DAYLIGHT
TZOFFSETFROM:-0500
TZOFFSETTO:-0400
TZNAME:EDT
DTSTART:20230312T070000
END:DAYLIGHT
BEGIN:STANDARD
TZOFFSETFROM:-0400
TZOFFSETTO:-0500
TZNAME:EST
DTSTART:20231105T060000
END:STANDARD
BEGIN:DAYLIGHT
TZOFFSETFROM:-0500
TZOFFSETTO:-0400
TZNAME:EDT
DTSTART:20240310T070000
END:DAYLIGHT
BEGIN:STANDARD
TZOFFSETFROM:-0400
TZOFFSETTO:-0500
TZNAME:EST
DTSTART:20241103T060000
END:STANDARD
END:VTIMEZONE
BEGIN:VEVENT
DTSTART;VALUE=DATE:20230430
DTEND;VALUE=DATE:20230501
DTSTAMP:20260422T181659
CREATED:20220807T012628Z
LAST-MODIFIED:20220807T012628Z
UID:13848-1682812800-1682899199@welcometocrossroads.org
SUMMARY:Member Recognition
DESCRIPTION:
URL:https://welcometocrossroads.org/event/member-recognition-17/
END:VEVENT
BEGIN:VEVENT
DTSTART;VALUE=DATE:20230430
DTEND;VALUE=DATE:20230501
DTSTAMP:20260422T181659
CREATED:20221102T192305Z
LAST-MODIFIED:20221102T192305Z
UID:15599-1682812800-1682899199@welcometocrossroads.org
SUMMARY:Growth Track Grad Recognition
DESCRIPTION:
URL:https://welcometocrossroads.org/event/growth-track-grad-recognition-2/
END:VEVENT
BEGIN:VEVENT
DTSTART;TZID=America/Indiana/Indianapolis:20230430T170000
DTEND;TZID=America/Indiana/Indianapolis:20230430T183000
DTSTAMP:20260422T181659
CREATED:20220807T012628Z
LAST-MODIFIED:20220807T012628Z
UID:13850-1682874000-1682879400@welcometocrossroads.org
SUMMARY:Girl’s Ministry: Girl’s Ministry Life Group
DESCRIPTION:
URL:https://welcometocrossroads.org/event/girls-ministry-girls-ministry-life-group-39/
LOCATION:Rooms: 102\, 114\, 115\, 116\, 117 – 7209 E County Rd 100 S\, Avon\, IN 46123\, USA
END:VEVENT
BEGIN:VEVENT
DTSTART;TZID=America/Indiana/Indianapolis:20230430T170000
DTEND;TZID=America/Indiana/Indianapolis:20230430T183000
DTSTAMP:20260422T181659
CREATED:20221102T192306Z
LAST-MODIFIED:20221102T192306Z
UID:15602-1682874000-1682879400@welcometocrossroads.org
SUMMARY:Girl’s Ministry: Girl’s Ministry Life Group
DESCRIPTION:
URL:https://welcometocrossroads.org/event/girls-ministry-girls-ministry-life-group-134/
LOCATION:Rooms: 102\, 114\, 115\, 116\, 117 – 7209 E County Rd 100 S\, Avon\, IN 46123\, USA
END:VEVENT
BEGIN:VEVENT
DTSTART;TZID=America/Indiana/Indianapolis:20230430T173000
DTEND;TZID=America/Indiana/Indianapolis:20230430T180000
DTSTAMP:20260422T181659
CREATED:20220807T012628Z
LAST-MODIFIED:20220807T012628Z
UID:13851-1682875800-1682877600@welcometocrossroads.org
SUMMARY:CSM - Leader Huddle
DESCRIPTION:
URL:https://welcometocrossroads.org/event/csm-leader-huddle-119/
LOCATION:102
END:VEVENT
BEGIN:VEVENT
DTSTART;TZID=America/Indiana/Indianapolis:20230430T173000
DTEND;TZID=America/Indiana/Indianapolis:20230430T180000
DTSTAMP:20260422T181659
CREATED:20221102T192305Z
LAST-MODIFIED:20221102T192305Z
UID:15601-1682875800-1682877600@welcometocrossroads.org
SUMMARY:CSM - Leader Huddle
DESCRIPTION:
URL:https://welcometocrossroads.org/event/csm-leader-huddle-214/
LOCATION:102
END:VEVENT
BEGIN:VEVENT
DTSTART;TZID=America/Indiana/Indianapolis:20230430T190000
DTEND;TZID=America/Indiana/Indianapolis:20230430T200000
DTSTAMP:20260422T181659
CREATED:20221102T192306Z
LAST-MODIFIED:20221102T192306Z
UID:15603-1682881200-1682884800@welcometocrossroads.org
SUMMARY:Mull Bible Study
DESCRIPTION:
URL:https://welcometocrossroads.org/event/mull-bible-study-29/
END:VEVENT
END:VCALENDAR