BEGIN:VCALENDAR
VERSION:2.0
PRODID:-//Crossroads Church - ECPv6.15.17.1//NONSGML v1.0//EN
CALSCALE:GREGORIAN
METHOD:PUBLISH
X-ORIGINAL-URL:https://welcometocrossroads.org
X-WR-CALDESC:Events for Crossroads Church
REFRESH-INTERVAL;VALUE=DURATION:PT1H
X-Robots-Tag:noindex
X-PUBLISHED-TTL:PT1H
BEGIN:VTIMEZONE
TZID:America/Indiana/Indianapolis
BEGIN:DAYLIGHT
TZOFFSETFROM:-0500
TZOFFSETTO:-0400
TZNAME:EDT
DTSTART:20220313T070000
END:DAYLIGHT
BEGIN:STANDARD
TZOFFSETFROM:-0400
TZOFFSETTO:-0500
TZNAME:EST
DTSTART:20221106T060000
END:STANDARD
BEGIN:DAYLIGHT
TZOFFSETFROM:-0500
TZOFFSETTO:-0400
TZNAME:EDT
DTSTART:20230312T070000
END:DAYLIGHT
BEGIN:STANDARD
TZOFFSETFROM:-0400
TZOFFSETTO:-0500
TZNAME:EST
DTSTART:20231105T060000
END:STANDARD
BEGIN:DAYLIGHT
TZOFFSETFROM:-0500
TZOFFSETTO:-0400
TZNAME:EDT
DTSTART:20240310T070000
END:DAYLIGHT
BEGIN:STANDARD
TZOFFSETFROM:-0400
TZOFFSETTO:-0500
TZNAME:EST
DTSTART:20241103T060000
END:STANDARD
END:VTIMEZONE
BEGIN:VEVENT
DTSTART;TZID=America/Indiana/Indianapolis:20230504T180000
DTEND;TZID=America/Indiana/Indianapolis:20230504T203000
DTSTAMP:20260422T181646
CREATED:20220807T012630Z
LAST-MODIFIED:20220807T012630Z
UID:13865-1683223200-1683232200@welcometocrossroads.org
SUMMARY:Crossroads RPG Club: Time
DESCRIPTION:
URL:https://welcometocrossroads.org/event/crossroads-rpg-club-time-39/
LOCATION:114 – 7209 E CR 100 S
END:VEVENT
BEGIN:VEVENT
DTSTART;TZID=America/Indiana/Indianapolis:20230504T180000
DTEND;TZID=America/Indiana/Indianapolis:20230504T203000
DTSTAMP:20260422T181646
CREATED:20221102T192308Z
LAST-MODIFIED:20221102T192308Z
UID:15618-1683223200-1683232200@welcometocrossroads.org
SUMMARY:Crossroads RPG Club: Time
DESCRIPTION:
URL:https://welcometocrossroads.org/event/crossroads-rpg-club-time-132/
LOCATION:114 – 7209 E CR 100 S
END:VEVENT
BEGIN:VEVENT
DTSTART;TZID=America/Indiana/Indianapolis:20230504T190000
DTEND;TZID=America/Indiana/Indianapolis:20230504T203000
DTSTAMP:20260422T181646
CREATED:20220807T012629Z
LAST-MODIFIED:20220807T012629Z
UID:13863-1683226800-1683232200@welcometocrossroads.org
SUMMARY:Worship Practice
DESCRIPTION:Weekly Worship Team Practice to Prepare for the weekend
URL:https://welcometocrossroads.org/event/worship-practice-38/
END:VEVENT
BEGIN:VEVENT
DTSTART;TZID=America/Indiana/Indianapolis:20230504T190000
DTEND;TZID=America/Indiana/Indianapolis:20230504T203000
DTSTAMP:20260422T181646
CREATED:20221102T192307Z
LAST-MODIFIED:20221102T192307Z
UID:15616-1683226800-1683232200@welcometocrossroads.org
SUMMARY:Worship Practice
DESCRIPTION:Weekly Worship Team Practice to Prepare for the weekend
URL:https://welcometocrossroads.org/event/worship-practice-130/
END:VEVENT
END:VCALENDAR