BEGIN:VCALENDAR
VERSION:2.0
PRODID:-//Crossroads Church - ECPv6.15.17.1//NONSGML v1.0//EN
CALSCALE:GREGORIAN
METHOD:PUBLISH
X-ORIGINAL-URL:https://welcometocrossroads.org
X-WR-CALDESC:Events for Crossroads Church
REFRESH-INTERVAL;VALUE=DURATION:PT1H
X-Robots-Tag:noindex
X-PUBLISHED-TTL:PT1H
BEGIN:VTIMEZONE
TZID:America/Indiana/Indianapolis
BEGIN:DAYLIGHT
TZOFFSETFROM:-0500
TZOFFSETTO:-0400
TZNAME:EDT
DTSTART:20220313T070000
END:DAYLIGHT
BEGIN:STANDARD
TZOFFSETFROM:-0400
TZOFFSETTO:-0500
TZNAME:EST
DTSTART:20221106T060000
END:STANDARD
BEGIN:DAYLIGHT
TZOFFSETFROM:-0500
TZOFFSETTO:-0400
TZNAME:EDT
DTSTART:20230312T070000
END:DAYLIGHT
BEGIN:STANDARD
TZOFFSETFROM:-0400
TZOFFSETTO:-0500
TZNAME:EST
DTSTART:20231105T060000
END:STANDARD
BEGIN:DAYLIGHT
TZOFFSETFROM:-0500
TZOFFSETTO:-0400
TZNAME:EDT
DTSTART:20240310T070000
END:DAYLIGHT
BEGIN:STANDARD
TZOFFSETFROM:-0400
TZOFFSETTO:-0500
TZNAME:EST
DTSTART:20241103T060000
END:STANDARD
END:VTIMEZONE
BEGIN:VEVENT
DTSTART;TZID=America/Indiana/Indianapolis:20230507T103000
DTEND;TZID=America/Indiana/Indianapolis:20230507T123000
DTSTAMP:20260425T163238
CREATED:20220807T012630Z
LAST-MODIFIED:20220807T012630Z
UID:13867-1683455400-1683462600@welcometocrossroads.org
SUMMARY:Joyfully His LG
DESCRIPTION:
URL:https://welcometocrossroads.org/event/joyfully-his-lg-19/
END:VEVENT
BEGIN:VEVENT
DTSTART;TZID=America/Indiana/Indianapolis:20230507T103000
DTEND;TZID=America/Indiana/Indianapolis:20230507T123000
DTSTAMP:20260425T163238
CREATED:20221102T192308Z
LAST-MODIFIED:20221102T192308Z
UID:15619-1683455400-1683462600@welcometocrossroads.org
SUMMARY:Joyfully His LG
DESCRIPTION:
URL:https://welcometocrossroads.org/event/joyfully-his-lg-64/
END:VEVENT
BEGIN:VEVENT
DTSTART;TZID=America/Indiana/Indianapolis:20230507T110000
DTEND;TZID=America/Indiana/Indianapolis:20230507T113000
DTSTAMP:20260425T163238
CREATED:20220807T012630Z
LAST-MODIFIED:20220807T012630Z
UID:13866-1683457200-1683459000@welcometocrossroads.org
SUMMARY:Growth Track
DESCRIPTION:
URL:https://welcometocrossroads.org/event/growth-track-112/
LOCATION:Room 117
END:VEVENT
BEGIN:VEVENT
DTSTART;TZID=America/Indiana/Indianapolis:20230507T110000
DTEND;TZID=America/Indiana/Indianapolis:20230507T113000
DTSTAMP:20260425T163238
CREATED:20221102T192308Z
LAST-MODIFIED:20221102T192308Z
UID:15620-1683457200-1683459000@welcometocrossroads.org
SUMMARY:Growth Track
DESCRIPTION:
URL:https://welcometocrossroads.org/event/growth-track-199/
LOCATION:Room 117
END:VEVENT
BEGIN:VEVENT
DTSTART;TZID=America/Indiana/Indianapolis:20230507T170000
DTEND;TZID=America/Indiana/Indianapolis:20230507T183000
DTSTAMP:20260425T163238
CREATED:20220807T012630Z
LAST-MODIFIED:20220807T012630Z
UID:13868-1683478800-1683484200@welcometocrossroads.org
SUMMARY:Girl’s Ministry: Girl’s Ministry Life Group
DESCRIPTION:
URL:https://welcometocrossroads.org/event/girls-ministry-girls-ministry-life-group-40/
LOCATION:Rooms: 102\, 114\, 115\, 116\, 117 – 7209 E County Rd 100 S\, Avon\, IN 46123\, USA
END:VEVENT
BEGIN:VEVENT
DTSTART;TZID=America/Indiana/Indianapolis:20230507T170000
DTEND;TZID=America/Indiana/Indianapolis:20230507T183000
DTSTAMP:20260425T163238
CREATED:20221102T192308Z
LAST-MODIFIED:20221102T192308Z
UID:15621-1683478800-1683484200@welcometocrossroads.org
SUMMARY:Girl’s Ministry: Girl’s Ministry Life Group
DESCRIPTION:
URL:https://welcometocrossroads.org/event/girls-ministry-girls-ministry-life-group-135/
LOCATION:Rooms: 102\, 114\, 115\, 116\, 117 – 7209 E County Rd 100 S\, Avon\, IN 46123\, USA
END:VEVENT
BEGIN:VEVENT
DTSTART;TZID=America/Indiana/Indianapolis:20230507T173000
DTEND;TZID=America/Indiana/Indianapolis:20230507T180000
DTSTAMP:20260425T163238
CREATED:20220807T012630Z
LAST-MODIFIED:20220807T012630Z
UID:13869-1683480600-1683482400@welcometocrossroads.org
SUMMARY:CSM - Leader Huddle
DESCRIPTION:
URL:https://welcometocrossroads.org/event/csm-leader-huddle-120/
LOCATION:102
END:VEVENT
BEGIN:VEVENT
DTSTART;TZID=America/Indiana/Indianapolis:20230507T173000
DTEND;TZID=America/Indiana/Indianapolis:20230507T180000
DTSTAMP:20260425T163238
CREATED:20221102T192309Z
LAST-MODIFIED:20221102T192309Z
UID:15622-1683480600-1683482400@welcometocrossroads.org
SUMMARY:CSM - Leader Huddle
DESCRIPTION:
URL:https://welcometocrossroads.org/event/csm-leader-huddle-215/
LOCATION:102
END:VEVENT
BEGIN:VEVENT
DTSTART;TZID=America/Indiana/Indianapolis:20230507T190000
DTEND;TZID=America/Indiana/Indianapolis:20230507T200000
DTSTAMP:20260425T163238
CREATED:20221102T192309Z
LAST-MODIFIED:20221102T192309Z
UID:15623-1683486000-1683489600@welcometocrossroads.org
SUMMARY:Mull Bible Study
DESCRIPTION:
URL:https://welcometocrossroads.org/event/mull-bible-study-30/
END:VEVENT
END:VCALENDAR