BEGIN:VCALENDAR
VERSION:2.0
PRODID:-//Crossroads Church - ECPv6.15.17.1//NONSGML v1.0//EN
CALSCALE:GREGORIAN
METHOD:PUBLISH
X-ORIGINAL-URL:https://welcometocrossroads.org
X-WR-CALDESC:Events for Crossroads Church
REFRESH-INTERVAL;VALUE=DURATION:PT1H
X-Robots-Tag:noindex
X-PUBLISHED-TTL:PT1H
BEGIN:VTIMEZONE
TZID:America/Indiana/Indianapolis
BEGIN:DAYLIGHT
TZOFFSETFROM:-0500
TZOFFSETTO:-0400
TZNAME:EDT
DTSTART:20220313T070000
END:DAYLIGHT
BEGIN:STANDARD
TZOFFSETFROM:-0400
TZOFFSETTO:-0500
TZNAME:EST
DTSTART:20221106T060000
END:STANDARD
BEGIN:DAYLIGHT
TZOFFSETFROM:-0500
TZOFFSETTO:-0400
TZNAME:EDT
DTSTART:20230312T070000
END:DAYLIGHT
BEGIN:STANDARD
TZOFFSETFROM:-0400
TZOFFSETTO:-0500
TZNAME:EST
DTSTART:20231105T060000
END:STANDARD
BEGIN:DAYLIGHT
TZOFFSETFROM:-0500
TZOFFSETTO:-0400
TZNAME:EDT
DTSTART:20240310T070000
END:DAYLIGHT
BEGIN:STANDARD
TZOFFSETFROM:-0400
TZOFFSETTO:-0500
TZNAME:EST
DTSTART:20241103T060000
END:STANDARD
END:VTIMEZONE
BEGIN:VEVENT
DTSTART;TZID=America/Indiana/Indianapolis:20230509T100000
DTEND;TZID=America/Indiana/Indianapolis:20230509T113000
DTSTAMP:20260422T181902
CREATED:20220807T012631Z
LAST-MODIFIED:20220807T012631Z
UID:13872-1683626400-1683631800@welcometocrossroads.org
SUMMARY:Beth Moore Women's Bible Study: Women's Bible Study
DESCRIPTION:
URL:https://welcometocrossroads.org/event/beth-moore-womens-bible-study-womens-bible-study-40/
END:VEVENT
BEGIN:VEVENT
DTSTART;TZID=America/Indiana/Indianapolis:20230509T100000
DTEND;TZID=America/Indiana/Indianapolis:20230509T120000
DTSTAMP:20260422T181902
CREATED:20220807T012631Z
LAST-MODIFIED:20220807T012631Z
UID:13873-1683626400-1683633600@welcometocrossroads.org
SUMMARY:S-Meeting
DESCRIPTION:
URL:https://welcometocrossroads.org/event/s-meeting-123/
END:VEVENT
BEGIN:VEVENT
DTSTART;TZID=America/Indiana/Indianapolis:20230509T100000
DTEND;TZID=America/Indiana/Indianapolis:20230509T120000
DTSTAMP:20260422T181902
CREATED:20221102T192310Z
LAST-MODIFIED:20221102T192310Z
UID:15628-1683626400-1683633600@welcometocrossroads.org
SUMMARY:S-Meeting
DESCRIPTION:
URL:https://welcometocrossroads.org/event/s-meeting-218/
END:VEVENT
BEGIN:VEVENT
DTSTART;TZID=America/Indiana/Indianapolis:20230509T100000
DTEND;TZID=America/Indiana/Indianapolis:20230509T123000
DTSTAMP:20260422T181902
CREATED:20221102T192309Z
LAST-MODIFIED:20221102T192309Z
UID:15626-1683626400-1683635400@welcometocrossroads.org
SUMMARY:Beth Moore Women's Bible Study: Women's Bible Study
DESCRIPTION:
URL:https://welcometocrossroads.org/event/beth-moore-womens-bible-study-womens-bible-study-129/
END:VEVENT
BEGIN:VEVENT
DTSTART;TZID=America/Indiana/Indianapolis:20230509T110000
DTEND;TZID=America/Indiana/Indianapolis:20230509T140000
DTSTAMP:20260422T181902
CREATED:20220807T012631Z
LAST-MODIFIED:20220807T012631Z
UID:13874-1683630000-1683640800@welcometocrossroads.org
SUMMARY:MIBOR
DESCRIPTION:
URL:https://welcometocrossroads.org/event/mibor-26/
LOCATION:Cafe – 7209 E CR 100 S
END:VEVENT
BEGIN:VEVENT
DTSTART;TZID=America/Indiana/Indianapolis:20230509T110000
DTEND;TZID=America/Indiana/Indianapolis:20230509T140000
DTSTAMP:20260422T181902
CREATED:20221102T192310Z
LAST-MODIFIED:20221102T192310Z
UID:15627-1683630000-1683640800@welcometocrossroads.org
SUMMARY:MIBOR
DESCRIPTION:
URL:https://welcometocrossroads.org/event/mibor-48/
LOCATION:Cafe – 7209 E CR 100 S
END:VEVENT
END:VCALENDAR