BEGIN:VCALENDAR
VERSION:2.0
PRODID:-//Crossroads Church - ECPv6.15.17.1//NONSGML v1.0//EN
CALSCALE:GREGORIAN
METHOD:PUBLISH
X-ORIGINAL-URL:https://welcometocrossroads.org
X-WR-CALDESC:Events for Crossroads Church
REFRESH-INTERVAL;VALUE=DURATION:PT1H
X-Robots-Tag:noindex
X-PUBLISHED-TTL:PT1H
BEGIN:VTIMEZONE
TZID:America/Indiana/Indianapolis
BEGIN:DAYLIGHT
TZOFFSETFROM:-0500
TZOFFSETTO:-0400
TZNAME:EDT
DTSTART:20220313T070000
END:DAYLIGHT
BEGIN:STANDARD
TZOFFSETFROM:-0400
TZOFFSETTO:-0500
TZNAME:EST
DTSTART:20221106T060000
END:STANDARD
BEGIN:DAYLIGHT
TZOFFSETFROM:-0500
TZOFFSETTO:-0400
TZNAME:EDT
DTSTART:20230312T070000
END:DAYLIGHT
BEGIN:STANDARD
TZOFFSETFROM:-0400
TZOFFSETTO:-0500
TZNAME:EST
DTSTART:20231105T060000
END:STANDARD
BEGIN:DAYLIGHT
TZOFFSETFROM:-0500
TZOFFSETTO:-0400
TZNAME:EDT
DTSTART:20240310T070000
END:DAYLIGHT
BEGIN:STANDARD
TZOFFSETFROM:-0400
TZOFFSETTO:-0500
TZNAME:EST
DTSTART:20241103T060000
END:STANDARD
END:VTIMEZONE
BEGIN:VEVENT
DTSTART;TZID=America/Indiana/Indianapolis:20230511T180000
DTEND;TZID=America/Indiana/Indianapolis:20230511T203000
DTSTAMP:20260422T181753
CREATED:20220807T012632Z
LAST-MODIFIED:20220807T012632Z
UID:13878-1683828000-1683837000@welcometocrossroads.org
SUMMARY:Crossroads RPG Club: Time
DESCRIPTION:
URL:https://welcometocrossroads.org/event/crossroads-rpg-club-time-40/
LOCATION:114 – 7209 E CR 100 S
END:VEVENT
BEGIN:VEVENT
DTSTART;TZID=America/Indiana/Indianapolis:20230511T180000
DTEND;TZID=America/Indiana/Indianapolis:20230511T203000
DTSTAMP:20260422T181753
CREATED:20221102T192310Z
LAST-MODIFIED:20221102T192310Z
UID:15632-1683828000-1683837000@welcometocrossroads.org
SUMMARY:Crossroads RPG Club: Time
DESCRIPTION:
URL:https://welcometocrossroads.org/event/crossroads-rpg-club-time-133/
LOCATION:114 – 7209 E CR 100 S
END:VEVENT
BEGIN:VEVENT
DTSTART;TZID=America/Indiana/Indianapolis:20230511T183000
DTEND;TZID=America/Indiana/Indianapolis:20230511T203000
DTSTAMP:20260422T181753
CREATED:20220807T012632Z
LAST-MODIFIED:20220807T012632Z
UID:13879-1683829800-1683837000@welcometocrossroads.org
SUMMARY:Collins - LG
DESCRIPTION:
URL:https://welcometocrossroads.org/event/collins-lg-57/
END:VEVENT
BEGIN:VEVENT
DTSTART;TZID=America/Indiana/Indianapolis:20230511T183000
DTEND;TZID=America/Indiana/Indianapolis:20230511T203000
DTSTAMP:20260422T181753
CREATED:20221102T192310Z
LAST-MODIFIED:20221102T192310Z
UID:15633-1683829800-1683837000@welcometocrossroads.org
SUMMARY:Collins - LG
DESCRIPTION:
URL:https://welcometocrossroads.org/event/collins-lg-100/
END:VEVENT
BEGIN:VEVENT
DTSTART;TZID=America/Indiana/Indianapolis:20230511T190000
DTEND;TZID=America/Indiana/Indianapolis:20230511T203000
DTSTAMP:20260422T181753
CREATED:20220807T012632Z
LAST-MODIFIED:20220807T012632Z
UID:13880-1683831600-1683837000@welcometocrossroads.org
SUMMARY:Worship Practice
DESCRIPTION:Weekly Worship Team Practice to Prepare for the weekend
URL:https://welcometocrossroads.org/event/worship-practice-39/
END:VEVENT
BEGIN:VEVENT
DTSTART;TZID=America/Indiana/Indianapolis:20230511T190000
DTEND;TZID=America/Indiana/Indianapolis:20230511T203000
DTSTAMP:20260422T181753
CREATED:20221102T192311Z
LAST-MODIFIED:20221102T192311Z
UID:15634-1683831600-1683837000@welcometocrossroads.org
SUMMARY:Worship Practice
DESCRIPTION:Weekly Worship Team Practice to Prepare for the weekend
URL:https://welcometocrossroads.org/event/worship-practice-131/
END:VEVENT
END:VCALENDAR