BEGIN:VCALENDAR
VERSION:2.0
PRODID:-//Crossroads Church - ECPv6.15.17.1//NONSGML v1.0//EN
CALSCALE:GREGORIAN
METHOD:PUBLISH
X-ORIGINAL-URL:https://welcometocrossroads.org
X-WR-CALDESC:Events for Crossroads Church
REFRESH-INTERVAL;VALUE=DURATION:PT1H
X-Robots-Tag:noindex
X-PUBLISHED-TTL:PT1H
BEGIN:VTIMEZONE
TZID:America/Indiana/Indianapolis
BEGIN:DAYLIGHT
TZOFFSETFROM:-0500
TZOFFSETTO:-0400
TZNAME:EDT
DTSTART:20220313T070000
END:DAYLIGHT
BEGIN:STANDARD
TZOFFSETFROM:-0400
TZOFFSETTO:-0500
TZNAME:EST
DTSTART:20221106T060000
END:STANDARD
BEGIN:DAYLIGHT
TZOFFSETFROM:-0500
TZOFFSETTO:-0400
TZNAME:EDT
DTSTART:20230312T070000
END:DAYLIGHT
BEGIN:STANDARD
TZOFFSETFROM:-0400
TZOFFSETTO:-0500
TZNAME:EST
DTSTART:20231105T060000
END:STANDARD
BEGIN:DAYLIGHT
TZOFFSETFROM:-0500
TZOFFSETTO:-0400
TZNAME:EDT
DTSTART:20240310T070000
END:DAYLIGHT
BEGIN:STANDARD
TZOFFSETFROM:-0400
TZOFFSETTO:-0500
TZNAME:EST
DTSTART:20241103T060000
END:STANDARD
END:VTIMEZONE
BEGIN:VEVENT
DTSTART;VALUE=DATE:20230514
DTEND;VALUE=DATE:20230515
DTSTAMP:20260422T181806
CREATED:20221102T192311Z
LAST-MODIFIED:20221102T192311Z
UID:15636-1684022400-1684108799@welcometocrossroads.org
SUMMARY:Mother's Day with Crossroads
DESCRIPTION:
URL:https://welcometocrossroads.org/event/mothers-day-with-crossroads/
END:VEVENT
BEGIN:VEVENT
DTSTART;TZID=America/Indiana/Indianapolis:20230514T110000
DTEND;TZID=America/Indiana/Indianapolis:20230514T113000
DTSTAMP:20260422T181806
CREATED:20220807T012632Z
LAST-MODIFIED:20220807T012632Z
UID:13882-1684062000-1684063800@welcometocrossroads.org
SUMMARY:Growth Track
DESCRIPTION:
URL:https://welcometocrossroads.org/event/growth-track-113/
LOCATION:Room 117
END:VEVENT
BEGIN:VEVENT
DTSTART;TZID=America/Indiana/Indianapolis:20230514T110000
DTEND;TZID=America/Indiana/Indianapolis:20230514T113000
DTSTAMP:20260422T181806
CREATED:20221102T192311Z
LAST-MODIFIED:20221102T192311Z
UID:15637-1684062000-1684063800@welcometocrossroads.org
SUMMARY:Growth Track
DESCRIPTION:
URL:https://welcometocrossroads.org/event/growth-track-200/
LOCATION:Room 117
END:VEVENT
BEGIN:VEVENT
DTSTART;TZID=America/Indiana/Indianapolis:20230514T170000
DTEND;TZID=America/Indiana/Indianapolis:20230514T183000
DTSTAMP:20260422T181806
CREATED:20220807T012632Z
LAST-MODIFIED:20220807T012632Z
UID:13885-1684083600-1684089000@welcometocrossroads.org
SUMMARY:Girl’s Ministry: Girl’s Ministry Life Group
DESCRIPTION:
URL:https://welcometocrossroads.org/event/girls-ministry-girls-ministry-life-group-41/
LOCATION:Rooms: 102\, 114\, 115\, 116\, 117 – 7209 E County Rd 100 S\, Avon\, IN 46123\, USA
END:VEVENT
BEGIN:VEVENT
DTSTART;TZID=America/Indiana/Indianapolis:20230514T170000
DTEND;TZID=America/Indiana/Indianapolis:20230514T183000
DTSTAMP:20260422T181807
CREATED:20221102T192311Z
LAST-MODIFIED:20221102T192311Z
UID:15638-1684083600-1684089000@welcometocrossroads.org
SUMMARY:Girl’s Ministry: Girl’s Ministry Life Group
DESCRIPTION:
URL:https://welcometocrossroads.org/event/girls-ministry-girls-ministry-life-group-136/
LOCATION:Rooms: 102\, 114\, 115\, 116\, 117 – 7209 E County Rd 100 S\, Avon\, IN 46123\, USA
END:VEVENT
BEGIN:VEVENT
DTSTART;TZID=America/Indiana/Indianapolis:20230514T173000
DTEND;TZID=America/Indiana/Indianapolis:20230514T180000
DTSTAMP:20260422T181807
CREATED:20220807T012632Z
LAST-MODIFIED:20220807T012632Z
UID:13884-1684085400-1684087200@welcometocrossroads.org
SUMMARY:CSM - Leader Huddle
DESCRIPTION:
URL:https://welcometocrossroads.org/event/csm-leader-huddle-121/
LOCATION:102
END:VEVENT
BEGIN:VEVENT
DTSTART;TZID=America/Indiana/Indianapolis:20230514T173000
DTEND;TZID=America/Indiana/Indianapolis:20230514T180000
DTSTAMP:20260422T181807
CREATED:20221102T192311Z
LAST-MODIFIED:20221102T192311Z
UID:15639-1684085400-1684087200@welcometocrossroads.org
SUMMARY:CSM - Leader Huddle
DESCRIPTION:
URL:https://welcometocrossroads.org/event/csm-leader-huddle-216/
LOCATION:102
END:VEVENT
BEGIN:VEVENT
DTSTART;TZID=America/Indiana/Indianapolis:20230514T180000
DTEND;TZID=America/Indiana/Indianapolis:20230514T200000
DTSTAMP:20260422T181807
CREATED:20220807T012632Z
LAST-MODIFIED:20220807T012632Z
UID:13883-1684087200-1684094400@welcometocrossroads.org
SUMMARY:CSM- Family Group Night
DESCRIPTION:
URL:https://welcometocrossroads.org/event/csm-family-group-night-42/
LOCATION:All Rooms
END:VEVENT
BEGIN:VEVENT
DTSTART;TZID=America/Indiana/Indianapolis:20230514T180000
DTEND;TZID=America/Indiana/Indianapolis:20230514T200000
DTSTAMP:20260422T181807
CREATED:20221102T192312Z
LAST-MODIFIED:20221102T192312Z
UID:15641-1684087200-1684094400@welcometocrossroads.org
SUMMARY:CSM- Family Group Night
DESCRIPTION:
URL:https://welcometocrossroads.org/event/csm-family-group-night-64/
LOCATION:All Rooms
END:VEVENT
BEGIN:VEVENT
DTSTART;TZID=America/Indiana/Indianapolis:20230514T190000
DTEND;TZID=America/Indiana/Indianapolis:20230514T200000
DTSTAMP:20260422T181807
CREATED:20221102T192311Z
LAST-MODIFIED:20221102T192311Z
UID:15640-1684090800-1684094400@welcometocrossroads.org
SUMMARY:Mull Bible Study
DESCRIPTION:
URL:https://welcometocrossroads.org/event/mull-bible-study-31/
END:VEVENT
END:VCALENDAR