BEGIN:VCALENDAR
VERSION:2.0
PRODID:-//Crossroads Church - ECPv6.15.17.1//NONSGML v1.0//EN
CALSCALE:GREGORIAN
METHOD:PUBLISH
X-WR-CALNAME:Crossroads Church
X-ORIGINAL-URL:https://welcometocrossroads.org
X-WR-CALDESC:Events for Crossroads Church
REFRESH-INTERVAL;VALUE=DURATION:PT1H
X-Robots-Tag:noindex
X-PUBLISHED-TTL:PT1H
BEGIN:VTIMEZONE
TZID:America/Indiana/Indianapolis
BEGIN:DAYLIGHT
TZOFFSETFROM:-0500
TZOFFSETTO:-0400
TZNAME:EDT
DTSTART:20220313T070000
END:DAYLIGHT
BEGIN:STANDARD
TZOFFSETFROM:-0400
TZOFFSETTO:-0500
TZNAME:EST
DTSTART:20221106T060000
END:STANDARD
BEGIN:DAYLIGHT
TZOFFSETFROM:-0500
TZOFFSETTO:-0400
TZNAME:EDT
DTSTART:20230312T070000
END:DAYLIGHT
BEGIN:STANDARD
TZOFFSETFROM:-0400
TZOFFSETTO:-0500
TZNAME:EST
DTSTART:20231105T060000
END:STANDARD
BEGIN:DAYLIGHT
TZOFFSETFROM:-0500
TZOFFSETTO:-0400
TZNAME:EDT
DTSTART:20240310T070000
END:DAYLIGHT
BEGIN:STANDARD
TZOFFSETFROM:-0400
TZOFFSETTO:-0500
TZNAME:EST
DTSTART:20241103T060000
END:STANDARD
END:VTIMEZONE
BEGIN:VEVENT
DTSTART;TZID=America/Indiana/Indianapolis:20230516T100000
DTEND;TZID=America/Indiana/Indianapolis:20230516T113000
DTSTAMP:20260423T071226
CREATED:20220807T012633Z
LAST-MODIFIED:20220807T012633Z
UID:13887-1684231200-1684236600@welcometocrossroads.org
SUMMARY:Beth Moore Women's Bible Study: Women's Bible Study
DESCRIPTION:
URL:https://welcometocrossroads.org/event/beth-moore-womens-bible-study-womens-bible-study-41/
END:VEVENT
BEGIN:VEVENT
DTSTART;TZID=America/Indiana/Indianapolis:20230516T100000
DTEND;TZID=America/Indiana/Indianapolis:20230516T120000
DTSTAMP:20260423T071226
CREATED:20220807T012633Z
LAST-MODIFIED:20230516T154212Z
UID:13888-1684231200-1684238400@welcometocrossroads.org
SUMMARY:S-Meeting
DESCRIPTION:
URL:https://welcometocrossroads.org/event/s-meeting-124/
END:VEVENT
BEGIN:VEVENT
DTSTART;TZID=America/Indiana/Indianapolis:20230516T100000
DTEND;TZID=America/Indiana/Indianapolis:20230516T120000
DTSTAMP:20260423T071226
CREATED:20221102T192312Z
LAST-MODIFIED:20221102T192312Z
UID:15644-1684231200-1684238400@welcometocrossroads.org
SUMMARY:S-Meeting
DESCRIPTION:
URL:https://welcometocrossroads.org/event/s-meeting-219/
END:VEVENT
BEGIN:VEVENT
DTSTART;TZID=America/Indiana/Indianapolis:20230516T100000
DTEND;TZID=America/Indiana/Indianapolis:20230516T123000
DTSTAMP:20260423T071226
CREATED:20221102T192312Z
LAST-MODIFIED:20230516T154213Z
UID:15643-1684231200-1684240200@welcometocrossroads.org
SUMMARY:Beth Moore Women's Bible Study: Women's Bible Study
DESCRIPTION:
URL:https://welcometocrossroads.org/event/beth-moore-womens-bible-study-womens-bible-study-130/
END:VEVENT
BEGIN:VEVENT
DTSTART;TZID=America/Indiana/Indianapolis:20230516T183000
DTEND;TZID=America/Indiana/Indianapolis:20230516T200000
DTSTAMP:20260423T071226
CREATED:20220807T012633Z
LAST-MODIFIED:20230516T154213Z
UID:13889-1684261800-1684267200@welcometocrossroads.org
SUMMARY:Cranor Life Group
DESCRIPTION:A Marriage Life Group Where all married couples are welcome.
URL:https://welcometocrossroads.org/event/cranor-life-group-19/
END:VEVENT
BEGIN:VEVENT
DTSTART;TZID=America/Indiana/Indianapolis:20230516T183000
DTEND;TZID=America/Indiana/Indianapolis:20230516T200000
DTSTAMP:20260423T071226
CREATED:20221102T192312Z
LAST-MODIFIED:20221102T192312Z
UID:15645-1684261800-1684267200@welcometocrossroads.org
SUMMARY:Cranor Life Group
DESCRIPTION:A Marriage Life Group Where all married couples are welcome.
URL:https://welcometocrossroads.org/event/cranor-life-group-62/
END:VEVENT
BEGIN:VEVENT
DTSTART;TZID=America/Indiana/Indianapolis:20230516T200000
DTEND;TZID=America/Indiana/Indianapolis:20230516T220000
DTSTAMP:20260423T071226
CREATED:20230515T151243Z
LAST-MODIFIED:20230516T154213Z
UID:18165-1684267200-1684274400@welcometocrossroads.org
SUMMARY:Men's Fight Club
DESCRIPTION:
URL:https://welcometocrossroads.org/event/mens-fight-club-17/
END:VEVENT
END:VCALENDAR