BEGIN:VCALENDAR
VERSION:2.0
PRODID:-//Crossroads Church - ECPv6.15.17.1//NONSGML v1.0//EN
CALSCALE:GREGORIAN
METHOD:PUBLISH
X-ORIGINAL-URL:https://welcometocrossroads.org
X-WR-CALDESC:Events for Crossroads Church
REFRESH-INTERVAL;VALUE=DURATION:PT1H
X-Robots-Tag:noindex
X-PUBLISHED-TTL:PT1H
BEGIN:VTIMEZONE
TZID:America/Indiana/Indianapolis
BEGIN:DAYLIGHT
TZOFFSETFROM:-0500
TZOFFSETTO:-0400
TZNAME:EDT
DTSTART:20220313T070000
END:DAYLIGHT
BEGIN:STANDARD
TZOFFSETFROM:-0400
TZOFFSETTO:-0500
TZNAME:EST
DTSTART:20221106T060000
END:STANDARD
BEGIN:DAYLIGHT
TZOFFSETFROM:-0500
TZOFFSETTO:-0400
TZNAME:EDT
DTSTART:20230312T070000
END:DAYLIGHT
BEGIN:STANDARD
TZOFFSETFROM:-0400
TZOFFSETTO:-0500
TZNAME:EST
DTSTART:20231105T060000
END:STANDARD
BEGIN:DAYLIGHT
TZOFFSETFROM:-0500
TZOFFSETTO:-0400
TZNAME:EDT
DTSTART:20240310T070000
END:DAYLIGHT
BEGIN:STANDARD
TZOFFSETFROM:-0400
TZOFFSETTO:-0500
TZNAME:EST
DTSTART:20241103T060000
END:STANDARD
END:VTIMEZONE
BEGIN:VEVENT
DTSTART;TZID=America/Indiana/Indianapolis:20230601T110000
DTEND;TZID=America/Indiana/Indianapolis:20230601T140000
DTSTAMP:20260423T105217
CREATED:20230525T221259Z
LAST-MODIFIED:20230531T234301Z
UID:20690-1685617200-1685628000@welcometocrossroads.org
SUMMARY:Osborn Service
DESCRIPTION:
URL:https://welcometocrossroads.org/event/osborn-service/
END:VEVENT
BEGIN:VEVENT
DTSTART;TZID=America/Indiana/Indianapolis:20230601T180000
DTEND;TZID=America/Indiana/Indianapolis:20230601T203000
DTSTAMP:20260423T105217
CREATED:20220807T012638Z
LAST-MODIFIED:20230602T001239Z
UID:13920-1685642400-1685651400@welcometocrossroads.org
SUMMARY:Crossroads RPG Club: Time
DESCRIPTION:
URL:https://welcometocrossroads.org/event/crossroads-rpg-club-time-43/
LOCATION:114 – 7209 E CR 100 S
END:VEVENT
BEGIN:VEVENT
DTSTART;TZID=America/Indiana/Indianapolis:20230601T180000
DTEND;TZID=America/Indiana/Indianapolis:20230601T203000
DTSTAMP:20260423T105217
CREATED:20221102T192316Z
LAST-MODIFIED:20221102T192316Z
UID:15689-1685642400-1685651400@welcometocrossroads.org
SUMMARY:Crossroads RPG Club: Time
DESCRIPTION:
URL:https://welcometocrossroads.org/event/crossroads-rpg-club-time-137/
LOCATION:114 – 7209 E CR 100 S
END:VEVENT
BEGIN:VEVENT
DTSTART;TZID=America/Indiana/Indianapolis:20230601T190000
DTEND;TZID=America/Indiana/Indianapolis:20230601T203000
DTSTAMP:20260423T105217
CREATED:20220807T012638Z
LAST-MODIFIED:20230602T001239Z
UID:13921-1685646000-1685651400@welcometocrossroads.org
SUMMARY:Worship Practice
DESCRIPTION:Weekly Worship Team Practice to Prepare for the weekend
URL:https://welcometocrossroads.org/event/worship-practice-42/
END:VEVENT
BEGIN:VEVENT
DTSTART;TZID=America/Indiana/Indianapolis:20230601T190000
DTEND;TZID=America/Indiana/Indianapolis:20230601T203000
DTSTAMP:20260423T105217
CREATED:20221102T192316Z
LAST-MODIFIED:20221102T192316Z
UID:15691-1685646000-1685651400@welcometocrossroads.org
SUMMARY:Worship Practice
DESCRIPTION:Weekly Worship Team Practice to Prepare for the weekend
URL:https://welcometocrossroads.org/event/worship-practice-135/
END:VEVENT
END:VCALENDAR