BEGIN:VCALENDAR
VERSION:2.0
PRODID:-//Crossroads Church - ECPv6.15.17.1//NONSGML v1.0//EN
CALSCALE:GREGORIAN
METHOD:PUBLISH
X-ORIGINAL-URL:https://welcometocrossroads.org
X-WR-CALDESC:Events for Crossroads Church
REFRESH-INTERVAL;VALUE=DURATION:PT1H
X-Robots-Tag:noindex
X-PUBLISHED-TTL:PT1H
BEGIN:VTIMEZONE
TZID:America/Indiana/Indianapolis
BEGIN:DAYLIGHT
TZOFFSETFROM:-0500
TZOFFSETTO:-0400
TZNAME:EDT
DTSTART:20220313T070000
END:DAYLIGHT
BEGIN:STANDARD
TZOFFSETFROM:-0400
TZOFFSETTO:-0500
TZNAME:EST
DTSTART:20221106T060000
END:STANDARD
BEGIN:DAYLIGHT
TZOFFSETFROM:-0500
TZOFFSETTO:-0400
TZNAME:EDT
DTSTART:20230312T070000
END:DAYLIGHT
BEGIN:STANDARD
TZOFFSETFROM:-0400
TZOFFSETTO:-0500
TZNAME:EST
DTSTART:20231105T060000
END:STANDARD
BEGIN:DAYLIGHT
TZOFFSETFROM:-0500
TZOFFSETTO:-0400
TZNAME:EDT
DTSTART:20240310T070000
END:DAYLIGHT
BEGIN:STANDARD
TZOFFSETFROM:-0400
TZOFFSETTO:-0500
TZNAME:EST
DTSTART:20241103T060000
END:STANDARD
END:VTIMEZONE
BEGIN:VEVENT
DTSTART;VALUE=DATE:20230605
DTEND;VALUE=DATE:20230610
DTSTAMP:20260423T120609
CREATED:20230515T151323Z
LAST-MODIFIED:20230609T015724Z
UID:18245-1685923200-1686355199@welcometocrossroads.org
SUMMARY:CSM SUMMER CAMP: CSM Summer Camp
DESCRIPTION:
URL:https://welcometocrossroads.org/event/csm-summer-camp-csm-summer-camp/
END:VEVENT
BEGIN:VEVENT
DTSTART;TZID=America/Indiana/Indianapolis:20230606T100000
DTEND;TZID=America/Indiana/Indianapolis:20230606T113000
DTSTAMP:20260423T120609
CREATED:20220807T012639Z
LAST-MODIFIED:20220807T012639Z
UID:13929-1686045600-1686051000@welcometocrossroads.org
SUMMARY:Beth Moore Women's Bible Study: Women's Bible Study
DESCRIPTION:
URL:https://welcometocrossroads.org/event/beth-moore-womens-bible-study-womens-bible-study-44/
END:VEVENT
BEGIN:VEVENT
DTSTART;TZID=America/Indiana/Indianapolis:20230606T100000
DTEND;TZID=America/Indiana/Indianapolis:20230606T120000
DTSTAMP:20260423T120609
CREATED:20220807T012639Z
LAST-MODIFIED:20230606T011340Z
UID:13930-1686045600-1686052800@welcometocrossroads.org
SUMMARY:S-Meeting
DESCRIPTION:
URL:https://welcometocrossroads.org/event/s-meeting-127/
END:VEVENT
BEGIN:VEVENT
DTSTART;TZID=America/Indiana/Indianapolis:20230606T100000
DTEND;TZID=America/Indiana/Indianapolis:20230606T120000
DTSTAMP:20260423T120609
CREATED:20221102T192317Z
LAST-MODIFIED:20221102T192317Z
UID:15701-1686045600-1686052800@welcometocrossroads.org
SUMMARY:S-Meeting
DESCRIPTION:
URL:https://welcometocrossroads.org/event/s-meeting-222/
END:VEVENT
BEGIN:VEVENT
DTSTART;TZID=America/Indiana/Indianapolis:20230606T100000
DTEND;TZID=America/Indiana/Indianapolis:20230606T123000
DTSTAMP:20260423T120609
CREATED:20221102T192317Z
LAST-MODIFIED:20230606T011340Z
UID:15700-1686045600-1686054600@welcometocrossroads.org
SUMMARY:Beth Moore Women's Bible Study: Women's Bible Study
DESCRIPTION:
URL:https://welcometocrossroads.org/event/beth-moore-womens-bible-study-womens-bible-study-133/
END:VEVENT
BEGIN:VEVENT
DTSTART;TZID=America/Indiana/Indianapolis:20230606T183000
DTEND;TZID=America/Indiana/Indianapolis:20230606T200000
DTSTAMP:20260423T120609
CREATED:20220807T012639Z
LAST-MODIFIED:20230606T011340Z
UID:13931-1686076200-1686081600@welcometocrossroads.org
SUMMARY:Cranor Life Group
DESCRIPTION:
URL:https://welcometocrossroads.org/event/cranor-life-group-20/
END:VEVENT
BEGIN:VEVENT
DTSTART;TZID=America/Indiana/Indianapolis:20230606T183000
DTEND;TZID=America/Indiana/Indianapolis:20230606T200000
DTSTAMP:20260423T120609
CREATED:20221102T192317Z
LAST-MODIFIED:20221102T192317Z
UID:15702-1686076200-1686081600@welcometocrossroads.org
SUMMARY:Cranor Life Group
DESCRIPTION:
URL:https://welcometocrossroads.org/event/cranor-life-group-63/
END:VEVENT
END:VCALENDAR