BEGIN:VCALENDAR
VERSION:2.0
PRODID:-//Crossroads Church - ECPv6.15.17.1//NONSGML v1.0//EN
CALSCALE:GREGORIAN
METHOD:PUBLISH
X-ORIGINAL-URL:https://welcometocrossroads.org
X-WR-CALDESC:Events for Crossroads Church
REFRESH-INTERVAL;VALUE=DURATION:PT1H
X-Robots-Tag:noindex
X-PUBLISHED-TTL:PT1H
BEGIN:VTIMEZONE
TZID:America/Indiana/Indianapolis
BEGIN:DAYLIGHT
TZOFFSETFROM:-0500
TZOFFSETTO:-0400
TZNAME:EDT
DTSTART:20220313T070000
END:DAYLIGHT
BEGIN:STANDARD
TZOFFSETFROM:-0400
TZOFFSETTO:-0500
TZNAME:EST
DTSTART:20221106T060000
END:STANDARD
BEGIN:DAYLIGHT
TZOFFSETFROM:-0500
TZOFFSETTO:-0400
TZNAME:EDT
DTSTART:20230312T070000
END:DAYLIGHT
BEGIN:STANDARD
TZOFFSETFROM:-0400
TZOFFSETTO:-0500
TZNAME:EST
DTSTART:20231105T060000
END:STANDARD
BEGIN:DAYLIGHT
TZOFFSETFROM:-0500
TZOFFSETTO:-0400
TZNAME:EDT
DTSTART:20240310T070000
END:DAYLIGHT
BEGIN:STANDARD
TZOFFSETFROM:-0400
TZOFFSETTO:-0500
TZNAME:EST
DTSTART:20241103T060000
END:STANDARD
END:VTIMEZONE
BEGIN:VEVENT
DTSTART;TZID=America/Indiana/Indianapolis:20231228T070000
DTEND;TZID=America/Indiana/Indianapolis:20231228T083000
DTSTAMP:20260423T044141
CREATED:20220807T012919Z
LAST-MODIFIED:20231227T160017Z
UID:14385-1703746800-1703752200@welcometocrossroads.org
SUMMARY:Trustees Meeting
DESCRIPTION:
URL:https://welcometocrossroads.org/event/trustees-meeting-41/
LOCATION:117 – 7209 E CR 100 S
END:VEVENT
BEGIN:VEVENT
DTSTART;TZID=America/Indiana/Indianapolis:20231228T070000
DTEND;TZID=America/Indiana/Indianapolis:20231228T083000
DTSTAMP:20260423T044141
CREATED:20221102T193358Z
LAST-MODIFIED:20221102T193358Z
UID:16425-1703746800-1703752200@welcometocrossroads.org
SUMMARY:Trustees Meeting
DESCRIPTION:
URL:https://welcometocrossroads.org/event/trustees-meeting-66/
LOCATION:117 – 7209 E CR 100 S
END:VEVENT
BEGIN:VEVENT
DTSTART;TZID=America/Indiana/Indianapolis:20231228T180000
DTEND;TZID=America/Indiana/Indianapolis:20231228T200000
DTSTAMP:20260423T044141
CREATED:20230821T221435Z
LAST-MODIFIED:20230830T005844Z
UID:25002-1703786400-1703793600@welcometocrossroads.org
SUMMARY:Women in the Word
DESCRIPTION:Women in the Word is an accountability group for women interested in seeking the face of God through the intentionality of studying the Scriptures. Our desire is to create a space for women from all walks of life to come together to support\, encourage\, and sharpen each other as we pursue the type of personal holiness that advances the Kingdom of God. All are welcome regardless of your relationship with God or knowledge in the Bible. In this group\, you will find acceptance\, peace\, love\, and the growth that you are desiring.
URL:https://welcometocrossroads.org/event/women-in-the-word-18/
LOCATION:Crossroads Church Avon – 7209 E County Rd 100 S\, Avon\, IN 46123\, USA
END:VEVENT
BEGIN:VEVENT
DTSTART;TZID=America/Indiana/Indianapolis:20231228T180000
DTEND;TZID=America/Indiana/Indianapolis:20231228T203000
DTSTAMP:20260423T044141
CREATED:20220807T012919Z
LAST-MODIFIED:20230905T030618Z
UID:14386-1703786400-1703795400@welcometocrossroads.org
SUMMARY:Crossroads RPG Club: Time
DESCRIPTION:
URL:https://welcometocrossroads.org/event/crossroads-rpg-club-time-73/
LOCATION:114 – 7209 E CR 100 S
END:VEVENT
BEGIN:VEVENT
DTSTART;TZID=America/Indiana/Indianapolis:20231228T180000
DTEND;TZID=America/Indiana/Indianapolis:20231228T203000
DTSTAMP:20260423T044141
CREATED:20221102T193427Z
LAST-MODIFIED:20221102T193427Z
UID:16428-1703786400-1703795400@welcometocrossroads.org
SUMMARY:Crossroads RPG Club: Time
DESCRIPTION:
URL:https://welcometocrossroads.org/event/crossroads-rpg-club-time-180/
LOCATION:114 – 7209 E CR 100 S
END:VEVENT
BEGIN:VEVENT
DTSTART;TZID=America/Indiana/Indianapolis:20231228T183000
DTEND;TZID=America/Indiana/Indianapolis:20231228T203000
DTSTAMP:20260423T044141
CREATED:20220807T012920Z
LAST-MODIFIED:20230820T215845Z
UID:14387-1703788200-1703795400@welcometocrossroads.org
SUMMARY:Collins - LG
DESCRIPTION:
URL:https://welcometocrossroads.org/event/collins-lg-72/
END:VEVENT
BEGIN:VEVENT
DTSTART;TZID=America/Indiana/Indianapolis:20231228T183000
DTEND;TZID=America/Indiana/Indianapolis:20231228T203000
DTSTAMP:20260423T044141
CREATED:20221102T193410Z
LAST-MODIFIED:20221102T193410Z
UID:16426-1703788200-1703795400@welcometocrossroads.org
SUMMARY:Collins - LG
DESCRIPTION:
URL:https://welcometocrossroads.org/event/collins-lg-122/
END:VEVENT
BEGIN:VEVENT
DTSTART;TZID=America/Indiana/Indianapolis:20231228T190000
DTEND;TZID=America/Indiana/Indianapolis:20231228T203000
DTSTAMP:20260423T044141
CREATED:20220807T012920Z
LAST-MODIFIED:20231228T181513Z
UID:14389-1703790000-1703795400@welcometocrossroads.org
SUMMARY:Worship Practice
DESCRIPTION:Weekly Worship Team Practice to Prepare for the weekend
URL:https://welcometocrossroads.org/event/worship-practice-72/
END:VEVENT
BEGIN:VEVENT
DTSTART;TZID=America/Indiana/Indianapolis:20231228T190000
DTEND;TZID=America/Indiana/Indianapolis:20231228T203000
DTSTAMP:20260423T044141
CREATED:20221102T193427Z
LAST-MODIFIED:20221102T193427Z
UID:16429-1703790000-1703795400@welcometocrossroads.org
SUMMARY:Worship Practice
DESCRIPTION:Weekly Worship Team Practice to Prepare for the weekend
URL:https://welcometocrossroads.org/event/worship-practice-177/
END:VEVENT
END:VCALENDAR