BEGIN:VCALENDAR
VERSION:2.0
PRODID:-//Crossroads Church - ECPv6.15.17.1//NONSGML v1.0//EN
CALSCALE:GREGORIAN
METHOD:PUBLISH
X-ORIGINAL-URL:https://welcometocrossroads.org
X-WR-CALDESC:Events for Crossroads Church
REFRESH-INTERVAL;VALUE=DURATION:PT1H
X-Robots-Tag:noindex
X-PUBLISHED-TTL:PT1H
BEGIN:VTIMEZONE
TZID:America/Indiana/Indianapolis
BEGIN:DAYLIGHT
TZOFFSETFROM:-0500
TZOFFSETTO:-0400
TZNAME:EDT
DTSTART:20230312T070000
END:DAYLIGHT
BEGIN:STANDARD
TZOFFSETFROM:-0400
TZOFFSETTO:-0500
TZNAME:EST
DTSTART:20231105T060000
END:STANDARD
BEGIN:DAYLIGHT
TZOFFSETFROM:-0500
TZOFFSETTO:-0400
TZNAME:EDT
DTSTART:20240310T070000
END:DAYLIGHT
BEGIN:STANDARD
TZOFFSETFROM:-0400
TZOFFSETTO:-0500
TZNAME:EST
DTSTART:20241103T060000
END:STANDARD
BEGIN:DAYLIGHT
TZOFFSETFROM:-0500
TZOFFSETTO:-0400
TZNAME:EDT
DTSTART:20250309T070000
END:DAYLIGHT
BEGIN:STANDARD
TZOFFSETFROM:-0400
TZOFFSETTO:-0500
TZNAME:EST
DTSTART:20251102T060000
END:STANDARD
END:VTIMEZONE
BEGIN:VEVENT
DTSTART;TZID=America/Indiana/Indianapolis:20240528T090000
DTEND;TZID=America/Indiana/Indianapolis:20240528T130000
DTSTAMP:20260424T021324
CREATED:20230713T194449Z
LAST-MODIFIED:20240227T085049Z
UID:23668-1716886800-1716901200@welcometocrossroads.org
SUMMARY:S-Meeting
DESCRIPTION:
URL:https://welcometocrossroads.org/event/s-meeting-385/
END:VEVENT
BEGIN:VEVENT
DTSTART;TZID=America/Indiana/Indianapolis:20240528T090000
DTEND;TZID=America/Indiana/Indianapolis:20240528T130000
DTSTAMP:20260424T021324
CREATED:20240228T091655Z
LAST-MODIFIED:20240404T113234Z
UID:28144-1716886800-1716901200@welcometocrossroads.org
SUMMARY:S-Meeting
DESCRIPTION:
URL:https://welcometocrossroads.org/event/s-meeting-489/
END:VEVENT
BEGIN:VEVENT
DTSTART;TZID=America/Indiana/Indianapolis:20240528T090000
DTEND;TZID=America/Indiana/Indianapolis:20240528T130000
DTSTAMP:20260424T021324
CREATED:20240405T120635Z
LAST-MODIFIED:20240422T050251Z
UID:29221-1716886800-1716901200@welcometocrossroads.org
SUMMARY:S-Meeting
DESCRIPTION:
URL:https://welcometocrossroads.org/event/s-meeting-586/
END:VEVENT
BEGIN:VEVENT
DTSTART;TZID=America/Indiana/Indianapolis:20240528T090000
DTEND;TZID=America/Indiana/Indianapolis:20240528T130000
DTSTAMP:20260424T021324
CREATED:20240411T182046Z
LAST-MODIFIED:20240528T162916Z
UID:29349-1716886800-1716901200@welcometocrossroads.org
SUMMARY:S-Meeting
DESCRIPTION:
URL:https://welcometocrossroads.org/event/s-meeting-594/
END:VEVENT
BEGIN:VEVENT
DTSTART;TZID=America/Indiana/Indianapolis:20240528T093000
DTEND;TZID=America/Indiana/Indianapolis:20240528T123000
DTSTAMP:20260424T021324
CREATED:20230811T044427Z
LAST-MODIFIED:20231030T191008Z
UID:24399-1716888600-1716899400@welcometocrossroads.org
SUMMARY:Ladies Bible Study
DESCRIPTION:
URL:https://welcometocrossroads.org/event/ladies-bible-study-40/
END:VEVENT
BEGIN:VEVENT
DTSTART;TZID=America/Indiana/Indianapolis:20240528T100000
DTEND;TZID=America/Indiana/Indianapolis:20240528T113000
DTSTAMP:20260424T021324
CREATED:20220807T013227Z
LAST-MODIFIED:20220807T013227Z
UID:14721-1716890400-1716895800@welcometocrossroads.org
SUMMARY:Beth Moore Women's Bible Study: Women's Bible Study
DESCRIPTION:
URL:https://welcometocrossroads.org/event/beth-moore-womens-bible-study-womens-bible-study-95/
END:VEVENT
BEGIN:VEVENT
DTSTART;TZID=America/Indiana/Indianapolis:20240528T100000
DTEND;TZID=America/Indiana/Indianapolis:20240528T120000
DTSTAMP:20260424T021324
CREATED:20220807T013227Z
LAST-MODIFIED:20230712T192933Z
UID:14722-1716890400-1716897600@welcometocrossroads.org
SUMMARY:S-Meeting
DESCRIPTION:
URL:https://welcometocrossroads.org/event/s-meeting-178/
END:VEVENT
BEGIN:VEVENT
DTSTART;TZID=America/Indiana/Indianapolis:20240528T100000
DTEND;TZID=America/Indiana/Indianapolis:20240528T120000
DTSTAMP:20260424T021324
CREATED:20221102T193619Z
LAST-MODIFIED:20221102T193619Z
UID:16793-1716890400-1716897600@welcometocrossroads.org
SUMMARY:S-Meeting
DESCRIPTION:
URL:https://welcometocrossroads.org/event/s-meeting-286/
END:VEVENT
BEGIN:VEVENT
DTSTART;TZID=America/Indiana/Indianapolis:20240528T100000
DTEND;TZID=America/Indiana/Indianapolis:20240528T123000
DTSTAMP:20260424T021324
CREATED:20221102T193619Z
LAST-MODIFIED:20230810T041317Z
UID:16794-1716890400-1716899400@welcometocrossroads.org
SUMMARY:Women's Bible Study
DESCRIPTION:
URL:https://welcometocrossroads.org/event/beth-moore-womens-bible-study-womens-bible-study-193/
END:VEVENT
BEGIN:VEVENT
DTSTART;TZID=America/Indiana/Indianapolis:20240528T100000
DTEND;TZID=America/Indiana/Indianapolis:20240528T123000
DTSTAMP:20260424T021324
CREATED:20231031T191454Z
LAST-MODIFIED:20240422T050239Z
UID:26564-1716890400-1716899400@welcometocrossroads.org
SUMMARY:Ladies Bible Study
DESCRIPTION:
URL:https://welcometocrossroads.org/event/ladies-bible-study-144/
END:VEVENT
BEGIN:VEVENT
DTSTART;TZID=America/Indiana/Indianapolis:20240528T100000
DTEND;TZID=America/Indiana/Indianapolis:20240528T123000
DTSTAMP:20260424T021324
CREATED:20240423T073358Z
LAST-MODIFIED:20240528T162917Z
UID:29648-1716890400-1716899400@welcometocrossroads.org
SUMMARY:Ladies Bible Study
DESCRIPTION:
URL:https://welcometocrossroads.org/event/ladies-bible-study-249/
END:VEVENT
END:VCALENDAR