BEGIN:VCALENDAR
VERSION:2.0
PRODID:-//Crossroads Church - ECPv6.15.17.1//NONSGML v1.0//EN
CALSCALE:GREGORIAN
METHOD:PUBLISH
X-WR-CALNAME:Crossroads Church
X-ORIGINAL-URL:https://welcometocrossroads.org
X-WR-CALDESC:Events for Crossroads Church
REFRESH-INTERVAL;VALUE=DURATION:PT1H
X-Robots-Tag:noindex
X-PUBLISHED-TTL:PT1H
BEGIN:VTIMEZONE
TZID:America/Indiana/Indianapolis
BEGIN:DAYLIGHT
TZOFFSETFROM:-0500
TZOFFSETTO:-0400
TZNAME:EDT
DTSTART:20230312T070000
END:DAYLIGHT
BEGIN:STANDARD
TZOFFSETFROM:-0400
TZOFFSETTO:-0500
TZNAME:EST
DTSTART:20231105T060000
END:STANDARD
BEGIN:DAYLIGHT
TZOFFSETFROM:-0500
TZOFFSETTO:-0400
TZNAME:EDT
DTSTART:20240310T070000
END:DAYLIGHT
BEGIN:STANDARD
TZOFFSETFROM:-0400
TZOFFSETTO:-0500
TZNAME:EST
DTSTART:20241103T060000
END:STANDARD
BEGIN:DAYLIGHT
TZOFFSETFROM:-0500
TZOFFSETTO:-0400
TZNAME:EDT
DTSTART:20250309T070000
END:DAYLIGHT
BEGIN:STANDARD
TZOFFSETFROM:-0400
TZOFFSETTO:-0500
TZNAME:EST
DTSTART:20251102T060000
END:STANDARD
END:VTIMEZONE
BEGIN:VEVENT
DTSTART;TZID=America/Indiana/Indianapolis:20240602T103000
DTEND;TZID=America/Indiana/Indianapolis:20240602T123000
DTSTAMP:20260422T052310
CREATED:20220807T013230Z
LAST-MODIFIED:20240601T202923Z
UID:14727-1717324200-1717331400@welcometocrossroads.org
SUMMARY:Joyfully His LG
DESCRIPTION:
URL:https://welcometocrossroads.org/event/joyfully-his-lg-45/
END:VEVENT
BEGIN:VEVENT
DTSTART;TZID=America/Indiana/Indianapolis:20240602T103000
DTEND;TZID=America/Indiana/Indianapolis:20240602T123000
DTSTAMP:20260422T052310
CREATED:20221102T193620Z
LAST-MODIFIED:20221102T193620Z
UID:16800-1717324200-1717331400@welcometocrossroads.org
SUMMARY:Joyfully His LG
DESCRIPTION:
URL:https://welcometocrossroads.org/event/joyfully-his-lg-96/
END:VEVENT
BEGIN:VEVENT
DTSTART;TZID=America/Indiana/Indianapolis:20240602T110000
DTEND;TZID=America/Indiana/Indianapolis:20240602T113000
DTSTAMP:20260422T052310
CREATED:20220807T013230Z
LAST-MODIFIED:20240327T051844Z
UID:14728-1717326000-1717327800@welcometocrossroads.org
SUMMARY:Growth Track
DESCRIPTION:
URL:https://welcometocrossroads.org/event/growth-track-164/
LOCATION:Room 117
END:VEVENT
BEGIN:VEVENT
DTSTART;TZID=America/Indiana/Indianapolis:20240602T110000
DTEND;TZID=America/Indiana/Indianapolis:20240602T113000
DTSTAMP:20260422T052310
CREATED:20221102T193620Z
LAST-MODIFIED:20221102T193620Z
UID:16799-1717326000-1717327800@welcometocrossroads.org
SUMMARY:Growth Track
DESCRIPTION:
URL:https://welcometocrossroads.org/event/growth-track-264/
LOCATION:Room 117
END:VEVENT
BEGIN:VEVENT
DTSTART;TZID=America/Indiana/Indianapolis:20240602T110000
DTEND;TZID=America/Indiana/Indianapolis:20240602T113000
DTSTAMP:20260422T052310
CREATED:20240328T054551Z
LAST-MODIFIED:20240601T202922Z
UID:29090-1717326000-1717327800@welcometocrossroads.org
SUMMARY:Growth Track
DESCRIPTION:
URL:https://welcometocrossroads.org/event/growth-track-353/
LOCATION:Room 117 – Crossroads Church
END:VEVENT
BEGIN:VEVENT
DTSTART;TZID=America/Indiana/Indianapolis:20240602T133000
DTEND;TZID=America/Indiana/Indianapolis:20240602T160000
DTSTAMP:20260422T052310
CREATED:20240424T080543Z
LAST-MODIFIED:20240601T202923Z
UID:29662-1717335000-1717344000@welcometocrossroads.org
SUMMARY:Christ's Ambassadors
DESCRIPTION:
URL:https://welcometocrossroads.org/event/christs-ambassadors-5/
END:VEVENT
BEGIN:VEVENT
DTSTART;TZID=America/Indiana/Indianapolis:20240602T140000
DTEND;TZID=America/Indiana/Indianapolis:20240602T160000
DTSTAMP:20260422T052310
CREATED:20240321T010027Z
LAST-MODIFIED:20240422T050256Z
UID:28819-1717336800-1717344000@welcometocrossroads.org
SUMMARY:CAC - private
DESCRIPTION:
URL:https://welcometocrossroads.org/event/cac-private-11/
END:VEVENT
BEGIN:VEVENT
DTSTART;TZID=America/Indiana/Indianapolis:20240602T170000
DTEND;TZID=America/Indiana/Indianapolis:20240602T183000
DTSTAMP:20260422T052310
CREATED:20220807T013230Z
LAST-MODIFIED:20240422T050257Z
UID:14729-1717347600-1717353000@welcometocrossroads.org
SUMMARY:Girl’s Ministry Awards Ceremony @ 5:00pm: Girl’s Ministry Life Group
DESCRIPTION:
URL:https://welcometocrossroads.org/event/girls-ministry-girls-ministry-life-group-96/
LOCATION:Rooms: 102\, 114\, 115\, 116\, 117 – 7209 E County Rd 100 S\, Avon\, IN 46123\, USA
END:VEVENT
BEGIN:VEVENT
DTSTART;TZID=America/Indiana/Indianapolis:20240602T170000
DTEND;TZID=America/Indiana/Indianapolis:20240602T183000
DTSTAMP:20260422T052310
CREATED:20221102T193621Z
LAST-MODIFIED:20221102T193621Z
UID:16802-1717347600-1717353000@welcometocrossroads.org
SUMMARY:Girl’s Ministry: Girl’s Ministry Life Group
DESCRIPTION:
URL:https://welcometocrossroads.org/event/girls-ministry-girls-ministry-life-group-204/
LOCATION:Rooms: 102\, 114\, 115\, 116\, 117 – 7209 E County Rd 100 S\, Avon\, IN 46123\, USA
END:VEVENT
BEGIN:VEVENT
DTSTART;TZID=America/Indiana/Indianapolis:20240602T173000
DTEND;TZID=America/Indiana/Indianapolis:20240602T180000
DTSTAMP:20260422T052310
CREATED:20220807T013230Z
LAST-MODIFIED:20240602T214423Z
UID:14730-1717349400-1717351200@welcometocrossroads.org
SUMMARY:CSM - Leader Huddle
DESCRIPTION:
URL:https://welcometocrossroads.org/event/csm-leader-huddle-176/
LOCATION:102
END:VEVENT
BEGIN:VEVENT
DTSTART;TZID=America/Indiana/Indianapolis:20240602T173000
DTEND;TZID=America/Indiana/Indianapolis:20240602T180000
DTSTAMP:20260422T052310
CREATED:20221102T193620Z
LAST-MODIFIED:20221102T193620Z
UID:16801-1717349400-1717351200@welcometocrossroads.org
SUMMARY:CSM - Leader Huddle
DESCRIPTION:
URL:https://welcometocrossroads.org/event/csm-leader-huddle-284/
LOCATION:102
END:VEVENT
BEGIN:VEVENT
DTSTART;TZID=America/Indiana/Indianapolis:20240602T180000
DTEND;TZID=America/Indiana/Indianapolis:20240602T203000
DTSTAMP:20260422T052310
CREATED:20230811T044429Z
LAST-MODIFIED:20240602T214429Z
UID:24400-1717351200-1717360200@welcometocrossroads.org
SUMMARY:CSM - Crossroads Students Ministries
DESCRIPTION:
URL:https://welcometocrossroads.org/event/csm-crossroads-students-ministries-42/
LOCATION:CSM – 7209 E County Rd 100 S\, Avon\, IN 46123\, USA
END:VEVENT
BEGIN:VEVENT
DTSTART;TZID=America/Indiana/Indianapolis:20240602T190000
DTEND;TZID=America/Indiana/Indianapolis:20240602T200000
DTSTAMP:20260422T052310
CREATED:20221102T193621Z
LAST-MODIFIED:20230610T021510Z
UID:16803-1717354800-1717358400@welcometocrossroads.org
SUMMARY:Mull Bible Study
DESCRIPTION:
URL:https://welcometocrossroads.org/event/mull-bible-study-99/
END:VEVENT
BEGIN:VEVENT
DTSTART;TZID=America/Indiana/Indianapolis:20240602T190000
DTEND;TZID=America/Indiana/Indianapolis:20240602T200000
DTSTAMP:20260422T052310
CREATED:20230611T023015Z
LAST-MODIFIED:20231004T110210Z
UID:22784-1717354800-1717358400@welcometocrossroads.org
SUMMARY:Mull Bible Study
DESCRIPTION:
URL:https://welcometocrossroads.org/event/mull-bible-study-204/
END:VEVENT
END:VCALENDAR