BEGIN:VCALENDAR
VERSION:2.0
PRODID:-//Crossroads Church - ECPv6.15.17.1//NONSGML v1.0//EN
CALSCALE:GREGORIAN
METHOD:PUBLISH
X-WR-CALNAME:Crossroads Church
X-ORIGINAL-URL:https://welcometocrossroads.org
X-WR-CALDESC:Events for Crossroads Church
REFRESH-INTERVAL;VALUE=DURATION:PT1H
X-Robots-Tag:noindex
X-PUBLISHED-TTL:PT1H
BEGIN:VTIMEZONE
TZID:America/Indiana/Indianapolis
BEGIN:DAYLIGHT
TZOFFSETFROM:-0500
TZOFFSETTO:-0400
TZNAME:EDT
DTSTART:20230312T070000
END:DAYLIGHT
BEGIN:STANDARD
TZOFFSETFROM:-0400
TZOFFSETTO:-0500
TZNAME:EST
DTSTART:20231105T060000
END:STANDARD
BEGIN:DAYLIGHT
TZOFFSETFROM:-0500
TZOFFSETTO:-0400
TZNAME:EDT
DTSTART:20240310T070000
END:DAYLIGHT
BEGIN:STANDARD
TZOFFSETFROM:-0400
TZOFFSETTO:-0500
TZNAME:EST
DTSTART:20241103T060000
END:STANDARD
BEGIN:DAYLIGHT
TZOFFSETFROM:-0500
TZOFFSETTO:-0400
TZNAME:EDT
DTSTART:20250309T070000
END:DAYLIGHT
BEGIN:STANDARD
TZOFFSETFROM:-0400
TZOFFSETTO:-0500
TZNAME:EST
DTSTART:20251102T060000
END:STANDARD
END:VTIMEZONE
BEGIN:VEVENT
DTSTART;VALUE=DATE:20240603
DTEND;VALUE=DATE:20240608
DTSTAMP:20260423T032130
CREATED:20240301T101752Z
LAST-MODIFIED:20240607T014414Z
UID:28416-1717372800-1717804799@welcometocrossroads.org
SUMMARY:CSM: Teen Camp at Lake Placid
DESCRIPTION:Summer Camp at Lake Placid Christian Conference Center JUNE 3-7. Click the link to find out details and to register! Be sure to register before MAY 9th to guarantee your spot for $200. After May 9th\, the cost jumps to $300.
URL:https://welcometocrossroads.org/event/csm-youth-camp/
END:VEVENT
BEGIN:VEVENT
DTSTART;TZID=America/Indiana/Indianapolis:20240604T090000
DTEND;TZID=America/Indiana/Indianapolis:20240604T130000
DTSTAMP:20260423T032130
CREATED:20230713T194452Z
LAST-MODIFIED:20240227T085108Z
UID:23669-1717491600-1717506000@welcometocrossroads.org
SUMMARY:S-Meeting
DESCRIPTION:
URL:https://welcometocrossroads.org/event/s-meeting-386/
END:VEVENT
BEGIN:VEVENT
DTSTART;TZID=America/Indiana/Indianapolis:20240604T090000
DTEND;TZID=America/Indiana/Indianapolis:20240604T130000
DTSTAMP:20260423T032130
CREATED:20240228T091715Z
LAST-MODIFIED:20240410T171819Z
UID:28147-1717491600-1717506000@welcometocrossroads.org
SUMMARY:S-Meeting
DESCRIPTION:
URL:https://welcometocrossroads.org/event/s-meeting-490/
END:VEVENT
BEGIN:VEVENT
DTSTART;TZID=America/Indiana/Indianapolis:20240604T090000
DTEND;TZID=America/Indiana/Indianapolis:20240604T130000
DTSTAMP:20260423T032130
CREATED:20240411T182105Z
LAST-MODIFIED:20240603T222924Z
UID:29350-1717491600-1717506000@welcometocrossroads.org
SUMMARY:S-Meeting
DESCRIPTION:
URL:https://welcometocrossroads.org/event/s-meeting-595/
END:VEVENT
BEGIN:VEVENT
DTSTART;TZID=America/Indiana/Indianapolis:20240604T093000
DTEND;TZID=America/Indiana/Indianapolis:20240604T123000
DTSTAMP:20260423T032130
CREATED:20230811T044429Z
LAST-MODIFIED:20231030T191032Z
UID:24401-1717493400-1717504200@welcometocrossroads.org
SUMMARY:Ladies Bible Study
DESCRIPTION:
URL:https://welcometocrossroads.org/event/ladies-bible-study-41/
END:VEVENT
BEGIN:VEVENT
DTSTART;TZID=America/Indiana/Indianapolis:20240604T100000
DTEND;TZID=America/Indiana/Indianapolis:20240604T113000
DTSTAMP:20260423T032130
CREATED:20220807T013233Z
LAST-MODIFIED:20220807T013233Z
UID:14734-1717495200-1717500600@welcometocrossroads.org
SUMMARY:Beth Moore Women's Bible Study: Women's Bible Study
DESCRIPTION:
URL:https://welcometocrossroads.org/event/beth-moore-womens-bible-study-womens-bible-study-96/
END:VEVENT
BEGIN:VEVENT
DTSTART;TZID=America/Indiana/Indianapolis:20240604T100000
DTEND;TZID=America/Indiana/Indianapolis:20240604T120000
DTSTAMP:20260423T032130
CREATED:20220807T013233Z
LAST-MODIFIED:20230712T192935Z
UID:14733-1717495200-1717502400@welcometocrossroads.org
SUMMARY:S-Meeting
DESCRIPTION:
URL:https://welcometocrossroads.org/event/s-meeting-179/
END:VEVENT
BEGIN:VEVENT
DTSTART;TZID=America/Indiana/Indianapolis:20240604T100000
DTEND;TZID=America/Indiana/Indianapolis:20240604T120000
DTSTAMP:20260423T032130
CREATED:20221102T193621Z
LAST-MODIFIED:20221102T193621Z
UID:16807-1717495200-1717502400@welcometocrossroads.org
SUMMARY:S-Meeting
DESCRIPTION:
URL:https://welcometocrossroads.org/event/s-meeting-287/
END:VEVENT
BEGIN:VEVENT
DTSTART;TZID=America/Indiana/Indianapolis:20240604T100000
DTEND;TZID=America/Indiana/Indianapolis:20240604T123000
DTSTAMP:20260423T032130
CREATED:20221102T193622Z
LAST-MODIFIED:20230810T041331Z
UID:16808-1717495200-1717504200@welcometocrossroads.org
SUMMARY:Women's Bible Study
DESCRIPTION:
URL:https://welcometocrossroads.org/event/beth-moore-womens-bible-study-womens-bible-study-194/
END:VEVENT
BEGIN:VEVENT
DTSTART;TZID=America/Indiana/Indianapolis:20240604T100000
DTEND;TZID=America/Indiana/Indianapolis:20240604T123000
DTSTAMP:20260423T032130
CREATED:20231031T191456Z
LAST-MODIFIED:20240422T050315Z
UID:26566-1717495200-1717504200@welcometocrossroads.org
SUMMARY:Ladies Bible Study
DESCRIPTION:
URL:https://welcometocrossroads.org/event/ladies-bible-study-145/
END:VEVENT
BEGIN:VEVENT
DTSTART;TZID=America/Indiana/Indianapolis:20240604T100000
DTEND;TZID=America/Indiana/Indianapolis:20240604T123000
DTSTAMP:20260423T032130
CREATED:20240424T080557Z
LAST-MODIFIED:20240603T222921Z
UID:29663-1717495200-1717504200@welcometocrossroads.org
SUMMARY:Ladies Bible Study
DESCRIPTION:
URL:https://welcometocrossroads.org/event/ladies-bible-study-250/
END:VEVENT
BEGIN:VEVENT
DTSTART;TZID=America/Indiana/Indianapolis:20240604T183000
DTEND;TZID=America/Indiana/Indianapolis:20240604T200000
DTSTAMP:20260423T032130
CREATED:20220807T013233Z
LAST-MODIFIED:20240604T234415Z
UID:14735-1717525800-1717531200@welcometocrossroads.org
SUMMARY:Cranor Life Group
DESCRIPTION:
URL:https://welcometocrossroads.org/event/cranor-life-group-44/
END:VEVENT
BEGIN:VEVENT
DTSTART;TZID=America/Indiana/Indianapolis:20240604T183000
DTEND;TZID=America/Indiana/Indianapolis:20240604T200000
DTSTAMP:20260423T032130
CREATED:20221102T193622Z
LAST-MODIFIED:20221102T193622Z
UID:16809-1717525800-1717531200@welcometocrossroads.org
SUMMARY:Cranor Life Group
DESCRIPTION:
URL:https://welcometocrossroads.org/event/cranor-life-group-92/
END:VEVENT
BEGIN:VEVENT
DTSTART;TZID=America/Indiana/Indianapolis:20240604T190000
DTEND;TZID=America/Indiana/Indianapolis:20240604T210000
DTSTAMP:20260423T032130
CREATED:20230831T011526Z
LAST-MODIFIED:20240604T234417Z
UID:25870-1717527600-1717534800@welcometocrossroads.org
SUMMARY:Snack and Chat
DESCRIPTION:We are a women’s book club that meets the 1st and 3rd Tuesdays of the Month. We will choose a book and discuss it when we meet. Come enjoy a yummy snack and great conversation!
URL:https://welcometocrossroads.org/event/snack-and-chat-18/
LOCATION:Crossroads Church  – 7209 E County Rd 100 S\, Avon\, IN 46123\, USA
END:VEVENT
END:VCALENDAR