BEGIN:VCALENDAR
VERSION:2.0
PRODID:-//Crossroads Church - ECPv6.15.17.1//NONSGML v1.0//EN
CALSCALE:GREGORIAN
METHOD:PUBLISH
X-WR-CALNAME:Crossroads Church
X-ORIGINAL-URL:https://welcometocrossroads.org
X-WR-CALDESC:Events for Crossroads Church
REFRESH-INTERVAL;VALUE=DURATION:PT1H
X-Robots-Tag:noindex
X-PUBLISHED-TTL:PT1H
BEGIN:VTIMEZONE
TZID:America/Indiana/Indianapolis
BEGIN:DAYLIGHT
TZOFFSETFROM:-0500
TZOFFSETTO:-0400
TZNAME:EDT
DTSTART:20230312T070000
END:DAYLIGHT
BEGIN:STANDARD
TZOFFSETFROM:-0400
TZOFFSETTO:-0500
TZNAME:EST
DTSTART:20231105T060000
END:STANDARD
BEGIN:DAYLIGHT
TZOFFSETFROM:-0500
TZOFFSETTO:-0400
TZNAME:EDT
DTSTART:20240310T070000
END:DAYLIGHT
BEGIN:STANDARD
TZOFFSETFROM:-0400
TZOFFSETTO:-0500
TZNAME:EST
DTSTART:20241103T060000
END:STANDARD
BEGIN:DAYLIGHT
TZOFFSETFROM:-0500
TZOFFSETTO:-0400
TZNAME:EDT
DTSTART:20250309T070000
END:DAYLIGHT
BEGIN:STANDARD
TZOFFSETFROM:-0400
TZOFFSETTO:-0500
TZNAME:EST
DTSTART:20251102T060000
END:STANDARD
END:VTIMEZONE
BEGIN:VEVENT
DTSTART;VALUE=DATE:20240614
DTEND;VALUE=DATE:20240615
DTSTAMP:20260424T005939
CREATED:20220807T013257Z
LAST-MODIFIED:20240613T165413Z
UID:14756-1718323200-1718409599@welcometocrossroads.org
SUMMARY:Care to Change Counseling Sessions
DESCRIPTION:
URL:https://welcometocrossroads.org/event/care-to-change-counseling-sessions-97/
END:VEVENT
BEGIN:VEVENT
DTSTART;VALUE=DATE:20240614
DTEND;VALUE=DATE:20240615
DTSTAMP:20260424T005939
CREATED:20221102T193629Z
LAST-MODIFIED:20221102T193629Z
UID:16834-1718323200-1718409599@welcometocrossroads.org
SUMMARY:Care to Change Counseling Sessions
DESCRIPTION:
URL:https://welcometocrossroads.org/event/care-to-change-counseling-sessions-205/
END:VEVENT
BEGIN:VEVENT
DTSTART;TZID=America/Indiana/Indianapolis:20240614T183000
DTEND;TZID=America/Indiana/Indianapolis:20240614T203000
DTSTAMP:20260424T005939
CREATED:20220807T013258Z
LAST-MODIFIED:20240614T172922Z
UID:14760-1718389800-1718397000@welcometocrossroads.org
SUMMARY:Price LG
DESCRIPTION:
URL:https://welcometocrossroads.org/event/price-lg-83/
END:VEVENT
BEGIN:VEVENT
DTSTART;TZID=America/Indiana/Indianapolis:20240614T183000
DTEND;TZID=America/Indiana/Indianapolis:20240614T203000
DTSTAMP:20260424T005939
CREATED:20221102T193629Z
LAST-MODIFIED:20221102T193629Z
UID:16835-1718389800-1718397000@welcometocrossroads.org
SUMMARY:Price LG
DESCRIPTION:
URL:https://welcometocrossroads.org/event/price-lg-133/
END:VEVENT
END:VCALENDAR