BEGIN:VCALENDAR
VERSION:2.0
PRODID:-//Crossroads Church - ECPv6.15.17.1//NONSGML v1.0//EN
CALSCALE:GREGORIAN
METHOD:PUBLISH
X-WR-CALNAME:Crossroads Church
X-ORIGINAL-URL:https://welcometocrossroads.org
X-WR-CALDESC:Events for Crossroads Church
REFRESH-INTERVAL;VALUE=DURATION:PT1H
X-Robots-Tag:noindex
X-PUBLISHED-TTL:PT1H
BEGIN:VTIMEZONE
TZID:America/Indiana/Indianapolis
BEGIN:DAYLIGHT
TZOFFSETFROM:-0500
TZOFFSETTO:-0400
TZNAME:EDT
DTSTART:20230312T070000
END:DAYLIGHT
BEGIN:STANDARD
TZOFFSETFROM:-0400
TZOFFSETTO:-0500
TZNAME:EST
DTSTART:20231105T060000
END:STANDARD
BEGIN:DAYLIGHT
TZOFFSETFROM:-0500
TZOFFSETTO:-0400
TZNAME:EDT
DTSTART:20240310T070000
END:DAYLIGHT
BEGIN:STANDARD
TZOFFSETFROM:-0400
TZOFFSETTO:-0500
TZNAME:EST
DTSTART:20241103T060000
END:STANDARD
BEGIN:DAYLIGHT
TZOFFSETFROM:-0500
TZOFFSETTO:-0400
TZNAME:EDT
DTSTART:20250309T070000
END:DAYLIGHT
BEGIN:STANDARD
TZOFFSETFROM:-0400
TZOFFSETTO:-0500
TZNAME:EST
DTSTART:20251102T060000
END:STANDARD
END:VTIMEZONE
BEGIN:VEVENT
DTSTART;TZID=America/Indiana/Indianapolis:20240617T170000
DTEND;TZID=America/Indiana/Indianapolis:20240617T173000
DTSTAMP:20260424T045239
CREATED:20240617T200024Z
LAST-MODIFIED:20240617T201419Z
UID:30765-1718643600-1718645400@welcometocrossroads.org
SUMMARY:Mascot Camp: Setup
DESCRIPTION:
URL:https://welcometocrossroads.org/event/mascot-camp-setup-5/
END:VEVENT
BEGIN:VEVENT
DTSTART;TZID=America/Indiana/Indianapolis:20240617T173000
DTEND;TZID=America/Indiana/Indianapolis:20240617T200000
DTSTAMP:20260424T045239
CREATED:20240416T233647Z
LAST-MODIFIED:20240616T192922Z
UID:29590-1718645400-1718654400@welcometocrossroads.org
SUMMARY:Mascot Camp
DESCRIPTION:
URL:https://welcometocrossroads.org/event/mascot-camp/
END:VEVENT
BEGIN:VEVENT
DTSTART;TZID=America/Indiana/Indianapolis:20240617T173000
DTEND;TZID=America/Indiana/Indianapolis:20240617T203000
DTSTAMP:20260424T045239
CREATED:20240617T200025Z
LAST-MODIFIED:20240617T201426Z
UID:30766-1718645400-1718656200@welcometocrossroads.org
SUMMARY:Mascot Camp
DESCRIPTION:
URL:https://welcometocrossroads.org/event/mascot-camp-8/
END:VEVENT
BEGIN:VEVENT
DTSTART;TZID=America/Indiana/Indianapolis:20240617T183000
DTEND;TZID=America/Indiana/Indianapolis:20240617T203000
DTSTAMP:20260424T045239
CREATED:20220807T013315Z
LAST-MODIFIED:20230521T170119Z
UID:14765-1718649000-1718656200@welcometocrossroads.org
SUMMARY:DivorceCare
DESCRIPTION:
URL:https://welcometocrossroads.org/event/divorcecare-98/
END:VEVENT
BEGIN:VEVENT
DTSTART;TZID=America/Indiana/Indianapolis:20240617T183000
DTEND;TZID=America/Indiana/Indianapolis:20240617T203000
DTSTAMP:20260424T045239
CREATED:20221102T193630Z
LAST-MODIFIED:20221102T193630Z
UID:16841-1718649000-1718656200@welcometocrossroads.org
SUMMARY:DivorceCare
DESCRIPTION:
URL:https://welcometocrossroads.org/event/divorcecare-206/
END:VEVENT
BEGIN:VEVENT
DTSTART;TZID=America/Indiana/Indianapolis:20240617T183000
DTEND;TZID=America/Indiana/Indianapolis:20240617T203000
DTSTAMP:20260424T045239
CREATED:20240227T084903Z
LAST-MODIFIED:20240617T201421Z
UID:28084-1718649000-1718656200@welcometocrossroads.org
SUMMARY:Divorce Care
DESCRIPTION:
URL:https://welcometocrossroads.org/event/divorce-care-216/
END:VEVENT
BEGIN:VEVENT
DTSTART;TZID=America/Indiana/Indianapolis:20240617T190000
DTEND;TZID=America/Indiana/Indianapolis:20240617T203000
DTSTAMP:20260424T045239
CREATED:20230515T151927Z
LAST-MODIFIED:20230610T021514Z
UID:19229-1718650800-1718656200@welcometocrossroads.org
SUMMARY:Hey Girl Life Group
DESCRIPTION:
URL:https://welcometocrossroads.org/event/hey-girl-life-group-113/
END:VEVENT
BEGIN:VEVENT
DTSTART;TZID=America/Indiana/Indianapolis:20240617T190000
DTEND;TZID=America/Indiana/Indianapolis:20240617T203000
DTSTAMP:20260424T045239
CREATED:20230611T023023Z
LAST-MODIFIED:20240617T201420Z
UID:22789-1718650800-1718656200@welcometocrossroads.org
SUMMARY:Hey Girl Life Group
DESCRIPTION:
URL:https://welcometocrossroads.org/event/hey-girl-life-group-215/
END:VEVENT
BEGIN:VEVENT
DTSTART;TZID=America/Indiana/Indianapolis:20240617T203000
DTEND;TZID=America/Indiana/Indianapolis:20240617T210000
DTSTAMP:20260424T045239
CREATED:20240617T200026Z
LAST-MODIFIED:20240617T201427Z
UID:30767-1718656200-1718658000@welcometocrossroads.org
SUMMARY:Mascot Camp: Teardown
DESCRIPTION:
URL:https://welcometocrossroads.org/event/mascot-camp-teardown-5/
END:VEVENT
END:VCALENDAR