BEGIN:VCALENDAR
VERSION:2.0
PRODID:-//Crossroads Church - ECPv6.15.17.1//NONSGML v1.0//EN
CALSCALE:GREGORIAN
METHOD:PUBLISH
X-ORIGINAL-URL:https://welcometocrossroads.org
X-WR-CALDESC:Events for Crossroads Church
REFRESH-INTERVAL;VALUE=DURATION:PT1H
X-Robots-Tag:noindex
X-PUBLISHED-TTL:PT1H
BEGIN:VTIMEZONE
TZID:America/Indiana/Indianapolis
BEGIN:DAYLIGHT
TZOFFSETFROM:-0500
TZOFFSETTO:-0400
TZNAME:EDT
DTSTART:20230312T070000
END:DAYLIGHT
BEGIN:STANDARD
TZOFFSETFROM:-0400
TZOFFSETTO:-0500
TZNAME:EST
DTSTART:20231105T060000
END:STANDARD
BEGIN:DAYLIGHT
TZOFFSETFROM:-0500
TZOFFSETTO:-0400
TZNAME:EDT
DTSTART:20240310T070000
END:DAYLIGHT
BEGIN:STANDARD
TZOFFSETFROM:-0400
TZOFFSETTO:-0500
TZNAME:EST
DTSTART:20241103T060000
END:STANDARD
BEGIN:DAYLIGHT
TZOFFSETFROM:-0500
TZOFFSETTO:-0400
TZNAME:EDT
DTSTART:20250309T070000
END:DAYLIGHT
BEGIN:STANDARD
TZOFFSETFROM:-0400
TZOFFSETTO:-0500
TZNAME:EST
DTSTART:20251102T060000
END:STANDARD
END:VTIMEZONE
BEGIN:VEVENT
DTSTART;VALUE=DATE:20240620
DTEND;VALUE=DATE:20240701
DTSTAMP:20260424T014219
CREATED:20231027T181433Z
LAST-MODIFIED:20240402T094609Z
UID:26491-1718841600-1719791999@welcometocrossroads.org
SUMMARY:NO PRIVATE EVENT BOOKINGS
DESCRIPTION:
URL:https://welcometocrossroads.org/event/no-private-event-bookings-2/
END:VEVENT
BEGIN:VEVENT
DTSTART;TZID=America/Indiana/Indianapolis:20240623T110000
DTEND;TZID=America/Indiana/Indianapolis:20240623T113000
DTSTAMP:20260424T014219
CREATED:20220807T013316Z
LAST-MODIFIED:20240619T214418Z
UID:14775-1719140400-1719142200@welcometocrossroads.org
SUMMARY:Growth Track
DESCRIPTION:
URL:https://welcometocrossroads.org/event/growth-track-167/
LOCATION:Room 117
END:VEVENT
BEGIN:VEVENT
DTSTART;TZID=America/Indiana/Indianapolis:20240623T110000
DTEND;TZID=America/Indiana/Indianapolis:20240623T113000
DTSTAMP:20260424T014219
CREATED:20221102T193631Z
LAST-MODIFIED:20221102T193631Z
UID:16851-1719140400-1719142200@welcometocrossroads.org
SUMMARY:Growth Track
DESCRIPTION:
URL:https://welcometocrossroads.org/event/growth-track-267/
LOCATION:Room 117
END:VEVENT
BEGIN:VEVENT
DTSTART;TZID=America/Indiana/Indianapolis:20240623T110000
DTEND;TZID=America/Indiana/Indianapolis:20240623T130000
DTSTAMP:20260424T014219
CREATED:20240603T221725Z
LAST-MODIFIED:20240619T214418Z
UID:30523-1719140400-1719147600@welcometocrossroads.org
SUMMARY:Food Truck
DESCRIPTION:
URL:https://welcometocrossroads.org/event/food-truck-3/
END:VEVENT
BEGIN:VEVENT
DTSTART;TZID=America/Indiana/Indianapolis:20240623T133000
DTEND;TZID=America/Indiana/Indianapolis:20240623T160000
DTSTAMP:20260424T014219
CREATED:20240424T080839Z
LAST-MODIFIED:20240619T214419Z
UID:29668-1719149400-1719158400@welcometocrossroads.org
SUMMARY:Christ's Ambassadors
DESCRIPTION:
URL:https://welcometocrossroads.org/event/christs-ambassadors-8/
END:VEVENT
BEGIN:VEVENT
DTSTART;TZID=America/Indiana/Indianapolis:20240623T140000
DTEND;TZID=America/Indiana/Indianapolis:20240623T160000
DTSTAMP:20260424T014219
CREATED:20240321T010117Z
LAST-MODIFIED:20240422T050151Z
UID:28823-1719151200-1719158400@welcometocrossroads.org
SUMMARY:CAC - private
DESCRIPTION:
URL:https://welcometocrossroads.org/event/cac-private-14/
END:VEVENT
BEGIN:VEVENT
DTSTART;TZID=America/Indiana/Indianapolis:20240623T170000
DTEND;TZID=America/Indiana/Indianapolis:20240623T183000
DTSTAMP:20260424T014219
CREATED:20220807T013317Z
LAST-MODIFIED:20240422T050153Z
UID:14776-1719162000-1719167400@welcometocrossroads.org
SUMMARY:Girl’s Ministry Awards Ceremony @ 5:00pm: Girl’s Ministry Life Group
DESCRIPTION:
URL:https://welcometocrossroads.org/event/girls-ministry-girls-ministry-life-group-99/
LOCATION:Rooms: 102\, 114\, 115\, 116\, 117 – 7209 E County Rd 100 S\, Avon\, IN 46123\, USA
END:VEVENT
BEGIN:VEVENT
DTSTART;TZID=America/Indiana/Indianapolis:20240623T170000
DTEND;TZID=America/Indiana/Indianapolis:20240623T183000
DTSTAMP:20260424T014219
CREATED:20221102T193632Z
LAST-MODIFIED:20221102T193632Z
UID:16854-1719162000-1719167400@welcometocrossroads.org
SUMMARY:Girl’s Ministry: Girl’s Ministry Life Group
DESCRIPTION:
URL:https://welcometocrossroads.org/event/girls-ministry-girls-ministry-life-group-207/
LOCATION:Rooms: 102\, 114\, 115\, 116\, 117 – 7209 E County Rd 100 S\, Avon\, IN 46123\, USA
END:VEVENT
BEGIN:VEVENT
DTSTART;TZID=America/Indiana/Indianapolis:20240623T173000
DTEND;TZID=America/Indiana/Indianapolis:20240623T180000
DTSTAMP:20260424T014219
CREATED:20220807T013317Z
LAST-MODIFIED:20240619T214432Z
UID:14778-1719163800-1719165600@welcometocrossroads.org
SUMMARY:CSM - Leader Huddle
DESCRIPTION:
URL:https://welcometocrossroads.org/event/csm-leader-huddle-179/
LOCATION:102
END:VEVENT
BEGIN:VEVENT
DTSTART;TZID=America/Indiana/Indianapolis:20240623T173000
DTEND;TZID=America/Indiana/Indianapolis:20240623T180000
DTSTAMP:20260424T014219
CREATED:20221102T193632Z
LAST-MODIFIED:20221102T193632Z
UID:16852-1719163800-1719165600@welcometocrossroads.org
SUMMARY:CSM - Leader Huddle
DESCRIPTION:
URL:https://welcometocrossroads.org/event/csm-leader-huddle-287/
LOCATION:102
END:VEVENT
BEGIN:VEVENT
DTSTART;TZID=America/Indiana/Indianapolis:20240623T180000
DTEND;TZID=America/Indiana/Indianapolis:20240623T200000
DTSTAMP:20260424T014219
CREATED:20220807T013317Z
LAST-MODIFIED:20240619T214432Z
UID:14777-1719165600-1719172800@welcometocrossroads.org
SUMMARY:CSM - Family Group Night: CSM- Family Group Night
DESCRIPTION:
URL:https://welcometocrossroads.org/event/csm-family-group-night-csm-family-group-night-41/
LOCATION:All Rooms
END:VEVENT
BEGIN:VEVENT
DTSTART;TZID=America/Indiana/Indianapolis:20240623T180000
DTEND;TZID=America/Indiana/Indianapolis:20240623T200000
DTSTAMP:20260424T014219
CREATED:20221102T193632Z
LAST-MODIFIED:20221102T193632Z
UID:16853-1719165600-1719172800@welcometocrossroads.org
SUMMARY:CSM-Family Group Night : CSM- Family Group Night
DESCRIPTION:
URL:https://welcometocrossroads.org/event/csm-family-group-night-csm-family-group-night-65/
LOCATION:All Rooms
END:VEVENT
BEGIN:VEVENT
DTSTART;TZID=America/Indiana/Indianapolis:20240623T180000
DTEND;TZID=America/Indiana/Indianapolis:20240623T203000
DTSTAMP:20260424T014219
CREATED:20230811T044436Z
LAST-MODIFIED:20240619T214419Z
UID:24409-1719165600-1719174600@welcometocrossroads.org
SUMMARY:CSM - Crossroads Students Ministries
DESCRIPTION:
URL:https://welcometocrossroads.org/event/csm-crossroads-students-ministries-45/
LOCATION:CSM – 7209 E County Rd 100 S\, Avon\, IN\, United States
END:VEVENT
BEGIN:VEVENT
DTSTART;TZID=America/Indiana/Indianapolis:20240623T190000
DTEND;TZID=America/Indiana/Indianapolis:20240623T200000
DTSTAMP:20260424T014219
CREATED:20221102T193632Z
LAST-MODIFIED:20230610T021517Z
UID:16855-1719169200-1719172800@welcometocrossroads.org
SUMMARY:Mull Bible Study
DESCRIPTION:
URL:https://welcometocrossroads.org/event/mull-bible-study-102/
END:VEVENT
BEGIN:VEVENT
DTSTART;TZID=America/Indiana/Indianapolis:20240623T190000
DTEND;TZID=America/Indiana/Indianapolis:20240623T200000
DTSTAMP:20260424T014219
CREATED:20230611T023025Z
LAST-MODIFIED:20231004T110236Z
UID:22790-1719169200-1719172800@welcometocrossroads.org
SUMMARY:Mull Bible Study
DESCRIPTION:
URL:https://welcometocrossroads.org/event/mull-bible-study-207/
END:VEVENT
END:VCALENDAR