BEGIN:VCALENDAR
VERSION:2.0
PRODID:-//Crossroads Church - ECPv6.15.17.1//NONSGML v1.0//EN
CALSCALE:GREGORIAN
METHOD:PUBLISH
X-WR-CALNAME:Crossroads Church
X-ORIGINAL-URL:https://welcometocrossroads.org
X-WR-CALDESC:Events for Crossroads Church
REFRESH-INTERVAL;VALUE=DURATION:PT1H
X-Robots-Tag:noindex
X-PUBLISHED-TTL:PT1H
BEGIN:VTIMEZONE
TZID:America/Indiana/Indianapolis
BEGIN:DAYLIGHT
TZOFFSETFROM:-0500
TZOFFSETTO:-0400
TZNAME:EDT
DTSTART:20230312T070000
END:DAYLIGHT
BEGIN:STANDARD
TZOFFSETFROM:-0400
TZOFFSETTO:-0500
TZNAME:EST
DTSTART:20231105T060000
END:STANDARD
BEGIN:DAYLIGHT
TZOFFSETFROM:-0500
TZOFFSETTO:-0400
TZNAME:EDT
DTSTART:20240310T070000
END:DAYLIGHT
BEGIN:STANDARD
TZOFFSETFROM:-0400
TZOFFSETTO:-0500
TZNAME:EST
DTSTART:20241103T060000
END:STANDARD
BEGIN:DAYLIGHT
TZOFFSETFROM:-0500
TZOFFSETTO:-0400
TZNAME:EDT
DTSTART:20250309T070000
END:DAYLIGHT
BEGIN:STANDARD
TZOFFSETFROM:-0400
TZOFFSETTO:-0500
TZNAME:EST
DTSTART:20251102T060000
END:STANDARD
END:VTIMEZONE
BEGIN:VEVENT
DTSTART;VALUE=DATE:20240620
DTEND;VALUE=DATE:20240701
DTSTAMP:20260422T022407
CREATED:20231027T181433Z
LAST-MODIFIED:20240402T094609Z
UID:26491-1718841600-1719791999@welcometocrossroads.org
SUMMARY:NO PRIVATE EVENT BOOKINGS
DESCRIPTION:
URL:https://welcometocrossroads.org/event/no-private-event-bookings-2/
END:VEVENT
BEGIN:VEVENT
DTSTART;TZID=America/Indiana/Indianapolis:20240624T183000
DTEND;TZID=America/Indiana/Indianapolis:20240624T203000
DTSTAMP:20260422T022407
CREATED:20220807T013317Z
LAST-MODIFIED:20230521T170121Z
UID:14779-1719253800-1719261000@welcometocrossroads.org
SUMMARY:DivorceCare
DESCRIPTION:
URL:https://welcometocrossroads.org/event/divorcecare-99/
END:VEVENT
BEGIN:VEVENT
DTSTART;TZID=America/Indiana/Indianapolis:20240624T183000
DTEND;TZID=America/Indiana/Indianapolis:20240624T203000
DTSTAMP:20260422T022407
CREATED:20221102T193632Z
LAST-MODIFIED:20221102T193632Z
UID:16857-1719253800-1719261000@welcometocrossroads.org
SUMMARY:DivorceCare
DESCRIPTION:
URL:https://welcometocrossroads.org/event/divorcecare-207/
END:VEVENT
BEGIN:VEVENT
DTSTART;TZID=America/Indiana/Indianapolis:20240624T183000
DTEND;TZID=America/Indiana/Indianapolis:20240624T203000
DTSTAMP:20260422T022407
CREATED:20240227T084914Z
LAST-MODIFIED:20240624T212715Z
UID:28085-1719253800-1719261000@welcometocrossroads.org
SUMMARY:Divorce Care
DESCRIPTION:
URL:https://welcometocrossroads.org/event/divorce-care-217/
END:VEVENT
BEGIN:VEVENT
DTSTART;TZID=America/Indiana/Indianapolis:20240624T190000
DTEND;TZID=America/Indiana/Indianapolis:20240624T203000
DTSTAMP:20260422T022407
CREATED:20221102T193632Z
LAST-MODIFIED:20221102T193632Z
UID:16856-1719255600-1719261000@welcometocrossroads.org
SUMMARY:Hey Girl Life Group
DESCRIPTION:
URL:https://welcometocrossroads.org/event/hey-girl-life-group-47/
END:VEVENT
BEGIN:VEVENT
DTSTART;TZID=America/Indiana/Indianapolis:20240624T190000
DTEND;TZID=America/Indiana/Indianapolis:20240624T203000
DTSTAMP:20260422T022407
CREATED:20230515T151932Z
LAST-MODIFIED:20230610T021517Z
UID:19247-1719255600-1719261000@welcometocrossroads.org
SUMMARY:Hey Girl Life Group
DESCRIPTION:
URL:https://welcometocrossroads.org/event/hey-girl-life-group-114/
END:VEVENT
BEGIN:VEVENT
DTSTART;TZID=America/Indiana/Indianapolis:20240624T190000
DTEND;TZID=America/Indiana/Indianapolis:20240624T203000
DTSTAMP:20260422T022407
CREATED:20230611T023025Z
LAST-MODIFIED:20240624T212716Z
UID:22791-1719255600-1719261000@welcometocrossroads.org
SUMMARY:Hey Girl Life Group
DESCRIPTION:
URL:https://welcometocrossroads.org/event/hey-girl-life-group-216/
END:VEVENT
END:VCALENDAR