BEGIN:VCALENDAR
VERSION:2.0
PRODID:-//Crossroads Church - ECPv6.15.17.1//NONSGML v1.0//EN
CALSCALE:GREGORIAN
METHOD:PUBLISH
X-WR-CALNAME:Crossroads Church
X-ORIGINAL-URL:https://welcometocrossroads.org
X-WR-CALDESC:Events for Crossroads Church
REFRESH-INTERVAL;VALUE=DURATION:PT1H
X-Robots-Tag:noindex
X-PUBLISHED-TTL:PT1H
BEGIN:VTIMEZONE
TZID:America/Indiana/Indianapolis
BEGIN:DAYLIGHT
TZOFFSETFROM:-0500
TZOFFSETTO:-0400
TZNAME:EDT
DTSTART:20230312T070000
END:DAYLIGHT
BEGIN:STANDARD
TZOFFSETFROM:-0400
TZOFFSETTO:-0500
TZNAME:EST
DTSTART:20231105T060000
END:STANDARD
BEGIN:DAYLIGHT
TZOFFSETFROM:-0500
TZOFFSETTO:-0400
TZNAME:EDT
DTSTART:20240310T070000
END:DAYLIGHT
BEGIN:STANDARD
TZOFFSETFROM:-0400
TZOFFSETTO:-0500
TZNAME:EST
DTSTART:20241103T060000
END:STANDARD
BEGIN:DAYLIGHT
TZOFFSETFROM:-0500
TZOFFSETTO:-0400
TZNAME:EDT
DTSTART:20250309T070000
END:DAYLIGHT
BEGIN:STANDARD
TZOFFSETFROM:-0400
TZOFFSETTO:-0500
TZNAME:EST
DTSTART:20251102T060000
END:STANDARD
END:VTIMEZONE
BEGIN:VEVENT
DTSTART;VALUE=DATE:20240620
DTEND;VALUE=DATE:20240701
DTSTAMP:20260421T170838
CREATED:20231027T181433Z
LAST-MODIFIED:20240402T094609Z
UID:26491-1718841600-1719791999@welcometocrossroads.org
SUMMARY:NO PRIVATE EVENT BOOKINGS
DESCRIPTION:
URL:https://welcometocrossroads.org/event/no-private-event-bookings-2/
END:VEVENT
BEGIN:VEVENT
DTSTART;VALUE=DATE:20240625
DTEND;VALUE=DATE:20240628
DTSTAMP:20260421T170838
CREATED:20240507T150059Z
LAST-MODIFIED:20240624T212714Z
UID:30152-1719273600-1719532799@welcometocrossroads.org
SUMMARY:Kids Art Camp
DESCRIPTION:Your K-5th graders are invited to ART CAMP! Beginning on Tuesday\, June 25th\, through Thursday the 27th\, Crossroads Kids is hosting three evenings of fun arts and crafts\, Bible lessons\, and worship activities for your elementary students. Registration open by going to welcometocrossroads.org/artcamp\nRegister: http://welcometocrossroads.org/artcamp
URL:https://welcometocrossroads.org/event/kids-art-camp/
END:VEVENT
BEGIN:VEVENT
DTSTART;TZID=America/Indiana/Indianapolis:20240626T140000
DTEND;TZID=America/Indiana/Indianapolis:20240626T160000
DTSTAMP:20260421T170838
CREATED:20230823T233306Z
LAST-MODIFIED:20240624T212713Z
UID:25306-1719410400-1719417600@welcometocrossroads.org
SUMMARY:Operations Weekly Meeting
DESCRIPTION:
URL:https://welcometocrossroads.org/event/operations-weekly-meeting-44/
LOCATION:Crossroads Church – 7209 E County Rd 100 S\, Avon\, IN\, United States
END:VEVENT
BEGIN:VEVENT
DTSTART;TZID=America/Indiana/Indianapolis:20240626T180000
DTEND;TZID=America/Indiana/Indianapolis:20240626T193000
DTSTAMP:20260421T170838
CREATED:20240624T212717Z
LAST-MODIFIED:20240624T212717Z
UID:30832-1719424800-1719430200@welcometocrossroads.org
SUMMARY:Leadership Mtg for Women's Discipleship Walk
DESCRIPTION:
URL:https://welcometocrossroads.org/event/leadership-mtg-for-womens-discipleship-walk/
END:VEVENT
BEGIN:VEVENT
DTSTART;TZID=America/Indiana/Indianapolis:20240626T180000
DTEND;TZID=America/Indiana/Indianapolis:20240626T200000
DTSTAMP:20260421T170838
CREATED:20220807T013318Z
LAST-MODIFIED:20220807T013318Z
UID:14782-1719424800-1719432000@welcometocrossroads.org
SUMMARY:Lema Life Group
DESCRIPTION:
URL:https://welcometocrossroads.org/event/lema-life-group-46/
END:VEVENT
BEGIN:VEVENT
DTSTART;TZID=America/Indiana/Indianapolis:20240626T180000
DTEND;TZID=America/Indiana/Indianapolis:20240626T200000
DTSTAMP:20260421T170838
CREATED:20221102T193633Z
LAST-MODIFIED:20221102T193633Z
UID:16861-1719424800-1719432000@welcometocrossroads.org
SUMMARY:Lema Life Group
DESCRIPTION:
URL:https://welcometocrossroads.org/event/lema-life-group-96/
END:VEVENT
BEGIN:VEVENT
DTSTART;TZID=America/Indiana/Indianapolis:20240626T180000
DTEND;TZID=America/Indiana/Indianapolis:20240626T210000
DTSTAMP:20260421T170838
CREATED:20220807T013318Z
LAST-MODIFIED:20230822T225140Z
UID:14783-1719424800-1719435600@welcometocrossroads.org
SUMMARY:The Well - College & Career Weekly Meetings
DESCRIPTION:
URL:https://welcometocrossroads.org/event/the-well-college-career-weekly-meetings-99/
END:VEVENT
BEGIN:VEVENT
DTSTART;TZID=America/Indiana/Indianapolis:20240626T180000
DTEND;TZID=America/Indiana/Indianapolis:20240626T210000
DTSTAMP:20260421T170838
CREATED:20221102T193633Z
LAST-MODIFIED:20221102T193633Z
UID:16860-1719424800-1719435600@welcometocrossroads.org
SUMMARY:The Well - College & Career Weekly Meetings
DESCRIPTION:
URL:https://welcometocrossroads.org/event/the-well-college-career-weekly-meetings-206/
END:VEVENT
END:VCALENDAR