BEGIN:VCALENDAR
VERSION:2.0
PRODID:-//Crossroads Church - ECPv6.15.17.1//NONSGML v1.0//EN
CALSCALE:GREGORIAN
METHOD:PUBLISH
X-ORIGINAL-URL:https://welcometocrossroads.org
X-WR-CALDESC:Events for Crossroads Church
REFRESH-INTERVAL;VALUE=DURATION:PT1H
X-Robots-Tag:noindex
X-PUBLISHED-TTL:PT1H
BEGIN:VTIMEZONE
TZID:America/Indiana/Indianapolis
BEGIN:DAYLIGHT
TZOFFSETFROM:-0500
TZOFFSETTO:-0400
TZNAME:EDT
DTSTART:20230312T070000
END:DAYLIGHT
BEGIN:STANDARD
TZOFFSETFROM:-0400
TZOFFSETTO:-0500
TZNAME:EST
DTSTART:20231105T060000
END:STANDARD
BEGIN:DAYLIGHT
TZOFFSETFROM:-0500
TZOFFSETTO:-0400
TZNAME:EDT
DTSTART:20240310T070000
END:DAYLIGHT
BEGIN:STANDARD
TZOFFSETFROM:-0400
TZOFFSETTO:-0500
TZNAME:EST
DTSTART:20241103T060000
END:STANDARD
BEGIN:DAYLIGHT
TZOFFSETFROM:-0500
TZOFFSETTO:-0400
TZNAME:EDT
DTSTART:20250309T070000
END:DAYLIGHT
BEGIN:STANDARD
TZOFFSETFROM:-0400
TZOFFSETTO:-0500
TZNAME:EST
DTSTART:20251102T060000
END:STANDARD
END:VTIMEZONE
BEGIN:VEVENT
DTSTART;VALUE=DATE:20240705
DTEND;VALUE=DATE:20240706
DTSTAMP:20260420T164531
CREATED:20220807T013322Z
LAST-MODIFIED:20240624T212806Z
UID:14805-1720137600-1720223999@welcometocrossroads.org
SUMMARY:Care to Change Counseling Sessions
DESCRIPTION:
URL:https://welcometocrossroads.org/event/care-to-change-counseling-sessions-100/
END:VEVENT
BEGIN:VEVENT
DTSTART;VALUE=DATE:20240705
DTEND;VALUE=DATE:20240706
DTSTAMP:20260420T164531
CREATED:20221102T193636Z
LAST-MODIFIED:20221102T193636Z
UID:16885-1720137600-1720223999@welcometocrossroads.org
SUMMARY:Care to Change Counseling Sessions
DESCRIPTION:
URL:https://welcometocrossroads.org/event/care-to-change-counseling-sessions-208/
END:VEVENT
BEGIN:VEVENT
DTSTART;TZID=America/Indiana/Indianapolis:20240705T130000
DTEND;TZID=America/Indiana/Indianapolis:20240705T210000
DTSTAMP:20260420T164531
CREATED:20230810T035925Z
LAST-MODIFIED:20240617T201646Z
UID:24174-1720184400-1720213200@welcometocrossroads.org
SUMMARY:Jessalyn Fischer/Cole Thomas Rehearsal
DESCRIPTION:
URL:https://welcometocrossroads.org/event/jessalyn-fischer-cole-thomas-rehearsal/
END:VEVENT
BEGIN:VEVENT
DTSTART;TZID=America/Indiana/Indianapolis:20240705T170000
DTEND;TZID=America/Indiana/Indianapolis:20240705T173000
DTSTAMP:20260420T164531
CREATED:20240516T045018Z
LAST-MODIFIED:20240616T193124Z
UID:30368-1720198800-1720200600@welcometocrossroads.org
SUMMARY:Mascot Camp: Setup
DESCRIPTION:
URL:https://welcometocrossroads.org/event/mascot-camp-setup-4/
END:VEVENT
BEGIN:VEVENT
DTSTART;TZID=America/Indiana/Indianapolis:20240705T173000
DTEND;TZID=America/Indiana/Indianapolis:20240705T203000
DTSTAMP:20260420T164531
CREATED:20240516T045018Z
LAST-MODIFIED:20240616T193137Z
UID:30369-1720200600-1720211400@welcometocrossroads.org
SUMMARY:Mascot Camp
DESCRIPTION:
URL:https://welcometocrossroads.org/event/mascot-camp-7/
END:VEVENT
BEGIN:VEVENT
DTSTART;TZID=America/Indiana/Indianapolis:20240705T203000
DTEND;TZID=America/Indiana/Indianapolis:20240705T210000
DTSTAMP:20260420T164531
CREATED:20240516T045019Z
LAST-MODIFIED:20240616T193136Z
UID:30370-1720211400-1720213200@welcometocrossroads.org
SUMMARY:Mascot Camp: Teardown
DESCRIPTION:
URL:https://welcometocrossroads.org/event/mascot-camp-teardown-4/
END:VEVENT
END:VCALENDAR