BEGIN:VCALENDAR
VERSION:2.0
PRODID:-//Crossroads Church - ECPv6.15.17.1//NONSGML v1.0//EN
CALSCALE:GREGORIAN
METHOD:PUBLISH
X-WR-CALNAME:Crossroads Church
X-ORIGINAL-URL:https://welcometocrossroads.org
X-WR-CALDESC:Events for Crossroads Church
REFRESH-INTERVAL;VALUE=DURATION:PT1H
X-Robots-Tag:noindex
X-PUBLISHED-TTL:PT1H
BEGIN:VTIMEZONE
TZID:America/Indiana/Indianapolis
BEGIN:DAYLIGHT
TZOFFSETFROM:-0500
TZOFFSETTO:-0400
TZNAME:EDT
DTSTART:20230312T070000
END:DAYLIGHT
BEGIN:STANDARD
TZOFFSETFROM:-0400
TZOFFSETTO:-0500
TZNAME:EST
DTSTART:20231105T060000
END:STANDARD
BEGIN:DAYLIGHT
TZOFFSETFROM:-0500
TZOFFSETTO:-0400
TZNAME:EDT
DTSTART:20240310T070000
END:DAYLIGHT
BEGIN:STANDARD
TZOFFSETFROM:-0400
TZOFFSETTO:-0500
TZNAME:EST
DTSTART:20241103T060000
END:STANDARD
BEGIN:DAYLIGHT
TZOFFSETFROM:-0500
TZOFFSETTO:-0400
TZNAME:EDT
DTSTART:20250309T070000
END:DAYLIGHT
BEGIN:STANDARD
TZOFFSETFROM:-0400
TZOFFSETTO:-0500
TZNAME:EST
DTSTART:20251102T060000
END:STANDARD
END:VTIMEZONE
BEGIN:VEVENT
DTSTART;TZID=America/Indiana/Indianapolis:20241211T100000
DTEND;TZID=America/Indiana/Indianapolis:20241211T110000
DTSTAMP:20260421T061731
CREATED:20240811T170401Z
LAST-MODIFIED:20241206T161721Z
UID:31035-1733911200-1733914800@welcometocrossroads.org
SUMMARY:ATF Meeting
DESCRIPTION:
URL:https://welcometocrossroads.org/event/atf-meeting-5/
END:VEVENT
BEGIN:VEVENT
DTSTART;TZID=America/Indiana/Indianapolis:20241211T140000
DTEND;TZID=America/Indiana/Indianapolis:20241211T160000
DTSTAMP:20260421T061731
CREATED:20230823T233531Z
LAST-MODIFIED:20240821T135209Z
UID:25349-1733925600-1733932800@welcometocrossroads.org
SUMMARY:Operations Weekly Meeting
DESCRIPTION:
URL:https://welcometocrossroads.org/event/operations-weekly-meeting-68/
LOCATION:Crossroads Church – 7209 E County Rd 100 S\, Avon\, IN\, United States
END:VEVENT
BEGIN:VEVENT
DTSTART;TZID=America/Indiana/Indianapolis:20241211T173000
DTEND;TZID=America/Indiana/Indianapolis:20241211T210000
DTSTAMP:20260421T061731
CREATED:20241203T155742Z
LAST-MODIFIED:20241206T161724Z
UID:34215-1733938200-1733950800@welcometocrossroads.org
SUMMARY:Women's Wellness Christmas Party
DESCRIPTION:
URL:https://welcometocrossroads.org/event/womens-wellness-christmas-party/
END:VEVENT
BEGIN:VEVENT
DTSTART;TZID=America/Indiana/Indianapolis:20241211T180000
DTEND;TZID=America/Indiana/Indianapolis:20241211T210000
DTSTAMP:20260421T061731
CREATED:20230515T152404Z
LAST-MODIFIED:20230822T230324Z
UID:19554-1733940000-1733950800@welcometocrossroads.org
SUMMARY:The Well - College & Career Weekly Meetings
DESCRIPTION:
URL:https://welcometocrossroads.org/event/the-well-college-career-weekly-meetings-230/
END:VEVENT
END:VCALENDAR