BEGIN:VCALENDAR
VERSION:2.0
PRODID:-//Crossroads Church - ECPv6.15.17.1//NONSGML v1.0//EN
CALSCALE:GREGORIAN
METHOD:PUBLISH
X-ORIGINAL-URL:https://welcometocrossroads.org
X-WR-CALDESC:Events for Crossroads Church
REFRESH-INTERVAL;VALUE=DURATION:PT1H
X-Robots-Tag:noindex
X-PUBLISHED-TTL:PT1H
BEGIN:VTIMEZONE
TZID:America/Indiana/Indianapolis
BEGIN:DAYLIGHT
TZOFFSETFROM:-0500
TZOFFSETTO:-0400
TZNAME:EDT
DTSTART:20230312T070000
END:DAYLIGHT
BEGIN:STANDARD
TZOFFSETFROM:-0400
TZOFFSETTO:-0500
TZNAME:EST
DTSTART:20231105T060000
END:STANDARD
BEGIN:DAYLIGHT
TZOFFSETFROM:-0500
TZOFFSETTO:-0400
TZNAME:EDT
DTSTART:20240310T070000
END:DAYLIGHT
BEGIN:STANDARD
TZOFFSETFROM:-0400
TZOFFSETTO:-0500
TZNAME:EST
DTSTART:20241103T060000
END:STANDARD
BEGIN:DAYLIGHT
TZOFFSETFROM:-0500
TZOFFSETTO:-0400
TZNAME:EDT
DTSTART:20250309T070000
END:DAYLIGHT
BEGIN:STANDARD
TZOFFSETFROM:-0400
TZOFFSETTO:-0500
TZNAME:EST
DTSTART:20251102T060000
END:STANDARD
END:VTIMEZONE
BEGIN:VEVENT
DTSTART;VALUE=DATE:20241213
DTEND;VALUE=DATE:20241214
DTSTAMP:20260422T131940
CREATED:20230515T152404Z
LAST-MODIFIED:20240906T194115Z
UID:19555-1734048000-1734134399@welcometocrossroads.org
SUMMARY:Care to Change Counseling Sessions
DESCRIPTION:
URL:https://welcometocrossroads.org/event/care-to-change-counseling-sessions-231/
END:VEVENT
BEGIN:VEVENT
DTSTART;VALUE=DATE:20241213
DTEND;VALUE=DATE:20241214
DTSTAMP:20260422T131940
CREATED:20231024T173153Z
LAST-MODIFIED:20241203T155751Z
UID:26472-1734048000-1734134399@welcometocrossroads.org
SUMMARY:Wedding Set-Up
DESCRIPTION:
URL:https://welcometocrossroads.org/event/wedding-set-up/
END:VEVENT
BEGIN:VEVENT
DTSTART;TZID=America/Indiana/Indianapolis:20241213T080000
DTEND;TZID=America/Indiana/Indianapolis:20241213T170000
DTSTAMP:20260422T131940
CREATED:20240915T223240Z
LAST-MODIFIED:20241206T161738Z
UID:32410-1734076800-1734109200@welcometocrossroads.org
SUMMARY:Care to Change Counseling Sessions
DESCRIPTION:
URL:https://welcometocrossroads.org/event/care-to-change-counseling-sessions-334/
END:VEVENT
BEGIN:VEVENT
DTSTART;TZID=America/Indiana/Indianapolis:20241213T160000
DTEND;TZID=America/Indiana/Indianapolis:20241213T200000
DTSTAMP:20260422T131940
CREATED:20241204T203303Z
LAST-MODIFIED:20241206T161735Z
UID:34405-1734105600-1734120000@welcometocrossroads.org
SUMMARY:IEA Management
DESCRIPTION:
URL:https://welcometocrossroads.org/event/iea-management-2/
END:VEVENT
BEGIN:VEVENT
DTSTART;TZID=America/Indiana/Indianapolis:20241213T183000
DTEND;TZID=America/Indiana/Indianapolis:20241213T203000
DTSTAMP:20260422T131940
CREATED:20230515T152405Z
LAST-MODIFIED:20240906T194129Z
UID:19559-1734114600-1734121800@welcometocrossroads.org
SUMMARY:Price LG
DESCRIPTION:
URL:https://welcometocrossroads.org/event/price-lg-145/
END:VEVENT
BEGIN:VEVENT
DTSTART;TZID=America/Indiana/Indianapolis:20241213T183000
DTEND;TZID=America/Indiana/Indianapolis:20241213T203000
DTSTAMP:20260422T131940
CREATED:20240915T223241Z
LAST-MODIFIED:20241206T161754Z
UID:32411-1734114600-1734121800@welcometocrossroads.org
SUMMARY:Price LG
DESCRIPTION:
URL:https://welcometocrossroads.org/event/price-lg-192/
END:VEVENT
BEGIN:VEVENT
DTSTART;TZID=America/Indiana/Indianapolis:20241213T190000
DTEND;TZID=America/Indiana/Indianapolis:20241213T203000
DTSTAMP:20260422T131940
CREATED:20240915T223254Z
LAST-MODIFIED:20241206T161752Z
UID:32412-1734116400-1734121800@welcometocrossroads.org
SUMMARY:Connecting Life Group
DESCRIPTION:Robin & Jeff Bernfield
URL:https://welcometocrossroads.org/event/connecting-life-group-6/
END:VEVENT
END:VCALENDAR