BEGIN:VCALENDAR
VERSION:2.0
PRODID:-//Crossroads Church - ECPv6.15.17.1//NONSGML v1.0//EN
CALSCALE:GREGORIAN
METHOD:PUBLISH
X-ORIGINAL-URL:https://welcometocrossroads.org
X-WR-CALDESC:Events for Crossroads Church
REFRESH-INTERVAL;VALUE=DURATION:PT1H
X-Robots-Tag:noindex
X-PUBLISHED-TTL:PT1H
BEGIN:VTIMEZONE
TZID:America/Indiana/Indianapolis
BEGIN:DAYLIGHT
TZOFFSETFROM:-0500
TZOFFSETTO:-0400
TZNAME:EDT
DTSTART:20230312T070000
END:DAYLIGHT
BEGIN:STANDARD
TZOFFSETFROM:-0400
TZOFFSETTO:-0500
TZNAME:EST
DTSTART:20231105T060000
END:STANDARD
BEGIN:DAYLIGHT
TZOFFSETFROM:-0500
TZOFFSETTO:-0400
TZNAME:EDT
DTSTART:20240310T070000
END:DAYLIGHT
BEGIN:STANDARD
TZOFFSETFROM:-0400
TZOFFSETTO:-0500
TZNAME:EST
DTSTART:20241103T060000
END:STANDARD
BEGIN:DAYLIGHT
TZOFFSETFROM:-0500
TZOFFSETTO:-0400
TZNAME:EDT
DTSTART:20250309T070000
END:DAYLIGHT
BEGIN:STANDARD
TZOFFSETFROM:-0400
TZOFFSETTO:-0500
TZNAME:EST
DTSTART:20251102T060000
END:STANDARD
END:VTIMEZONE
BEGIN:VEVENT
DTSTART;VALUE=DATE:20241220
DTEND;VALUE=DATE:20241221
DTSTAMP:20260421T182422
CREATED:20230515T152426Z
LAST-MODIFIED:20240906T194204Z
UID:19577-1734652800-1734739199@welcometocrossroads.org
SUMMARY:Care to Change Counseling Sessions
DESCRIPTION:
URL:https://welcometocrossroads.org/event/care-to-change-counseling-sessions-232/
END:VEVENT
BEGIN:VEVENT
DTSTART;TZID=America/Indiana/Indianapolis:20241220T080000
DTEND;TZID=America/Indiana/Indianapolis:20241220T170000
DTSTAMP:20260421T182422
CREATED:20240915T223337Z
LAST-MODIFIED:20241206T161924Z
UID:32417-1734681600-1734714000@welcometocrossroads.org
SUMMARY:Care to Change Counseling Sessions
DESCRIPTION:
URL:https://welcometocrossroads.org/event/care-to-change-counseling-sessions-335/
END:VEVENT
BEGIN:VEVENT
DTSTART;TZID=America/Indiana/Indianapolis:20241220T180000
DTEND;TZID=America/Indiana/Indianapolis:20241220T210000
DTSTAMP:20260421T182422
CREATED:20241203T160014Z
LAST-MODIFIED:20241206T161929Z
UID:34221-1734717600-1734728400@welcometocrossroads.org
SUMMARY:Hope Healthcare Christmas Party
DESCRIPTION:
URL:https://welcometocrossroads.org/event/hope-healthcare-christmas-party/
END:VEVENT
BEGIN:VEVENT
DTSTART;TZID=America/Indiana/Indianapolis:20241220T181500
DTEND;TZID=America/Indiana/Indianapolis:20241220T201500
DTSTAMP:20260421T182422
CREATED:20240406T134050Z
LAST-MODIFIED:20240906T194205Z
UID:29257-1734718500-1734725700@welcometocrossroads.org
SUMMARY:LOL Life Group
DESCRIPTION:Join us\, ladies\, for a fun time of games and laughter!
URL:https://welcometocrossroads.org/event/lol-life-group-9/
END:VEVENT
BEGIN:VEVENT
DTSTART;TZID=America/Indiana/Indianapolis:20241220T183000
DTEND;TZID=America/Indiana/Indianapolis:20241220T203000
DTSTAMP:20260421T182422
CREATED:20240915T223337Z
LAST-MODIFIED:20241206T161927Z
UID:32418-1734719400-1734726600@welcometocrossroads.org
SUMMARY:LOL Life Group
DESCRIPTION:Join us\, ladies\, for a fun time of games and laughter!
URL:https://welcometocrossroads.org/event/lol-life-group-13/
END:VEVENT
END:VCALENDAR