BEGIN:VCALENDAR
VERSION:2.0
PRODID:-//Crossroads Church - ECPv6.15.17.1//NONSGML v1.0//EN
CALSCALE:GREGORIAN
METHOD:PUBLISH
X-WR-CALNAME:Crossroads Church
X-ORIGINAL-URL:https://welcometocrossroads.org
X-WR-CALDESC:Events for Crossroads Church
REFRESH-INTERVAL;VALUE=DURATION:PT1H
X-Robots-Tag:noindex
X-PUBLISHED-TTL:PT1H
BEGIN:VTIMEZONE
TZID:America/Indiana/Indianapolis
BEGIN:DAYLIGHT
TZOFFSETFROM:-0500
TZOFFSETTO:-0400
TZNAME:EDT
DTSTART:20240310T070000
END:DAYLIGHT
BEGIN:STANDARD
TZOFFSETFROM:-0400
TZOFFSETTO:-0500
TZNAME:EST
DTSTART:20241103T060000
END:STANDARD
BEGIN:DAYLIGHT
TZOFFSETFROM:-0500
TZOFFSETTO:-0400
TZNAME:EDT
DTSTART:20250309T070000
END:DAYLIGHT
BEGIN:STANDARD
TZOFFSETFROM:-0400
TZOFFSETTO:-0500
TZNAME:EST
DTSTART:20251102T060000
END:STANDARD
BEGIN:DAYLIGHT
TZOFFSETFROM:-0500
TZOFFSETTO:-0400
TZNAME:EDT
DTSTART:20260308T070000
END:DAYLIGHT
BEGIN:STANDARD
TZOFFSETFROM:-0400
TZOFFSETTO:-0500
TZNAME:EST
DTSTART:20261101T060000
END:STANDARD
END:VTIMEZONE
BEGIN:VEVENT
DTSTART;TZID=America/Indiana/Indianapolis:20250227T070000
DTEND;TZID=America/Indiana/Indianapolis:20250227T083000
DTSTAMP:20260423T043528
CREATED:20230515T152639Z
LAST-MODIFIED:20250207T112638Z
UID:19821-1740639600-1740645000@welcometocrossroads.org
SUMMARY:Trustees Meeting
DESCRIPTION:
URL:https://welcometocrossroads.org/event/trustees-meeting-80/
LOCATION:117 – 7209 E CR 100 S
END:VEVENT
BEGIN:VEVENT
DTSTART;TZID=America/Indiana/Indianapolis:20250227T140000
DTEND;TZID=America/Indiana/Indianapolis:20250227T150000
DTSTAMP:20260423T043528
CREATED:20240906T194700Z
LAST-MODIFIED:20250207T112641Z
UID:32013-1740664800-1740668400@welcometocrossroads.org
SUMMARY:Operations Weekly Meeting
DESCRIPTION:
URL:https://welcometocrossroads.org/event/operations-weekly-meeting-181/
LOCATION:Crossroads Church – 7209 E County Rd 100 S\, Avon\, IN\, United States
END:VEVENT
BEGIN:VEVENT
DTSTART;TZID=America/Indiana/Indianapolis:20250227T180000
DTEND;TZID=America/Indiana/Indianapolis:20250227T200000
DTSTAMP:20260423T043528
CREATED:20230821T222147Z
LAST-MODIFIED:20230830T010356Z
UID:25082-1740679200-1740686400@welcometocrossroads.org
SUMMARY:Women in the Word
DESCRIPTION:Women in the Word is an accountability group for women interested in seeking the face of God through the intentionality of studying the Scriptures. Our desire is to create a space for women from all walks of life to come together to support\, encourage\, and sharpen each other as we pursue the type of personal holiness that advances the Kingdom of God. All are welcome regardless of your relationship with God or knowledge in the Bible. In this group\, you will find acceptance\, peace\, love\, and the growth that you are desiring.
URL:https://welcometocrossroads.org/event/women-in-the-word-79/
LOCATION:Crossroads Church Avon – 7209 E County Rd 100 S\, Avon\, IN 46123\, USA
END:VEVENT
BEGIN:VEVENT
DTSTART;TZID=America/Indiana/Indianapolis:20250227T180000
DTEND;TZID=America/Indiana/Indianapolis:20250227T203000
DTSTAMP:20260423T043528
CREATED:20230515T152645Z
LAST-MODIFIED:20230905T030521Z
UID:19823-1740679200-1740688200@welcometocrossroads.org
SUMMARY:Crossroads RPG Club: Time
DESCRIPTION:
URL:https://welcometocrossroads.org/event/crossroads-rpg-club-time-241/
LOCATION:114 – 7209 E CR 100 S
END:VEVENT
BEGIN:VEVENT
DTSTART;TZID=America/Indiana/Indianapolis:20250227T181500
DTEND;TZID=America/Indiana/Indianapolis:20250227T203000
DTSTAMP:20260423T043528
CREATED:20240811T170927Z
LAST-MODIFIED:20241016T191013Z
UID:31074-1740680100-1740688200@welcometocrossroads.org
SUMMARY:Women in the Word
DESCRIPTION:
URL:https://welcometocrossroads.org/event/women-in-the-word-142/
END:VEVENT
BEGIN:VEVENT
DTSTART;TZID=America/Indiana/Indianapolis:20250227T183000
DTEND;TZID=America/Indiana/Indianapolis:20250227T200000
DTSTAMP:20260423T043528
CREATED:20241203T161507Z
LAST-MODIFIED:20250207T112645Z
UID:34253-1740681000-1740686400@welcometocrossroads.org
SUMMARY:Men's Bible Study
DESCRIPTION:
URL:https://welcometocrossroads.org/event/mens-bible-study-16/
END:VEVENT
BEGIN:VEVENT
DTSTART;TZID=America/Indiana/Indianapolis:20250227T183000
DTEND;TZID=America/Indiana/Indianapolis:20250227T200000
DTSTAMP:20260423T043528
CREATED:20250207T112649Z
LAST-MODIFIED:20250207T112649Z
UID:34590-1740681000-1740686400@welcometocrossroads.org
SUMMARY:Financial Peace University
DESCRIPTION:Financial Peace University is a nine-lesson course that teaches you how to save for emergencies\, pay off debt fast\, spend wisely\, and invest for your future. And no complicated financial blah blah blah over here. For over 25 years\, Dave Ramsey’s been teaching commonsense\, biblical money principles that work. Every time.
URL:https://welcometocrossroads.org/event/financial-peace-university-59/
END:VEVENT
BEGIN:VEVENT
DTSTART;TZID=America/Indiana/Indianapolis:20250227T183000
DTEND;TZID=America/Indiana/Indianapolis:20250227T203000
DTSTAMP:20260423T043528
CREATED:20230515T152642Z
LAST-MODIFIED:20230820T220402Z
UID:19822-1740681000-1740688200@welcometocrossroads.org
SUMMARY:Collins - LG
DESCRIPTION:
URL:https://welcometocrossroads.org/event/collins-lg-150/
END:VEVENT
BEGIN:VEVENT
DTSTART;TZID=America/Indiana/Indianapolis:20250227T183000
DTEND;TZID=America/Indiana/Indianapolis:20250227T203000
DTSTAMP:20260423T043528
CREATED:20241203T161451Z
LAST-MODIFIED:20250207T112647Z
UID:34252-1740681000-1740688200@welcometocrossroads.org
SUMMARY:Women in the Word
DESCRIPTION:
URL:https://welcometocrossroads.org/event/women-in-the-word-242/
END:VEVENT
BEGIN:VEVENT
DTSTART;TZID=America/Indiana/Indianapolis:20250227T190000
DTEND;TZID=America/Indiana/Indianapolis:20250227T203000
DTSTAMP:20260423T043528
CREATED:20230515T152645Z
LAST-MODIFIED:20250207T112643Z
UID:19824-1740682800-1740688200@welcometocrossroads.org
SUMMARY:Worship Practice
DESCRIPTION:Weekly Worship Team Practice to Prepare for the weekend
URL:https://welcometocrossroads.org/event/worship-practice-238/
END:VEVENT
END:VCALENDAR