BEGIN:VCALENDAR
VERSION:2.0
PRODID:-//Crossroads Church - ECPv6.15.17.1//NONSGML v1.0//EN
CALSCALE:GREGORIAN
METHOD:PUBLISH
X-ORIGINAL-URL:https://welcometocrossroads.org
X-WR-CALDESC:Events for Crossroads Church
REFRESH-INTERVAL;VALUE=DURATION:PT1H
X-Robots-Tag:noindex
X-PUBLISHED-TTL:PT1H
BEGIN:VTIMEZONE
TZID:America/Indiana/Indianapolis
BEGIN:DAYLIGHT
TZOFFSETFROM:-0500
TZOFFSETTO:-0400
TZNAME:EDT
DTSTART:20240310T070000
END:DAYLIGHT
BEGIN:STANDARD
TZOFFSETFROM:-0400
TZOFFSETTO:-0500
TZNAME:EST
DTSTART:20241103T060000
END:STANDARD
BEGIN:DAYLIGHT
TZOFFSETFROM:-0500
TZOFFSETTO:-0400
TZNAME:EDT
DTSTART:20250309T070000
END:DAYLIGHT
BEGIN:STANDARD
TZOFFSETFROM:-0400
TZOFFSETTO:-0500
TZNAME:EST
DTSTART:20251102T060000
END:STANDARD
BEGIN:DAYLIGHT
TZOFFSETFROM:-0500
TZOFFSETTO:-0400
TZNAME:EDT
DTSTART:20260308T070000
END:DAYLIGHT
BEGIN:STANDARD
TZOFFSETFROM:-0400
TZOFFSETTO:-0500
TZNAME:EST
DTSTART:20261101T060000
END:STANDARD
END:VTIMEZONE
BEGIN:VEVENT
DTSTART;VALUE=DATE:20250302
DTEND;VALUE=DATE:20250303
DTSTAMP:20260423T110555
CREATED:20241016T191040Z
LAST-MODIFIED:20250207T112720Z
UID:33844-1740873600-1740959999@welcometocrossroads.org
SUMMARY:Baptism Sunday
DESCRIPTION:
URL:https://welcometocrossroads.org/event/baptism-sunday-64/
END:VEVENT
BEGIN:VEVENT
DTSTART;TZID=America/Indiana/Indianapolis:20250302T080000
DTEND;TZID=America/Indiana/Indianapolis:20250302T084500
DTSTAMP:20260423T110555
CREATED:20240926T123647Z
LAST-MODIFIED:20250207T112722Z
UID:33171-1740902400-1740905100@welcometocrossroads.org
SUMMARY:Therefore Life Group
DESCRIPTION:
URL:https://welcometocrossroads.org/event/therefore-life-group-23/
END:VEVENT
BEGIN:VEVENT
DTSTART;TZID=America/Indiana/Indianapolis:20250302T090000
DTEND;TZID=America/Indiana/Indianapolis:20250302T123000
DTSTAMP:20260423T110555
CREATED:20250207T112735Z
LAST-MODIFIED:20250207T112735Z
UID:34595-1740906000-1740918600@welcometocrossroads.org
SUMMARY:Baptism Sunday
DESCRIPTION:
URL:https://welcometocrossroads.org/event/baptism-sunday-66/
END:VEVENT
BEGIN:VEVENT
DTSTART;TZID=America/Indiana/Indianapolis:20250302T103000
DTEND;TZID=America/Indiana/Indianapolis:20250302T123000
DTSTAMP:20260423T110555
CREATED:20230515T152650Z
LAST-MODIFIED:20250207T112737Z
UID:19829-1740911400-1740918600@welcometocrossroads.org
SUMMARY:Joyfully His LG
DESCRIPTION:
URL:https://welcometocrossroads.org/event/joyfully-his-lg-114/
END:VEVENT
BEGIN:VEVENT
DTSTART;TZID=America/Indiana/Indianapolis:20250302T110000
DTEND;TZID=America/Indiana/Indianapolis:20250302T113000
DTSTAMP:20260423T110555
CREATED:20230515T152653Z
LAST-MODIFIED:20240327T052516Z
UID:19830-1740913200-1740915000@welcometocrossroads.org
SUMMARY:Growth Track
DESCRIPTION:
URL:https://welcometocrossroads.org/event/growth-track-300/
LOCATION:Room 117
END:VEVENT
BEGIN:VEVENT
DTSTART;TZID=America/Indiana/Indianapolis:20250302T110000
DTEND;TZID=America/Indiana/Indianapolis:20250302T113000
DTSTAMP:20260423T110555
CREATED:20240328T055723Z
LAST-MODIFIED:20250207T112740Z
UID:29104-1740913200-1740915000@welcometocrossroads.org
SUMMARY:Growth Track
DESCRIPTION:
URL:https://welcometocrossroads.org/event/growth-track-362/
LOCATION:Room 117 – Crossroads Church
END:VEVENT
BEGIN:VEVENT
DTSTART;TZID=America/Indiana/Indianapolis:20250302T133000
DTEND;TZID=America/Indiana/Indianapolis:20250302T160000
DTSTAMP:20260423T110555
CREATED:20240425T120039Z
LAST-MODIFIED:20250207T112742Z
UID:29788-1740922200-1740931200@welcometocrossroads.org
SUMMARY:Christ's Ambassadors
DESCRIPTION:
URL:https://welcometocrossroads.org/event/christs-ambassadors-44/
END:VEVENT
BEGIN:VEVENT
DTSTART;TZID=America/Indiana/Indianapolis:20250302T140000
DTEND;TZID=America/Indiana/Indianapolis:20250302T160000
DTSTAMP:20260423T110555
CREATED:20240321T011320Z
LAST-MODIFIED:20240422T051328Z
UID:28881-1740924000-1740931200@welcometocrossroads.org
SUMMARY:CAC - private
DESCRIPTION:
URL:https://welcometocrossroads.org/event/cac-private-50/
END:VEVENT
BEGIN:VEVENT
DTSTART;TZID=America/Indiana/Indianapolis:20250302T170000
DTEND;TZID=America/Indiana/Indianapolis:20250302T183000
DTSTAMP:20260423T110555
CREATED:20230515T152653Z
LAST-MODIFIED:20240422T051328Z
UID:19831-1740934800-1740940200@welcometocrossroads.org
SUMMARY:Girl’s Ministry Awards Ceremony @ 5:00pm: Girl’s Ministry Life Group
DESCRIPTION:
URL:https://welcometocrossroads.org/event/girls-ministry-girls-ministry-life-group-243/
LOCATION:Rooms: 102\, 114\, 115\, 116\, 117 – 7209 E County Rd 100 S\, Avon\, IN 46123\, USA
END:VEVENT
BEGIN:VEVENT
DTSTART;TZID=America/Indiana/Indianapolis:20250302T170000
DTEND;TZID=America/Indiana/Indianapolis:20250302T183000
DTSTAMP:20260423T110555
CREATED:20240906T194715Z
LAST-MODIFIED:20250207T112744Z
UID:32015-1740934800-1740940200@welcometocrossroads.org
SUMMARY:Girl’s Ministry
DESCRIPTION:
URL:https://welcometocrossroads.org/event/girls-ministry-26/
END:VEVENT
BEGIN:VEVENT
DTSTART;TZID=America/Indiana/Indianapolis:20250302T173000
DTEND;TZID=America/Indiana/Indianapolis:20250302T180000
DTSTAMP:20260423T110555
CREATED:20230515T152654Z
LAST-MODIFIED:20250207T112749Z
UID:19832-1740936600-1740938400@welcometocrossroads.org
SUMMARY:CSM - Leader Huddle
DESCRIPTION:
URL:https://welcometocrossroads.org/event/csm-leader-huddle-323/
LOCATION:102
END:VEVENT
BEGIN:VEVENT
DTSTART;TZID=America/Indiana/Indianapolis:20250302T180000
DTEND;TZID=America/Indiana/Indianapolis:20250302T203000
DTSTAMP:20260423T110555
CREATED:20230811T044741Z
LAST-MODIFIED:20250207T112747Z
UID:24511-1740938400-1740947400@welcometocrossroads.org
SUMMARY:CSM - Crossroads Students Ministries
DESCRIPTION:
URL:https://welcometocrossroads.org/event/csm-crossroads-students-ministries-81/
LOCATION:CSM – 7209 E County Rd 100 S\, Avon\, IN\, United States
END:VEVENT
BEGIN:VEVENT
DTSTART;TZID=America/Indiana/Indianapolis:20250302T190000
DTEND;TZID=America/Indiana/Indianapolis:20250302T200000
DTSTAMP:20260423T110555
CREATED:20230515T152654Z
LAST-MODIFIED:20230610T021739Z
UID:19833-1740942000-1740945600@welcometocrossroads.org
SUMMARY:Mull Bible Study
DESCRIPTION:
URL:https://welcometocrossroads.org/event/mull-bible-study-138/
END:VEVENT
BEGIN:VEVENT
DTSTART;TZID=America/Indiana/Indianapolis:20250302T190000
DTEND;TZID=America/Indiana/Indianapolis:20250302T200000
DTSTAMP:20260423T110555
CREATED:20230611T023246Z
LAST-MODIFIED:20231004T110607Z
UID:22884-1740942000-1740945600@welcometocrossroads.org
SUMMARY:Mull Bible Study
DESCRIPTION:
URL:https://welcometocrossroads.org/event/mull-bible-study-243/
END:VEVENT
END:VCALENDAR