BEGIN:VCALENDAR
VERSION:2.0
PRODID:-//Crossroads Church - ECPv6.15.17.1//NONSGML v1.0//EN
CALSCALE:GREGORIAN
METHOD:PUBLISH
X-WR-CALNAME:Crossroads Church
X-ORIGINAL-URL:https://welcometocrossroads.org
X-WR-CALDESC:Events for Crossroads Church
REFRESH-INTERVAL;VALUE=DURATION:PT1H
X-Robots-Tag:noindex
X-PUBLISHED-TTL:PT1H
BEGIN:VTIMEZONE
TZID:America/Indiana/Indianapolis
BEGIN:DAYLIGHT
TZOFFSETFROM:-0500
TZOFFSETTO:-0400
TZNAME:EDT
DTSTART:20250309T070000
END:DAYLIGHT
BEGIN:STANDARD
TZOFFSETFROM:-0400
TZOFFSETTO:-0500
TZNAME:EST
DTSTART:20251102T060000
END:STANDARD
BEGIN:DAYLIGHT
TZOFFSETFROM:-0500
TZOFFSETTO:-0400
TZNAME:EDT
DTSTART:20260308T070000
END:DAYLIGHT
BEGIN:STANDARD
TZOFFSETFROM:-0400
TZOFFSETTO:-0500
TZNAME:EST
DTSTART:20261101T060000
END:STANDARD
BEGIN:DAYLIGHT
TZOFFSETFROM:-0500
TZOFFSETTO:-0400
TZNAME:EDT
DTSTART:20270314T070000
END:DAYLIGHT
BEGIN:STANDARD
TZOFFSETFROM:-0400
TZOFFSETTO:-0500
TZNAME:EST
DTSTART:20271107T060000
END:STANDARD
END:VTIMEZONE
BEGIN:VEVENT
DTSTART;TZID=America/Indiana/Indianapolis:20260112T133000
DTEND;TZID=America/Indiana/Indianapolis:20260112T153000
DTSTAMP:20260422T022357
CREATED:20260108T192615Z
LAST-MODIFIED:20260108T192615Z
UID:41132-1768224600-1768231800@welcometocrossroads.org
SUMMARY:Worship Center Being Cleaned
DESCRIPTION:The Worship Center is being cleaned at this time. Please utilize the Dream Team Lounge to pray!
URL:https://welcometocrossroads.org/event/worship-center-being-cleaned-3/
END:VEVENT
BEGIN:VEVENT
DTSTART;TZID=America/Indiana/Indianapolis:20260112T183000
DTEND;TZID=America/Indiana/Indianapolis:20260112T203000
DTSTAMP:20260422T022357
CREATED:20240114T072233Z
LAST-MODIFIED:20241203T171815Z
UID:27432-1768242600-1768249800@welcometocrossroads.org
SUMMARY:Joshua Men
DESCRIPTION:
URL:https://welcometocrossroads.org/event/joshuas-men-106/
END:VEVENT
BEGIN:VEVENT
DTSTART;TZID=America/Indiana/Indianapolis:20260112T183000
DTEND;TZID=America/Indiana/Indianapolis:20260112T203000
DTSTAMP:20260422T022357
CREATED:20250322T113541Z
LAST-MODIFIED:20251117T061847Z
UID:35040-1768242600-1768249800@welcometocrossroads.org
SUMMARY:Joshua Men
DESCRIPTION:
URL:https://welcometocrossroads.org/event/joshua-men-16/
END:VEVENT
BEGIN:VEVENT
DTSTART;TZID=America/Indiana/Indianapolis:20260112T183000
DTEND;TZID=America/Indiana/Indianapolis:20260112T203000
DTSTAMP:20260422T022357
CREATED:20250322T113543Z
LAST-MODIFIED:20260108T192617Z
UID:35041-1768242600-1768249800@welcometocrossroads.org
SUMMARY:Divorce Care
DESCRIPTION:
URL:https://welcometocrossroads.org/event/divorce-care-285/
END:VEVENT
BEGIN:VEVENT
DTSTART;TZID=America/Indiana/Indianapolis:20260112T190000
DTEND;TZID=America/Indiana/Indianapolis:20260112T203000
DTSTAMP:20260422T022357
CREATED:20240114T072234Z
LAST-MODIFIED:20260108T192616Z
UID:27433-1768244400-1768249800@welcometocrossroads.org
SUMMARY:Hey Girl Life Group
DESCRIPTION:
URL:https://welcometocrossroads.org/event/hey-girl-life-group-297/
END:VEVENT
END:VCALENDAR