BEGIN:VCALENDAR
VERSION:2.0
PRODID:-//Crossroads Church - ECPv6.15.17.1//NONSGML v1.0//EN
CALSCALE:GREGORIAN
METHOD:PUBLISH
X-WR-CALNAME:Crossroads Church
X-ORIGINAL-URL:https://welcometocrossroads.org
X-WR-CALDESC:Events for Crossroads Church
REFRESH-INTERVAL;VALUE=DURATION:PT1H
X-Robots-Tag:noindex
X-PUBLISHED-TTL:PT1H
BEGIN:VTIMEZONE
TZID:America/Indiana/Indianapolis
BEGIN:DAYLIGHT
TZOFFSETFROM:-0500
TZOFFSETTO:-0400
TZNAME:EDT
DTSTART:20250309T070000
END:DAYLIGHT
BEGIN:STANDARD
TZOFFSETFROM:-0400
TZOFFSETTO:-0500
TZNAME:EST
DTSTART:20251102T060000
END:STANDARD
BEGIN:DAYLIGHT
TZOFFSETFROM:-0500
TZOFFSETTO:-0400
TZNAME:EDT
DTSTART:20260308T070000
END:DAYLIGHT
BEGIN:STANDARD
TZOFFSETFROM:-0400
TZOFFSETTO:-0500
TZNAME:EST
DTSTART:20261101T060000
END:STANDARD
BEGIN:DAYLIGHT
TZOFFSETFROM:-0500
TZOFFSETTO:-0400
TZNAME:EDT
DTSTART:20270314T070000
END:DAYLIGHT
BEGIN:STANDARD
TZOFFSETFROM:-0400
TZOFFSETTO:-0500
TZNAME:EST
DTSTART:20271107T060000
END:STANDARD
END:VTIMEZONE
BEGIN:VEVENT
DTSTART;TZID=America/Indiana/Indianapolis:20260421T090000
DTEND;TZID=America/Indiana/Indianapolis:20260421T130000
DTSTAMP:20260421T012609
CREATED:20240422T052821Z
LAST-MODIFIED:20240624T221745Z
UID:29631-1776762000-1776776400@welcometocrossroads.org
SUMMARY:S-Meeting
DESCRIPTION:
URL:https://welcometocrossroads.org/event/s-meeting-693/
END:VEVENT
BEGIN:VEVENT
DTSTART;TZID=America/Indiana/Indianapolis:20260421T093000
DTEND;TZID=America/Indiana/Indianapolis:20260421T123000
DTSTAMP:20260421T012609
CREATED:20240812T224854Z
LAST-MODIFIED:20240915T231430Z
UID:31402-1776763800-1776774600@welcometocrossroads.org
SUMMARY:S-Meeting
DESCRIPTION:
URL:https://welcometocrossroads.org/event/s-meeting-789/
END:VEVENT
BEGIN:VEVENT
DTSTART;TZID=America/Indiana/Indianapolis:20260421T093000
DTEND;TZID=America/Indiana/Indianapolis:20260421T123000
DTSTAMP:20260421T012609
CREATED:20240927T140507Z
LAST-MODIFIED:20251117T072907Z
UID:33412-1776763800-1776774600@welcometocrossroads.org
SUMMARY:S-Meeting
DESCRIPTION:
URL:https://welcometocrossroads.org/event/s-meeting-892/
END:VEVENT
BEGIN:VEVENT
DTSTART;TZID=America/Indiana/Indianapolis:20260421T093000
DTEND;TZID=America/Indiana/Indianapolis:20260421T123000
DTSTAMP:20260421T012609
CREATED:20260108T194152Z
LAST-MODIFIED:20260108T194152Z
UID:41235-1776763800-1776774600@welcometocrossroads.org
SUMMARY:S-Meeting
DESCRIPTION:
URL:https://welcometocrossroads.org/event/s-meeting-992/
END:VEVENT
BEGIN:VEVENT
DTSTART;TZID=America/Indiana/Indianapolis:20260421T100000
DTEND;TZID=America/Indiana/Indianapolis:20260421T110000
DTSTAMP:20260421T012609
CREATED:20241010T130816Z
LAST-MODIFIED:20260108T194151Z
UID:33794-1776765600-1776769200@welcometocrossroads.org
SUMMARY:Daycare Gymnastics
DESCRIPTION:
URL:https://welcometocrossroads.org/event/daycare-gymnastics-80/
END:VEVENT
BEGIN:VEVENT
DTSTART;TZID=America/Indiana/Indianapolis:20260421T100000
DTEND;TZID=America/Indiana/Indianapolis:20260421T123000
DTSTAMP:20260421T012609
CREATED:20240422T052820Z
LAST-MODIFIED:20240422T052820Z
UID:29630-1776765600-1776774600@welcometocrossroads.org
SUMMARY:Ladies Bible Study
DESCRIPTION:
URL:https://welcometocrossroads.org/event/ladies-bible-study-243/
END:VEVENT
BEGIN:VEVENT
DTSTART;TZID=America/Indiana/Indianapolis:20260421T100000
DTEND;TZID=America/Indiana/Indianapolis:20260421T123000
DTSTAMP:20260421T012609
CREATED:20240425T123914Z
LAST-MODIFIED:20260108T194149Z
UID:29907-1776765600-1776774600@welcometocrossroads.org
SUMMARY:LBS
DESCRIPTION:
URL:https://welcometocrossroads.org/event/ladies-bible-study-348/
END:VEVENT
BEGIN:VEVENT
DTSTART;TZID=America/Indiana/Indianapolis:20260421T183000
DTEND;TZID=America/Indiana/Indianapolis:20260421T200000
DTSTAMP:20260421T012609
CREATED:20240422T052827Z
LAST-MODIFIED:20240618T212410Z
UID:29632-1776796200-1776801600@welcometocrossroads.org
SUMMARY:Cranor Life Group
DESCRIPTION:A Marriage Life Group Where all married couples are welcome.
URL:https://welcometocrossroads.org/event/cranor-life-group-137/
END:VEVENT
BEGIN:VEVENT
DTSTART;TZID=America/Indiana/Indianapolis:20260421T190000
DTEND;TZID=America/Indiana/Indianapolis:20260421T203000
DTSTAMP:20260421T012609
CREATED:20250525T162843Z
LAST-MODIFIED:20260108T194153Z
UID:36181-1776798000-1776803400@welcometocrossroads.org
SUMMARY:The Frontline
DESCRIPTION:
URL:https://welcometocrossroads.org/event/the-frontline-47/
END:VEVENT
BEGIN:VEVENT
DTSTART;TZID=America/Indiana/Indianapolis:20260421T190000
DTEND;TZID=America/Indiana/Indianapolis:20260421T210000
DTSTAMP:20260421T012609
CREATED:20240422T052835Z
LAST-MODIFIED:20251117T072908Z
UID:29633-1776798000-1776805200@welcometocrossroads.org
SUMMARY:Snack and Chat
DESCRIPTION:We are a women’s book club that meets the 1st and 3rd Tuesdays of the Month. We will choose a book and discuss it when we meet. Come enjoy a yummy snack and great conversation!
URL:https://welcometocrossroads.org/event/snack-and-chat-65/
LOCATION:Crossroads Church  – 7209 E County Rd 100 S\, Avon\, IN\, United States
END:VEVENT
END:VCALENDAR