BEGIN:VCALENDAR
VERSION:2.0
PRODID:-//Crossroads Church - ECPv6.15.17.1//NONSGML v1.0//EN
CALSCALE:GREGORIAN
METHOD:PUBLISH
X-WR-CALNAME:Crossroads Church
X-ORIGINAL-URL:https://welcometocrossroads.org
X-WR-CALDESC:Events for Crossroads Church
REFRESH-INTERVAL;VALUE=DURATION:PT1H
X-Robots-Tag:noindex
X-PUBLISHED-TTL:PT1H
BEGIN:VTIMEZONE
TZID:America/Indiana/Indianapolis
BEGIN:DAYLIGHT
TZOFFSETFROM:-0500
TZOFFSETTO:-0400
TZNAME:EDT
DTSTART:20260308T070000
END:DAYLIGHT
BEGIN:STANDARD
TZOFFSETFROM:-0400
TZOFFSETTO:-0500
TZNAME:EST
DTSTART:20261101T060000
END:STANDARD
BEGIN:DAYLIGHT
TZOFFSETFROM:-0500
TZOFFSETTO:-0400
TZNAME:EDT
DTSTART:20270314T070000
END:DAYLIGHT
BEGIN:STANDARD
TZOFFSETFROM:-0400
TZOFFSETTO:-0500
TZNAME:EST
DTSTART:20271107T060000
END:STANDARD
BEGIN:DAYLIGHT
TZOFFSETFROM:-0500
TZOFFSETTO:-0400
TZNAME:EDT
DTSTART:20280312T070000
END:DAYLIGHT
BEGIN:STANDARD
TZOFFSETFROM:-0400
TZOFFSETTO:-0500
TZNAME:EST
DTSTART:20281105T060000
END:STANDARD
END:VTIMEZONE
BEGIN:VEVENT
DTSTART;TZID=America/Indiana/Indianapolis:20270121T133000
DTEND;TZID=America/Indiana/Indianapolis:20270121T143000
DTSTAMP:20260421T101909
CREATED:20260108T202121Z
LAST-MODIFIED:20260108T202121Z
UID:41408-1800538200-1800541800@welcometocrossroads.org
SUMMARY:Operations Meeting
DESCRIPTION:
URL:https://welcometocrossroads.org/event/operations-meeting-55/
END:VEVENT
BEGIN:VEVENT
DTSTART;TZID=America/Indiana/Indianapolis:20270121T140000
DTEND;TZID=America/Indiana/Indianapolis:20270121T150000
DTSTAMP:20260421T101909
CREATED:20250322T125723Z
LAST-MODIFIED:20251117T101843Z
UID:35575-1800540000-1800543600@welcometocrossroads.org
SUMMARY:Operations Weekly Meeting
DESCRIPTION:
URL:https://welcometocrossroads.org/event/operations-weekly-meeting-280/
LOCATION:Crossroads Church – 7209 E County Rd 100 S\, Avon\, IN\, United States
END:VEVENT
BEGIN:VEVENT
DTSTART;TZID=America/Indiana/Indianapolis:20270121T150000
DTEND;TZID=America/Indiana/Indianapolis:20270121T170000
DTSTAMP:20260421T101909
CREATED:20251101T044027Z
LAST-MODIFIED:20251117T101844Z
UID:40586-1800543600-1800550800@welcometocrossroads.org
SUMMARY:Worship Center reserved for filming
DESCRIPTION:
URL:https://welcometocrossroads.org/event/worship-center-reserved-for-filming-64/
END:VEVENT
BEGIN:VEVENT
DTSTART;TZID=America/Indiana/Indianapolis:20270121T183000
DTEND;TZID=America/Indiana/Indianapolis:20270121T200000
DTSTAMP:20260421T101909
CREATED:20250322T125726Z
LAST-MODIFIED:20250322T125726Z
UID:35576-1800556200-1800561600@welcometocrossroads.org
SUMMARY:Men's Bible Study
DESCRIPTION:
URL:https://welcometocrossroads.org/event/mens-bible-study-115/
END:VEVENT
BEGIN:VEVENT
DTSTART;TZID=America/Indiana/Indianapolis:20270121T183000
DTEND;TZID=America/Indiana/Indianapolis:20270121T200000
DTSTAMP:20260421T101909
CREATED:20250525T173040Z
LAST-MODIFIED:20260108T202123Z
UID:36718-1800556200-1800561600@welcometocrossroads.org
SUMMARY:Men's Bible Study
DESCRIPTION:
URL:https://welcometocrossroads.org/event/mens-bible-study-210/
END:VEVENT
BEGIN:VEVENT
DTSTART;TZID=America/Indiana/Indianapolis:20270121T183000
DTEND;TZID=America/Indiana/Indianapolis:20270121T203000
DTSTAMP:20260421T101909
CREATED:20250322T125730Z
LAST-MODIFIED:20260108T202124Z
UID:35578-1800556200-1800563400@welcometocrossroads.org
SUMMARY:Women in the Word
DESCRIPTION:
URL:https://welcometocrossroads.org/event/women-in-the-word-343/
END:VEVENT
BEGIN:VEVENT
DTSTART;TZID=America/Indiana/Indianapolis:20270121T190000
DTEND;TZID=America/Indiana/Indianapolis:20270121T203000
DTSTAMP:20260421T101909
CREATED:20250322T125728Z
LAST-MODIFIED:20260108T202122Z
UID:35577-1800558000-1800563400@welcometocrossroads.org
SUMMARY:Worship Practice
DESCRIPTION:Weekly Worship Team Practice to Prepare for the weekend
URL:https://welcometocrossroads.org/event/worship-practice-338/
END:VEVENT
END:VCALENDAR