BEGIN:VCALENDAR
VERSION:2.0
PRODID:-//Crossroads Church - ECPv6.15.17.1//NONSGML v1.0//EN
CALSCALE:GREGORIAN
METHOD:PUBLISH
X-ORIGINAL-URL:https://welcometocrossroads.org
X-WR-CALDESC:Events for Crossroads Church
REFRESH-INTERVAL;VALUE=DURATION:PT1H
X-Robots-Tag:noindex
X-PUBLISHED-TTL:PT1H
BEGIN:VTIMEZONE
TZID:America/Indiana/Indianapolis
BEGIN:DAYLIGHT
TZOFFSETFROM:-0500
TZOFFSETTO:-0400
TZNAME:EDT
DTSTART:20260308T070000
END:DAYLIGHT
BEGIN:STANDARD
TZOFFSETFROM:-0400
TZOFFSETTO:-0500
TZNAME:EST
DTSTART:20261101T060000
END:STANDARD
BEGIN:DAYLIGHT
TZOFFSETFROM:-0500
TZOFFSETTO:-0400
TZNAME:EDT
DTSTART:20270314T070000
END:DAYLIGHT
BEGIN:STANDARD
TZOFFSETFROM:-0400
TZOFFSETTO:-0500
TZNAME:EST
DTSTART:20271107T060000
END:STANDARD
BEGIN:DAYLIGHT
TZOFFSETFROM:-0500
TZOFFSETTO:-0400
TZNAME:EDT
DTSTART:20280312T070000
END:DAYLIGHT
BEGIN:STANDARD
TZOFFSETFROM:-0400
TZOFFSETTO:-0500
TZNAME:EST
DTSTART:20281105T060000
END:STANDARD
END:VTIMEZONE
BEGIN:VEVENT
DTSTART;TZID=America/Indiana/Indianapolis:20270126T093000
DTEND;TZID=America/Indiana/Indianapolis:20270126T123000
DTSTAMP:20260421T182512
CREATED:20250322T125822Z
LAST-MODIFIED:20251117T102121Z
UID:35593-1800955800-1800966600@welcometocrossroads.org
SUMMARY:S-Meeting
DESCRIPTION:
URL:https://welcometocrossroads.org/event/s-meeting-933/
END:VEVENT
BEGIN:VEVENT
DTSTART;TZID=America/Indiana/Indianapolis:20270126T093000
DTEND;TZID=America/Indiana/Indianapolis:20270126T123000
DTSTAMP:20260421T182512
CREATED:20260108T202208Z
LAST-MODIFIED:20260108T202208Z
UID:41409-1800955800-1800966600@welcometocrossroads.org
SUMMARY:S-Meeting
DESCRIPTION:
URL:https://welcometocrossroads.org/event/s-meeting-1032/
END:VEVENT
BEGIN:VEVENT
DTSTART;TZID=America/Indiana/Indianapolis:20270126T100000
DTEND;TZID=America/Indiana/Indianapolis:20270126T110000
DTSTAMP:20260421T182512
CREATED:20250322T125825Z
LAST-MODIFIED:20260108T202154Z
UID:35594-1800957600-1800961200@welcometocrossroads.org
SUMMARY:Daycare Gymnastics
DESCRIPTION:
URL:https://welcometocrossroads.org/event/daycare-gymnastics-120/
END:VEVENT
BEGIN:VEVENT
DTSTART;TZID=America/Indiana/Indianapolis:20270126T100000
DTEND;TZID=America/Indiana/Indianapolis:20270126T123000
DTSTAMP:20260421T182512
CREATED:20250322T125820Z
LAST-MODIFIED:20260108T202155Z
UID:35592-1800957600-1800966600@welcometocrossroads.org
SUMMARY:LBS
DESCRIPTION:
URL:https://welcometocrossroads.org/event/lbs-31/
END:VEVENT
BEGIN:VEVENT
DTSTART;TZID=America/Indiana/Indianapolis:20270126T190000
DTEND;TZID=America/Indiana/Indianapolis:20270126T203000
DTSTAMP:20260421T182512
CREATED:20250525T173154Z
LAST-MODIFIED:20260108T202210Z
UID:36736-1800990000-1800995400@welcometocrossroads.org
SUMMARY:The Frontline
DESCRIPTION:
URL:https://welcometocrossroads.org/event/the-frontline-87/
END:VEVENT
END:VCALENDAR