BEGIN:VCALENDAR
VERSION:2.0
PRODID:-//Crossroads Church - ECPv6.15.17.1//NONSGML v1.0//EN
CALSCALE:GREGORIAN
METHOD:PUBLISH
X-ORIGINAL-URL:https://welcometocrossroads.org
X-WR-CALDESC:Events for Crossroads Church
REFRESH-INTERVAL;VALUE=DURATION:PT1H
X-Robots-Tag:noindex
X-PUBLISHED-TTL:PT1H
BEGIN:VTIMEZONE
TZID:America/Indiana/Indianapolis
BEGIN:DAYLIGHT
TZOFFSETFROM:-0500
TZOFFSETTO:-0400
TZNAME:EDT
DTSTART:20260308T070000
END:DAYLIGHT
BEGIN:STANDARD
TZOFFSETFROM:-0400
TZOFFSETTO:-0500
TZNAME:EST
DTSTART:20261101T060000
END:STANDARD
BEGIN:DAYLIGHT
TZOFFSETFROM:-0500
TZOFFSETTO:-0400
TZNAME:EDT
DTSTART:20270314T070000
END:DAYLIGHT
BEGIN:STANDARD
TZOFFSETFROM:-0400
TZOFFSETTO:-0500
TZNAME:EST
DTSTART:20271107T060000
END:STANDARD
BEGIN:DAYLIGHT
TZOFFSETFROM:-0500
TZOFFSETTO:-0400
TZNAME:EDT
DTSTART:20280312T070000
END:DAYLIGHT
BEGIN:STANDARD
TZOFFSETFROM:-0400
TZOFFSETTO:-0500
TZNAME:EST
DTSTART:20281105T060000
END:STANDARD
END:VTIMEZONE
BEGIN:VEVENT
DTSTART;TZID=America/Indiana/Indianapolis:20270202T093000
DTEND;TZID=America/Indiana/Indianapolis:20270202T123000
DTSTAMP:20260420T055142
CREATED:20250322T125937Z
LAST-MODIFIED:20251117T102414Z
UID:35612-1801560600-1801571400@welcometocrossroads.org
SUMMARY:S-Meeting
DESCRIPTION:
URL:https://welcometocrossroads.org/event/s-meeting-934/
END:VEVENT
BEGIN:VEVENT
DTSTART;TZID=America/Indiana/Indianapolis:20270202T093000
DTEND;TZID=America/Indiana/Indianapolis:20270202T123000
DTSTAMP:20260420T055142
CREATED:20260108T202243Z
LAST-MODIFIED:20260108T202243Z
UID:41413-1801560600-1801571400@welcometocrossroads.org
SUMMARY:S-Meeting
DESCRIPTION:
URL:https://welcometocrossroads.org/event/s-meeting-1033/
END:VEVENT
BEGIN:VEVENT
DTSTART;TZID=America/Indiana/Indianapolis:20270202T100000
DTEND;TZID=America/Indiana/Indianapolis:20270202T110000
DTSTAMP:20260420T055142
CREATED:20250322T125939Z
LAST-MODIFIED:20260108T202244Z
UID:35613-1801562400-1801566000@welcometocrossroads.org
SUMMARY:Daycare Gymnastics
DESCRIPTION:
URL:https://welcometocrossroads.org/event/daycare-gymnastics-121/
END:VEVENT
BEGIN:VEVENT
DTSTART;TZID=America/Indiana/Indianapolis:20270202T100000
DTEND;TZID=America/Indiana/Indianapolis:20270202T123000
DTSTAMP:20260420T055142
CREATED:20250322T125934Z
LAST-MODIFIED:20260108T202257Z
UID:35611-1801562400-1801571400@welcometocrossroads.org
SUMMARY:LBS
DESCRIPTION:
URL:https://welcometocrossroads.org/event/lbs-32/
END:VEVENT
BEGIN:VEVENT
DTSTART;TZID=America/Indiana/Indianapolis:20270202T190000
DTEND;TZID=America/Indiana/Indianapolis:20270202T203000
DTSTAMP:20260420T055142
CREATED:20250525T173318Z
LAST-MODIFIED:20260108T202258Z
UID:36756-1801594800-1801600200@welcometocrossroads.org
SUMMARY:The Frontline
DESCRIPTION:
URL:https://welcometocrossroads.org/event/the-frontline-88/
END:VEVENT
BEGIN:VEVENT
DTSTART;TZID=America/Indiana/Indianapolis:20270202T190000
DTEND;TZID=America/Indiana/Indianapolis:20270202T210000
DTSTAMP:20260420T055142
CREATED:20250322T125942Z
LAST-MODIFIED:20251006T234840Z
UID:35614-1801594800-1801602000@welcometocrossroads.org
SUMMARY:Snack and Chat
DESCRIPTION:We are a women’s book club that meets the 1st and 3rd Tuesdays of the Month. We will choose a book and discuss it when we meet. Come enjoy a yummy snack and great conversation!
URL:https://welcometocrossroads.org/event/snack-and-chat-84/
LOCATION:Crossroads Church  – 7209 E County Rd 100 S\, Avon\, IN\, United States
END:VEVENT
END:VCALENDAR