BEGIN:VCALENDAR
VERSION:2.0
PRODID:-//Crossroads Church - ECPv6.15.17.1//NONSGML v1.0//EN
CALSCALE:GREGORIAN
METHOD:PUBLISH
X-WR-CALNAME:Crossroads Church
X-ORIGINAL-URL:https://welcometocrossroads.org
X-WR-CALDESC:Events for Crossroads Church
REFRESH-INTERVAL;VALUE=DURATION:PT1H
X-Robots-Tag:noindex
X-PUBLISHED-TTL:PT1H
BEGIN:VTIMEZONE
TZID:America/Indiana/Indianapolis
BEGIN:DAYLIGHT
TZOFFSETFROM:-0500
TZOFFSETTO:-0400
TZNAME:EDT
DTSTART:20260308T070000
END:DAYLIGHT
BEGIN:STANDARD
TZOFFSETFROM:-0400
TZOFFSETTO:-0500
TZNAME:EST
DTSTART:20261101T060000
END:STANDARD
BEGIN:DAYLIGHT
TZOFFSETFROM:-0500
TZOFFSETTO:-0400
TZNAME:EDT
DTSTART:20270314T070000
END:DAYLIGHT
BEGIN:STANDARD
TZOFFSETFROM:-0400
TZOFFSETTO:-0500
TZNAME:EST
DTSTART:20271107T060000
END:STANDARD
BEGIN:DAYLIGHT
TZOFFSETFROM:-0500
TZOFFSETTO:-0400
TZNAME:EDT
DTSTART:20280312T070000
END:DAYLIGHT
BEGIN:STANDARD
TZOFFSETFROM:-0400
TZOFFSETTO:-0500
TZNAME:EST
DTSTART:20281105T060000
END:STANDARD
END:VTIMEZONE
BEGIN:VEVENT
DTSTART;TZID=America/Indiana/Indianapolis:20270204T133000
DTEND;TZID=America/Indiana/Indianapolis:20270204T143000
DTSTAMP:20260420T120313
CREATED:20260108T202305Z
LAST-MODIFIED:20260108T202305Z
UID:41416-1801747800-1801751400@welcometocrossroads.org
SUMMARY:Operations Meeting
DESCRIPTION:
URL:https://welcometocrossroads.org/event/operations-meeting-57/
END:VEVENT
BEGIN:VEVENT
DTSTART;TZID=America/Indiana/Indianapolis:20270204T140000
DTEND;TZID=America/Indiana/Indianapolis:20270204T150000
DTSTAMP:20260420T120313
CREATED:20250322T130013Z
LAST-MODIFIED:20251117T102638Z
UID:35621-1801749600-1801753200@welcometocrossroads.org
SUMMARY:Operations Weekly Meeting
DESCRIPTION:
URL:https://welcometocrossroads.org/event/operations-weekly-meeting-282/
LOCATION:Crossroads Church – 7209 E County Rd 100 S\, Avon\, IN\, United States
END:VEVENT
BEGIN:VEVENT
DTSTART;TZID=America/Indiana/Indianapolis:20270204T150000
DTEND;TZID=America/Indiana/Indianapolis:20270204T170000
DTSTAMP:20260420T120313
CREATED:20251101T044224Z
LAST-MODIFIED:20251117T102639Z
UID:40589-1801753200-1801760400@welcometocrossroads.org
SUMMARY:Worship Center reserved for filming
DESCRIPTION:
URL:https://welcometocrossroads.org/event/worship-center-reserved-for-filming-66/
END:VEVENT
BEGIN:VEVENT
DTSTART;TZID=America/Indiana/Indianapolis:20270204T183000
DTEND;TZID=America/Indiana/Indianapolis:20270204T200000
DTSTAMP:20260420T120313
CREATED:20250322T130018Z
LAST-MODIFIED:20250322T130018Z
UID:35623-1801765800-1801771200@welcometocrossroads.org
SUMMARY:Men's Bible Study
DESCRIPTION:
URL:https://welcometocrossroads.org/event/mens-bible-study-117/
END:VEVENT
BEGIN:VEVENT
DTSTART;TZID=America/Indiana/Indianapolis:20270204T183000
DTEND;TZID=America/Indiana/Indianapolis:20270204T200000
DTSTAMP:20260420T120313
CREATED:20250525T173401Z
LAST-MODIFIED:20260108T202307Z
UID:36765-1801765800-1801771200@welcometocrossroads.org
SUMMARY:Men's Bible Study
DESCRIPTION:
URL:https://welcometocrossroads.org/event/mens-bible-study-212/
END:VEVENT
BEGIN:VEVENT
DTSTART;TZID=America/Indiana/Indianapolis:20270204T183000
DTEND;TZID=America/Indiana/Indianapolis:20270204T203000
DTSTAMP:20260420T120313
CREATED:20250322T130016Z
LAST-MODIFIED:20260108T202320Z
UID:35622-1801765800-1801773000@welcometocrossroads.org
SUMMARY:Women in the Word
DESCRIPTION:
URL:https://welcometocrossroads.org/event/women-in-the-word-345/
END:VEVENT
BEGIN:VEVENT
DTSTART;TZID=America/Indiana/Indianapolis:20270204T190000
DTEND;TZID=America/Indiana/Indianapolis:20270204T203000
DTSTAMP:20260420T120313
CREATED:20250322T130021Z
LAST-MODIFIED:20260108T202308Z
UID:35624-1801767600-1801773000@welcometocrossroads.org
SUMMARY:Worship Practice
DESCRIPTION:Weekly Worship Team Practice to Prepare for the weekend
URL:https://welcometocrossroads.org/event/worship-practice-340/
END:VEVENT
END:VCALENDAR