BEGIN:VCALENDAR
VERSION:2.0
PRODID:-//Crossroads Church - ECPv6.15.17.1//NONSGML v1.0//EN
CALSCALE:GREGORIAN
METHOD:PUBLISH
X-ORIGINAL-URL:https://welcometocrossroads.org
X-WR-CALDESC:Events for Crossroads Church
REFRESH-INTERVAL;VALUE=DURATION:PT1H
X-Robots-Tag:noindex
X-PUBLISHED-TTL:PT1H
BEGIN:VTIMEZONE
TZID:America/Indiana/Indianapolis
BEGIN:DAYLIGHT
TZOFFSETFROM:-0500
TZOFFSETTO:-0400
TZNAME:EDT
DTSTART:20260308T070000
END:DAYLIGHT
BEGIN:STANDARD
TZOFFSETFROM:-0400
TZOFFSETTO:-0500
TZNAME:EST
DTSTART:20261101T060000
END:STANDARD
BEGIN:DAYLIGHT
TZOFFSETFROM:-0500
TZOFFSETTO:-0400
TZNAME:EDT
DTSTART:20270314T070000
END:DAYLIGHT
BEGIN:STANDARD
TZOFFSETFROM:-0400
TZOFFSETTO:-0500
TZNAME:EST
DTSTART:20271107T060000
END:STANDARD
BEGIN:DAYLIGHT
TZOFFSETFROM:-0500
TZOFFSETTO:-0400
TZNAME:EDT
DTSTART:20280312T070000
END:DAYLIGHT
BEGIN:STANDARD
TZOFFSETFROM:-0400
TZOFFSETTO:-0500
TZNAME:EST
DTSTART:20281105T060000
END:STANDARD
END:VTIMEZONE
BEGIN:VEVENT
DTSTART;TZID=America/Indiana/Indianapolis:20270207T080000
DTEND;TZID=America/Indiana/Indianapolis:20270207T084500
DTSTAMP:20260421T182517
CREATED:20250322T130044Z
LAST-MODIFIED:20260108T202324Z
UID:35627-1801987200-1801989900@welcometocrossroads.org
SUMMARY:Therefore Life Group
DESCRIPTION:
URL:https://welcometocrossroads.org/event/therefore-life-group-124/
END:VEVENT
BEGIN:VEVENT
DTSTART;TZID=America/Indiana/Indianapolis:20270207T103000
DTEND;TZID=America/Indiana/Indianapolis:20270207T123000
DTSTAMP:20260421T182517
CREATED:20250322T130050Z
LAST-MODIFIED:20260108T202326Z
UID:35629-1801996200-1802003400@welcometocrossroads.org
SUMMARY:Joyfully His LG
DESCRIPTION:
URL:https://welcometocrossroads.org/event/joyfully-his-lg-160/
END:VEVENT
BEGIN:VEVENT
DTSTART;TZID=America/Indiana/Indianapolis:20270207T110000
DTEND;TZID=America/Indiana/Indianapolis:20270207T113000
DTSTAMP:20260421T182517
CREATED:20250322T130047Z
LAST-MODIFIED:20260108T202325Z
UID:35628-1801998000-1801999800@welcometocrossroads.org
SUMMARY:Growth Track
DESCRIPTION:
URL:https://welcometocrossroads.org/event/growth-track-415/
LOCATION:Room 117 – Crossroads Church
END:VEVENT
BEGIN:VEVENT
DTSTART;TZID=America/Indiana/Indianapolis:20270207T133000
DTEND;TZID=America/Indiana/Indianapolis:20270207T160000
DTSTAMP:20260421T182517
CREATED:20250322T130052Z
LAST-MODIFIED:20260108T202327Z
UID:35630-1802007000-1802016000@welcometocrossroads.org
SUMMARY:Christ's Ambassadors
DESCRIPTION:
URL:https://welcometocrossroads.org/event/christs-ambassadors-145/
END:VEVENT
BEGIN:VEVENT
DTSTART;TZID=America/Indiana/Indianapolis:20270207T170000
DTEND;TZID=America/Indiana/Indianapolis:20270207T183000
DTSTAMP:20260421T182517
CREATED:20250322T130101Z
LAST-MODIFIED:20260108T202332Z
UID:35633-1802019600-1802025000@welcometocrossroads.org
SUMMARY:Girl’s Ministry
DESCRIPTION:
URL:https://welcometocrossroads.org/event/girls-ministry-127/
END:VEVENT
BEGIN:VEVENT
DTSTART;TZID=America/Indiana/Indianapolis:20270207T173000
DTEND;TZID=America/Indiana/Indianapolis:20270207T180000
DTSTAMP:20260421T182517
CREATED:20250322T130055Z
LAST-MODIFIED:20260108T202330Z
UID:35631-1802021400-1802023200@welcometocrossroads.org
SUMMARY:CSM - Leader Huddle
DESCRIPTION:
URL:https://welcometocrossroads.org/event/csm-leader-huddle-424/
LOCATION:102
END:VEVENT
BEGIN:VEVENT
DTSTART;TZID=America/Indiana/Indianapolis:20270207T180000
DTEND;TZID=America/Indiana/Indianapolis:20270207T203000
DTSTAMP:20260421T182517
CREATED:20250322T130058Z
LAST-MODIFIED:20260108T202329Z
UID:35632-1802023200-1802032200@welcometocrossroads.org
SUMMARY:CSM - Crossroads Students Ministries
DESCRIPTION:
URL:https://welcometocrossroads.org/event/csm-crossroads-students-ministries-182/
LOCATION:CSM – 7209 E County Rd 100 S\, Avon\, IN\, United States
END:VEVENT
END:VCALENDAR