BEGIN:VCALENDAR
VERSION:2.0
PRODID:-//Crossroads Church - ECPv6.15.17.1//NONSGML v1.0//EN
CALSCALE:GREGORIAN
METHOD:PUBLISH
X-ORIGINAL-URL:https://welcometocrossroads.org
X-WR-CALDESC:Events for Crossroads Church
REFRESH-INTERVAL;VALUE=DURATION:PT1H
X-Robots-Tag:noindex
X-PUBLISHED-TTL:PT1H
BEGIN:VTIMEZONE
TZID:America/Indiana/Indianapolis
BEGIN:DAYLIGHT
TZOFFSETFROM:-0500
TZOFFSETTO:-0400
TZNAME:EDT
DTSTART:20260308T070000
END:DAYLIGHT
BEGIN:STANDARD
TZOFFSETFROM:-0400
TZOFFSETTO:-0500
TZNAME:EST
DTSTART:20261101T060000
END:STANDARD
BEGIN:DAYLIGHT
TZOFFSETFROM:-0500
TZOFFSETTO:-0400
TZNAME:EDT
DTSTART:20270314T070000
END:DAYLIGHT
BEGIN:STANDARD
TZOFFSETFROM:-0400
TZOFFSETTO:-0500
TZNAME:EST
DTSTART:20271107T060000
END:STANDARD
BEGIN:DAYLIGHT
TZOFFSETFROM:-0500
TZOFFSETTO:-0400
TZNAME:EDT
DTSTART:20280312T070000
END:DAYLIGHT
BEGIN:STANDARD
TZOFFSETFROM:-0400
TZOFFSETTO:-0500
TZNAME:EST
DTSTART:20281105T060000
END:STANDARD
END:VTIMEZONE
BEGIN:VEVENT
DTSTART;TZID=America/Indiana/Indianapolis:20270221T080000
DTEND;TZID=America/Indiana/Indianapolis:20270221T084500
DTSTAMP:20260421T125238
CREATED:20250322T130344Z
LAST-MODIFIED:20260108T202524Z
UID:35673-1803196800-1803199500@welcometocrossroads.org
SUMMARY:Therefore Life Group
DESCRIPTION:
URL:https://welcometocrossroads.org/event/therefore-life-group-126/
END:VEVENT
BEGIN:VEVENT
DTSTART;TZID=America/Indiana/Indianapolis:20270221T090000
DTEND;TZID=America/Indiana/Indianapolis:20270221T130000
DTSTAMP:20260421T125238
CREATED:20250322T130415Z
LAST-MODIFIED:20260108T202525Z
UID:35676-1803200400-1803214800@welcometocrossroads.org
SUMMARY:Communion Sunday
DESCRIPTION:
URL:https://welcometocrossroads.org/event/communion-sunday-42/
END:VEVENT
BEGIN:VEVENT
DTSTART;TZID=America/Indiana/Indianapolis:20270221T110000
DTEND;TZID=America/Indiana/Indianapolis:20270221T115900
DTSTAMP:20260421T125238
CREATED:20250322T130347Z
LAST-MODIFIED:20260108T202526Z
UID:35674-1803207600-1803211140@welcometocrossroads.org
SUMMARY:Growth Track
DESCRIPTION:
URL:https://welcometocrossroads.org/event/growth-track-417/
LOCATION:Room 117
END:VEVENT
BEGIN:VEVENT
DTSTART;TZID=America/Indiana/Indianapolis:20270221T123000
DTEND;TZID=America/Indiana/Indianapolis:20270221T143000
DTSTAMP:20260421T125238
CREATED:20250322T130413Z
LAST-MODIFIED:20260108T202529Z
UID:35675-1803213000-1803220200@welcometocrossroads.org
SUMMARY:Joyfully His LG
DESCRIPTION:
URL:https://welcometocrossroads.org/event/joyfully-his-lg-161/
END:VEVENT
BEGIN:VEVENT
DTSTART;TZID=America/Indiana/Indianapolis:20270221T133000
DTEND;TZID=America/Indiana/Indianapolis:20270221T160000
DTSTAMP:20260421T125238
CREATED:20250322T130417Z
LAST-MODIFIED:20260108T202528Z
UID:35677-1803216600-1803225600@welcometocrossroads.org
SUMMARY:Christ's Ambassadors
DESCRIPTION:
URL:https://welcometocrossroads.org/event/christs-ambassadors-147/
END:VEVENT
BEGIN:VEVENT
DTSTART;TZID=America/Indiana/Indianapolis:20270221T170000
DTEND;TZID=America/Indiana/Indianapolis:20270221T183000
DTSTAMP:20260421T125238
CREATED:20250322T130423Z
LAST-MODIFIED:20260108T202543Z
UID:35679-1803229200-1803234600@welcometocrossroads.org
SUMMARY:Girl’s Ministry
DESCRIPTION:
URL:https://welcometocrossroads.org/event/girls-ministry-129/
END:VEVENT
BEGIN:VEVENT
DTSTART;TZID=America/Indiana/Indianapolis:20270221T173000
DTEND;TZID=America/Indiana/Indianapolis:20270221T180000
DTSTAMP:20260421T125238
CREATED:20250322T130421Z
LAST-MODIFIED:20260108T202530Z
UID:35678-1803231000-1803232800@welcometocrossroads.org
SUMMARY:CSM - Leader Huddle
DESCRIPTION:
URL:https://welcometocrossroads.org/event/csm-leader-huddle-426/
LOCATION:102
END:VEVENT
BEGIN:VEVENT
DTSTART;TZID=America/Indiana/Indianapolis:20270221T180000
DTEND;TZID=America/Indiana/Indianapolis:20270221T203000
DTSTAMP:20260421T125238
CREATED:20250322T130426Z
LAST-MODIFIED:20260108T202545Z
UID:35680-1803232800-1803241800@welcometocrossroads.org
SUMMARY:CSM - Crossroads Students Ministries
DESCRIPTION:
URL:https://welcometocrossroads.org/event/csm-crossroads-students-ministries-184/
LOCATION:CSM – 7209 E County Rd 100 S\, Avon\, IN\, United States
END:VEVENT
END:VCALENDAR