BEGIN:VCALENDAR
VERSION:2.0
PRODID:-//Crossroads Church - ECPv6.15.17.1//NONSGML v1.0//EN
CALSCALE:GREGORIAN
METHOD:PUBLISH
X-ORIGINAL-URL:https://welcometocrossroads.org
X-WR-CALDESC:Events for Crossroads Church
REFRESH-INTERVAL;VALUE=DURATION:PT1H
X-Robots-Tag:noindex
X-PUBLISHED-TTL:PT1H
BEGIN:VTIMEZONE
TZID:America/Indiana/Indianapolis
BEGIN:DAYLIGHT
TZOFFSETFROM:-0500
TZOFFSETTO:-0400
TZNAME:EDT
DTSTART:20260308T070000
END:DAYLIGHT
BEGIN:STANDARD
TZOFFSETFROM:-0400
TZOFFSETTO:-0500
TZNAME:EST
DTSTART:20261101T060000
END:STANDARD
BEGIN:DAYLIGHT
TZOFFSETFROM:-0500
TZOFFSETTO:-0400
TZNAME:EDT
DTSTART:20270314T070000
END:DAYLIGHT
BEGIN:STANDARD
TZOFFSETFROM:-0400
TZOFFSETTO:-0500
TZNAME:EST
DTSTART:20271107T060000
END:STANDARD
BEGIN:DAYLIGHT
TZOFFSETFROM:-0500
TZOFFSETTO:-0400
TZNAME:EDT
DTSTART:20280312T070000
END:DAYLIGHT
BEGIN:STANDARD
TZOFFSETFROM:-0400
TZOFFSETTO:-0500
TZNAME:EST
DTSTART:20281105T060000
END:STANDARD
END:VTIMEZONE
BEGIN:VEVENT
DTSTART;TZID=America/Indiana/Indianapolis:20270302T093000
DTEND;TZID=America/Indiana/Indianapolis:20270302T123000
DTSTAMP:20260420T114132
CREATED:20250322T130612Z
LAST-MODIFIED:20251117T104155Z
UID:35705-1803979800-1803990600@welcometocrossroads.org
SUMMARY:S-Meeting
DESCRIPTION:
URL:https://welcometocrossroads.org/event/s-meeting-938/
END:VEVENT
BEGIN:VEVENT
DTSTART;TZID=America/Indiana/Indianapolis:20270302T093000
DTEND;TZID=America/Indiana/Indianapolis:20270302T123000
DTSTAMP:20260420T114132
CREATED:20260108T202656Z
LAST-MODIFIED:20260108T202656Z
UID:41430-1803979800-1803990600@welcometocrossroads.org
SUMMARY:S-Meeting
DESCRIPTION:
URL:https://welcometocrossroads.org/event/s-meeting-1037/
END:VEVENT
BEGIN:VEVENT
DTSTART;TZID=America/Indiana/Indianapolis:20270302T100000
DTEND;TZID=America/Indiana/Indianapolis:20270302T110000
DTSTAMP:20260420T114132
CREATED:20250322T130617Z
LAST-MODIFIED:20260108T202642Z
UID:35707-1803981600-1803985200@welcometocrossroads.org
SUMMARY:Daycare Gymnastics
DESCRIPTION:
URL:https://welcometocrossroads.org/event/daycare-gymnastics-125/
END:VEVENT
BEGIN:VEVENT
DTSTART;TZID=America/Indiana/Indianapolis:20270302T100000
DTEND;TZID=America/Indiana/Indianapolis:20270302T123000
DTSTAMP:20260420T114132
CREATED:20250322T130615Z
LAST-MODIFIED:20260108T202655Z
UID:35706-1803981600-1803990600@welcometocrossroads.org
SUMMARY:LBS
DESCRIPTION:
URL:https://welcometocrossroads.org/event/lbs-36/
END:VEVENT
BEGIN:VEVENT
DTSTART;TZID=America/Indiana/Indianapolis:20270302T190000
DTEND;TZID=America/Indiana/Indianapolis:20270302T203000
DTSTAMP:20260420T114132
CREATED:20250525T173939Z
LAST-MODIFIED:20260108T202658Z
UID:36854-1804014000-1804019400@welcometocrossroads.org
SUMMARY:The Frontline
DESCRIPTION:
URL:https://welcometocrossroads.org/event/the-frontline-92/
END:VEVENT
BEGIN:VEVENT
DTSTART;TZID=America/Indiana/Indianapolis:20270302T190000
DTEND;TZID=America/Indiana/Indianapolis:20270302T210000
DTSTAMP:20260420T114132
CREATED:20250322T130620Z
LAST-MODIFIED:20251007T000715Z
UID:35708-1804014000-1804021200@welcometocrossroads.org
SUMMARY:Snack and Chat
DESCRIPTION:We are a women’s book club that meets the 1st and 3rd Tuesdays of the Month. We will choose a book and discuss it when we meet. Come enjoy a yummy snack and great conversation!
URL:https://welcometocrossroads.org/event/snack-and-chat-86/
LOCATION:Crossroads Church  – 7209 E County Rd 100 S\, Avon\, IN\, United States
END:VEVENT
END:VCALENDAR