BEGIN:VCALENDAR
VERSION:2.0
PRODID:-//Crossroads Church - ECPv6.15.17.1//NONSGML v1.0//EN
CALSCALE:GREGORIAN
METHOD:PUBLISH
X-WR-CALNAME:Crossroads Church
X-ORIGINAL-URL:https://welcometocrossroads.org
X-WR-CALDESC:Events for Crossroads Church
REFRESH-INTERVAL;VALUE=DURATION:PT1H
X-Robots-Tag:noindex
X-PUBLISHED-TTL:PT1H
BEGIN:VTIMEZONE
TZID:America/Indiana/Indianapolis
BEGIN:DAYLIGHT
TZOFFSETFROM:-0500
TZOFFSETTO:-0400
TZNAME:EDT
DTSTART:20260308T070000
END:DAYLIGHT
BEGIN:STANDARD
TZOFFSETFROM:-0400
TZOFFSETTO:-0500
TZNAME:EST
DTSTART:20261101T060000
END:STANDARD
BEGIN:DAYLIGHT
TZOFFSETFROM:-0500
TZOFFSETTO:-0400
TZNAME:EDT
DTSTART:20270314T070000
END:DAYLIGHT
BEGIN:STANDARD
TZOFFSETFROM:-0400
TZOFFSETTO:-0500
TZNAME:EST
DTSTART:20271107T060000
END:STANDARD
BEGIN:DAYLIGHT
TZOFFSETFROM:-0500
TZOFFSETTO:-0400
TZNAME:EDT
DTSTART:20280312T070000
END:DAYLIGHT
BEGIN:STANDARD
TZOFFSETFROM:-0400
TZOFFSETTO:-0500
TZNAME:EST
DTSTART:20281105T060000
END:STANDARD
END:VTIMEZONE
BEGIN:VEVENT
DTSTART;TZID=America/Indiana/Indianapolis:20270309T093000
DTEND;TZID=America/Indiana/Indianapolis:20270309T123000
DTSTAMP:20260421T101849
CREATED:20250322T130757Z
LAST-MODIFIED:20251117T104618Z
UID:35733-1804584600-1804595400@welcometocrossroads.org
SUMMARY:S-Meeting
DESCRIPTION:
URL:https://welcometocrossroads.org/event/s-meeting-939/
END:VEVENT
BEGIN:VEVENT
DTSTART;TZID=America/Indiana/Indianapolis:20270309T093000
DTEND;TZID=America/Indiana/Indianapolis:20270309T123000
DTSTAMP:20260421T101849
CREATED:20260108T202752Z
LAST-MODIFIED:20260108T202752Z
UID:41434-1804584600-1804595400@welcometocrossroads.org
SUMMARY:S-Meeting
DESCRIPTION:
URL:https://welcometocrossroads.org/event/s-meeting-1038/
END:VEVENT
BEGIN:VEVENT
DTSTART;TZID=America/Indiana/Indianapolis:20270309T100000
DTEND;TZID=America/Indiana/Indianapolis:20270309T110000
DTSTAMP:20260421T101849
CREATED:20250322T130755Z
LAST-MODIFIED:20260108T202748Z
UID:35732-1804586400-1804590000@welcometocrossroads.org
SUMMARY:Daycare Gymnastics
DESCRIPTION:
URL:https://welcometocrossroads.org/event/daycare-gymnastics-126/
END:VEVENT
BEGIN:VEVENT
DTSTART;TZID=America/Indiana/Indianapolis:20270309T100000
DTEND;TZID=America/Indiana/Indianapolis:20270309T123000
DTSTAMP:20260421T101849
CREATED:20250322T130800Z
LAST-MODIFIED:20260108T202750Z
UID:35734-1804586400-1804595400@welcometocrossroads.org
SUMMARY:LBS
DESCRIPTION:
URL:https://welcometocrossroads.org/event/lbs-37/
END:VEVENT
BEGIN:VEVENT
DTSTART;TZID=America/Indiana/Indianapolis:20270309T103000
DTEND;TZID=America/Indiana/Indianapolis:20270309T133000
DTSTAMP:20260421T101849
CREATED:20250322T130753Z
LAST-MODIFIED:20260108T202749Z
UID:35731-1804588200-1804599000@welcometocrossroads.org
SUMMARY:Private Event-MIBOR
DESCRIPTION:
URL:https://welcometocrossroads.org/event/private-event-mibor-43/
END:VEVENT
BEGIN:VEVENT
DTSTART;TZID=America/Indiana/Indianapolis:20270309T183000
DTEND;TZID=America/Indiana/Indianapolis:20270309T200000
DTSTAMP:20260421T101849
CREATED:20250322T130815Z
LAST-MODIFIED:20260108T202754Z
UID:35735-1804617000-1804622400@welcometocrossroads.org
SUMMARY:Pine Tree Elementary Outreach Team
DESCRIPTION:
URL:https://welcometocrossroads.org/event/pine-tree-elementary-outreach-team-47/
END:VEVENT
BEGIN:VEVENT
DTSTART;TZID=America/Indiana/Indianapolis:20270309T190000
DTEND;TZID=America/Indiana/Indianapolis:20270309T203000
DTSTAMP:20260421T101849
CREATED:20250525T174140Z
LAST-MODIFIED:20260108T202753Z
UID:36883-1804618800-1804624200@welcometocrossroads.org
SUMMARY:The Frontline
DESCRIPTION:
URL:https://welcometocrossroads.org/event/the-frontline-93/
END:VEVENT
END:VCALENDAR