BEGIN:VCALENDAR
VERSION:2.0
PRODID:-//Crossroads Church - ECPv6.15.17.1//NONSGML v1.0//EN
CALSCALE:GREGORIAN
METHOD:PUBLISH
X-ORIGINAL-URL:https://welcometocrossroads.org
X-WR-CALDESC:Events for Crossroads Church
REFRESH-INTERVAL;VALUE=DURATION:PT1H
X-Robots-Tag:noindex
X-PUBLISHED-TTL:PT1H
BEGIN:VTIMEZONE
TZID:America/Indiana/Indianapolis
BEGIN:DAYLIGHT
TZOFFSETFROM:-0500
TZOFFSETTO:-0400
TZNAME:EDT
DTSTART:20260308T070000
END:DAYLIGHT
BEGIN:STANDARD
TZOFFSETFROM:-0400
TZOFFSETTO:-0500
TZNAME:EST
DTSTART:20261101T060000
END:STANDARD
BEGIN:DAYLIGHT
TZOFFSETFROM:-0500
TZOFFSETTO:-0400
TZNAME:EDT
DTSTART:20270314T070000
END:DAYLIGHT
BEGIN:STANDARD
TZOFFSETFROM:-0400
TZOFFSETTO:-0500
TZNAME:EST
DTSTART:20271107T060000
END:STANDARD
BEGIN:DAYLIGHT
TZOFFSETFROM:-0500
TZOFFSETTO:-0400
TZNAME:EDT
DTSTART:20280312T070000
END:DAYLIGHT
BEGIN:STANDARD
TZOFFSETFROM:-0400
TZOFFSETTO:-0500
TZNAME:EST
DTSTART:20281105T060000
END:STANDARD
END:VTIMEZONE
BEGIN:VEVENT
DTSTART;TZID=America/Indiana/Indianapolis:20270311T133000
DTEND;TZID=America/Indiana/Indianapolis:20270311T143000
DTSTAMP:20260421T050616
CREATED:20260108T202811Z
LAST-MODIFIED:20260108T202811Z
UID:41438-1804771800-1804775400@welcometocrossroads.org
SUMMARY:Operations Meeting
DESCRIPTION:
URL:https://welcometocrossroads.org/event/operations-meeting-62/
END:VEVENT
BEGIN:VEVENT
DTSTART;TZID=America/Indiana/Indianapolis:20270311T140000
DTEND;TZID=America/Indiana/Indianapolis:20270311T150000
DTSTAMP:20260421T050617
CREATED:20250322T130820Z
LAST-MODIFIED:20251117T104836Z
UID:35737-1804773600-1804777200@welcometocrossroads.org
SUMMARY:Operations Weekly Meeting
DESCRIPTION:
URL:https://welcometocrossroads.org/event/operations-weekly-meeting-287/
LOCATION:Crossroads Church – 7209 E County Rd 100 S\, Avon\, IN\, United States
END:VEVENT
BEGIN:VEVENT
DTSTART;TZID=America/Indiana/Indianapolis:20270311T150000
DTEND;TZID=America/Indiana/Indianapolis:20270311T170000
DTSTAMP:20260421T050617
CREATED:20251101T044720Z
LAST-MODIFIED:20251117T104838Z
UID:40595-1804777200-1804784400@welcometocrossroads.org
SUMMARY:Worship Center reserved for filming
DESCRIPTION:
URL:https://welcometocrossroads.org/event/worship-center-reserved-for-filming-71/
END:VEVENT
BEGIN:VEVENT
DTSTART;TZID=America/Indiana/Indianapolis:20270311T183000
DTEND;TZID=America/Indiana/Indianapolis:20270311T200000
DTSTAMP:20260421T050617
CREATED:20250322T130827Z
LAST-MODIFIED:20250322T130827Z
UID:35740-1804789800-1804795200@welcometocrossroads.org
SUMMARY:Men's Bible Study
DESCRIPTION:
URL:https://welcometocrossroads.org/event/mens-bible-study-122/
END:VEVENT
BEGIN:VEVENT
DTSTART;TZID=America/Indiana/Indianapolis:20270311T183000
DTEND;TZID=America/Indiana/Indianapolis:20270311T200000
DTSTAMP:20260421T050617
CREATED:20250525T174150Z
LAST-MODIFIED:20260108T202812Z
UID:36886-1804789800-1804795200@welcometocrossroads.org
SUMMARY:Men's Bible Study
DESCRIPTION:
URL:https://welcometocrossroads.org/event/mens-bible-study-217/
END:VEVENT
BEGIN:VEVENT
DTSTART;TZID=America/Indiana/Indianapolis:20270311T183000
DTEND;TZID=America/Indiana/Indianapolis:20270311T203000
DTSTAMP:20260421T050617
CREATED:20250322T130822Z
LAST-MODIFIED:20260108T202813Z
UID:35738-1804789800-1804797000@welcometocrossroads.org
SUMMARY:Women in the Word
DESCRIPTION:
URL:https://welcometocrossroads.org/event/women-in-the-word-350/
END:VEVENT
BEGIN:VEVENT
DTSTART;TZID=America/Indiana/Indianapolis:20270311T190000
DTEND;TZID=America/Indiana/Indianapolis:20270311T203000
DTSTAMP:20260421T050617
CREATED:20250322T130825Z
LAST-MODIFIED:20260108T202814Z
UID:35739-1804791600-1804797000@welcometocrossroads.org
SUMMARY:Worship Practice
DESCRIPTION:Weekly Worship Team Practice to Prepare for the weekend
URL:https://welcometocrossroads.org/event/worship-practice-345/
END:VEVENT
END:VCALENDAR