BEGIN:VCALENDAR
VERSION:2.0
PRODID:-//Crossroads Church - ECPv6.15.17.1//NONSGML v1.0//EN
CALSCALE:GREGORIAN
METHOD:PUBLISH
X-ORIGINAL-URL:https://welcometocrossroads.org
X-WR-CALDESC:Events for Crossroads Church
REFRESH-INTERVAL;VALUE=DURATION:PT1H
X-Robots-Tag:noindex
X-PUBLISHED-TTL:PT1H
BEGIN:VTIMEZONE
TZID:America/Indiana/Indianapolis
BEGIN:DAYLIGHT
TZOFFSETFROM:-0500
TZOFFSETTO:-0400
TZNAME:EDT
DTSTART:20260308T070000
END:DAYLIGHT
BEGIN:STANDARD
TZOFFSETFROM:-0400
TZOFFSETTO:-0500
TZNAME:EST
DTSTART:20261101T060000
END:STANDARD
BEGIN:DAYLIGHT
TZOFFSETFROM:-0500
TZOFFSETTO:-0400
TZNAME:EDT
DTSTART:20270314T070000
END:DAYLIGHT
BEGIN:STANDARD
TZOFFSETFROM:-0400
TZOFFSETTO:-0500
TZNAME:EST
DTSTART:20271107T060000
END:STANDARD
BEGIN:DAYLIGHT
TZOFFSETFROM:-0500
TZOFFSETTO:-0400
TZNAME:EDT
DTSTART:20280312T070000
END:DAYLIGHT
BEGIN:STANDARD
TZOFFSETFROM:-0400
TZOFFSETTO:-0500
TZNAME:EST
DTSTART:20281105T060000
END:STANDARD
END:VTIMEZONE
BEGIN:VEVENT
DTSTART;TZID=America/Indiana/Indianapolis:20270318T133000
DTEND;TZID=America/Indiana/Indianapolis:20270318T143000
DTSTAMP:20260421T072333
CREATED:20260108T202904Z
LAST-MODIFIED:20260108T202904Z
UID:41442-1805376600-1805380200@welcometocrossroads.org
SUMMARY:Operations Meeting
DESCRIPTION:
URL:https://welcometocrossroads.org/event/operations-meeting-63/
END:VEVENT
BEGIN:VEVENT
DTSTART;TZID=America/Indiana/Indianapolis:20270318T140000
DTEND;TZID=America/Indiana/Indianapolis:20270318T150000
DTSTAMP:20260421T072333
CREATED:20250322T130951Z
LAST-MODIFIED:20251117T105103Z
UID:35761-1805378400-1805382000@welcometocrossroads.org
SUMMARY:Operations Weekly Meeting
DESCRIPTION:
URL:https://welcometocrossroads.org/event/operations-weekly-meeting-288/
LOCATION:Crossroads Church – 7209 E County Rd 100 S\, Avon\, IN\, United States
END:VEVENT
BEGIN:VEVENT
DTSTART;TZID=America/Indiana/Indianapolis:20270318T150000
DTEND;TZID=America/Indiana/Indianapolis:20270318T170000
DTSTAMP:20260421T072333
CREATED:20251101T044829Z
LAST-MODIFIED:20251117T105105Z
UID:40596-1805382000-1805389200@welcometocrossroads.org
SUMMARY:Worship Center reserved for filming
DESCRIPTION:
URL:https://welcometocrossroads.org/event/worship-center-reserved-for-filming-72/
END:VEVENT
BEGIN:VEVENT
DTSTART;TZID=America/Indiana/Indianapolis:20270318T183000
DTEND;TZID=America/Indiana/Indianapolis:20270318T200000
DTSTAMP:20260421T072333
CREATED:20250322T130958Z
LAST-MODIFIED:20250322T130958Z
UID:35764-1805394600-1805400000@welcometocrossroads.org
SUMMARY:Men's Bible Study
DESCRIPTION:
URL:https://welcometocrossroads.org/event/mens-bible-study-123/
END:VEVENT
BEGIN:VEVENT
DTSTART;TZID=America/Indiana/Indianapolis:20270318T183000
DTEND;TZID=America/Indiana/Indianapolis:20270318T200000
DTSTAMP:20260421T072333
CREATED:20250525T174357Z
LAST-MODIFIED:20260108T202918Z
UID:36913-1805394600-1805400000@welcometocrossroads.org
SUMMARY:Men's Bible Study
DESCRIPTION:
URL:https://welcometocrossroads.org/event/mens-bible-study-218/
END:VEVENT
BEGIN:VEVENT
DTSTART;TZID=America/Indiana/Indianapolis:20270318T183000
DTEND;TZID=America/Indiana/Indianapolis:20270318T203000
DTSTAMP:20260421T072333
CREATED:20250322T130956Z
LAST-MODIFIED:20260108T202906Z
UID:35763-1805394600-1805401800@welcometocrossroads.org
SUMMARY:Women in the Word
DESCRIPTION:
URL:https://welcometocrossroads.org/event/women-in-the-word-351/
END:VEVENT
BEGIN:VEVENT
DTSTART;TZID=America/Indiana/Indianapolis:20270318T190000
DTEND;TZID=America/Indiana/Indianapolis:20270318T203000
DTSTAMP:20260421T072333
CREATED:20250322T130954Z
LAST-MODIFIED:20260108T202920Z
UID:35762-1805396400-1805401800@welcometocrossroads.org
SUMMARY:Worship Practice
DESCRIPTION:Weekly Worship Team Practice to Prepare for the weekend
URL:https://welcometocrossroads.org/event/worship-practice-346/
END:VEVENT
END:VCALENDAR