BEGIN:VCALENDAR
VERSION:2.0
PRODID:-//Crossroads Church - ECPv6.15.17.1//NONSGML v1.0//EN
CALSCALE:GREGORIAN
METHOD:PUBLISH
X-ORIGINAL-URL:https://welcometocrossroads.org
X-WR-CALDESC:Events for Crossroads Church
REFRESH-INTERVAL;VALUE=DURATION:PT1H
X-Robots-Tag:noindex
X-PUBLISHED-TTL:PT1H
BEGIN:VTIMEZONE
TZID:America/Indiana/Indianapolis
BEGIN:DAYLIGHT
TZOFFSETFROM:-0500
TZOFFSETTO:-0400
TZNAME:EDT
DTSTART:20260308T070000
END:DAYLIGHT
BEGIN:STANDARD
TZOFFSETFROM:-0400
TZOFFSETTO:-0500
TZNAME:EST
DTSTART:20261101T060000
END:STANDARD
BEGIN:DAYLIGHT
TZOFFSETFROM:-0500
TZOFFSETTO:-0400
TZNAME:EDT
DTSTART:20270314T070000
END:DAYLIGHT
BEGIN:STANDARD
TZOFFSETFROM:-0400
TZOFFSETTO:-0500
TZNAME:EST
DTSTART:20271107T060000
END:STANDARD
BEGIN:DAYLIGHT
TZOFFSETFROM:-0500
TZOFFSETTO:-0400
TZNAME:EDT
DTSTART:20280312T070000
END:DAYLIGHT
BEGIN:STANDARD
TZOFFSETFROM:-0400
TZOFFSETTO:-0500
TZNAME:EST
DTSTART:20281105T060000
END:STANDARD
END:VTIMEZONE
BEGIN:VEVENT
DTSTART;TZID=America/Indiana/Indianapolis:20270321T080000
DTEND;TZID=America/Indiana/Indianapolis:20270321T084500
DTSTAMP:20260421T125243
CREATED:20250322T131017Z
LAST-MODIFIED:20260108T202923Z
UID:35767-1805616000-1805618700@welcometocrossroads.org
SUMMARY:Therefore Life Group
DESCRIPTION:
URL:https://welcometocrossroads.org/event/therefore-life-group-130/
END:VEVENT
BEGIN:VEVENT
DTSTART;TZID=America/Indiana/Indianapolis:20270321T090000
DTEND;TZID=America/Indiana/Indianapolis:20270321T130000
DTSTAMP:20260421T125243
CREATED:20250322T131027Z
LAST-MODIFIED:20260108T202927Z
UID:35771-1805619600-1805634000@welcometocrossroads.org
SUMMARY:Communion Sunday
DESCRIPTION:
URL:https://welcometocrossroads.org/event/communion-sunday-43/
END:VEVENT
BEGIN:VEVENT
DTSTART;TZID=America/Indiana/Indianapolis:20270321T110000
DTEND;TZID=America/Indiana/Indianapolis:20270321T115900
DTSTAMP:20260421T125243
CREATED:20250322T131020Z
LAST-MODIFIED:20260108T202924Z
UID:35768-1805626800-1805630340@welcometocrossroads.org
SUMMARY:Growth Track
DESCRIPTION:
URL:https://welcometocrossroads.org/event/growth-track-421/
LOCATION:Room 117
END:VEVENT
BEGIN:VEVENT
DTSTART;TZID=America/Indiana/Indianapolis:20270321T123000
DTEND;TZID=America/Indiana/Indianapolis:20270321T143000
DTSTAMP:20260421T125243
CREATED:20250322T131025Z
LAST-MODIFIED:20260108T202926Z
UID:35770-1805632200-1805639400@welcometocrossroads.org
SUMMARY:Joyfully His LG
DESCRIPTION:
URL:https://welcometocrossroads.org/event/joyfully-his-lg-163/
END:VEVENT
BEGIN:VEVENT
DTSTART;TZID=America/Indiana/Indianapolis:20270321T133000
DTEND;TZID=America/Indiana/Indianapolis:20270321T160000
DTSTAMP:20260421T125243
CREATED:20250322T131022Z
LAST-MODIFIED:20260108T202928Z
UID:35769-1805635800-1805644800@welcometocrossroads.org
SUMMARY:Christ's Ambassadors
DESCRIPTION:
URL:https://welcometocrossroads.org/event/christs-ambassadors-151/
END:VEVENT
BEGIN:VEVENT
DTSTART;TZID=America/Indiana/Indianapolis:20270321T170000
DTEND;TZID=America/Indiana/Indianapolis:20270321T183000
DTSTAMP:20260421T125243
CREATED:20250322T131030Z
LAST-MODIFIED:20260108T202942Z
UID:35772-1805648400-1805653800@welcometocrossroads.org
SUMMARY:Girl’s Ministry
DESCRIPTION:
URL:https://welcometocrossroads.org/event/girls-ministry-133/
END:VEVENT
BEGIN:VEVENT
DTSTART;TZID=America/Indiana/Indianapolis:20270321T173000
DTEND;TZID=America/Indiana/Indianapolis:20270321T180000
DTSTAMP:20260421T125243
CREATED:20250322T131036Z
LAST-MODIFIED:20260108T202944Z
UID:35774-1805650200-1805652000@welcometocrossroads.org
SUMMARY:CSM - Leader Huddle
DESCRIPTION:
URL:https://welcometocrossroads.org/event/csm-leader-huddle-430/
LOCATION:102
END:VEVENT
BEGIN:VEVENT
DTSTART;TZID=America/Indiana/Indianapolis:20270321T180000
DTEND;TZID=America/Indiana/Indianapolis:20270321T203000
DTSTAMP:20260421T125243
CREATED:20250322T131033Z
LAST-MODIFIED:20260108T202929Z
UID:35773-1805652000-1805661000@welcometocrossroads.org
SUMMARY:CSM - Crossroads Students Ministries
DESCRIPTION:
URL:https://welcometocrossroads.org/event/csm-crossroads-students-ministries-188/
LOCATION:CSM – 7209 E County Rd 100 S\, Avon\, IN\, United States
END:VEVENT
END:VCALENDAR