BEGIN:VCALENDAR
VERSION:2.0
PRODID:-//Crossroads Church - ECPv6.15.17.1//NONSGML v1.0//EN
CALSCALE:GREGORIAN
METHOD:PUBLISH
X-ORIGINAL-URL:https://welcometocrossroads.org
X-WR-CALDESC:Events for Crossroads Church
REFRESH-INTERVAL;VALUE=DURATION:PT1H
X-Robots-Tag:noindex
X-PUBLISHED-TTL:PT1H
BEGIN:VTIMEZONE
TZID:America/Indiana/Indianapolis
BEGIN:DAYLIGHT
TZOFFSETFROM:-0500
TZOFFSETTO:-0400
TZNAME:EDT
DTSTART:20260308T070000
END:DAYLIGHT
BEGIN:STANDARD
TZOFFSETFROM:-0400
TZOFFSETTO:-0500
TZNAME:EST
DTSTART:20261101T060000
END:STANDARD
BEGIN:DAYLIGHT
TZOFFSETFROM:-0500
TZOFFSETTO:-0400
TZNAME:EDT
DTSTART:20270314T070000
END:DAYLIGHT
BEGIN:STANDARD
TZOFFSETFROM:-0400
TZOFFSETTO:-0500
TZNAME:EST
DTSTART:20271107T060000
END:STANDARD
BEGIN:DAYLIGHT
TZOFFSETFROM:-0500
TZOFFSETTO:-0400
TZNAME:EDT
DTSTART:20280312T070000
END:DAYLIGHT
BEGIN:STANDARD
TZOFFSETFROM:-0400
TZOFFSETTO:-0500
TZNAME:EST
DTSTART:20281105T060000
END:STANDARD
END:VTIMEZONE
BEGIN:VEVENT
DTSTART;TZID=America/Indiana/Indianapolis:20270328T080000
DTEND;TZID=America/Indiana/Indianapolis:20270328T084500
DTSTAMP:20260421T084302
CREATED:20250525T174548Z
LAST-MODIFIED:20260108T203017Z
UID:36938-1806220800-1806223500@welcometocrossroads.org
SUMMARY:Therefore Life Group
DESCRIPTION:
URL:https://welcometocrossroads.org/event/therefore-life-group-131/
END:VEVENT
BEGIN:VEVENT
DTSTART;TZID=America/Indiana/Indianapolis:20270328T110000
DTEND;TZID=America/Indiana/Indianapolis:20270328T113000
DTSTAMP:20260421T084302
CREATED:20250525T174553Z
LAST-MODIFIED:20260108T203018Z
UID:36939-1806231600-1806233400@welcometocrossroads.org
SUMMARY:Growth Track
DESCRIPTION:
URL:https://welcometocrossroads.org/event/growth-track-422/
LOCATION:Room 117
END:VEVENT
BEGIN:VEVENT
DTSTART;TZID=America/Indiana/Indianapolis:20270328T133000
DTEND;TZID=America/Indiana/Indianapolis:20270328T160000
DTSTAMP:20260421T084302
CREATED:20250525T174556Z
LAST-MODIFIED:20260108T203032Z
UID:36940-1806240600-1806249600@welcometocrossroads.org
SUMMARY:Christ's Ambassadors
DESCRIPTION:
URL:https://welcometocrossroads.org/event/christs-ambassadors-152/
END:VEVENT
BEGIN:VEVENT
DTSTART;TZID=America/Indiana/Indianapolis:20270328T170000
DTEND;TZID=America/Indiana/Indianapolis:20270328T183000
DTSTAMP:20260421T084302
CREATED:20250525T174612Z
LAST-MODIFIED:20260108T203034Z
UID:36945-1806253200-1806258600@welcometocrossroads.org
SUMMARY:Girl’s Ministry
DESCRIPTION:
URL:https://welcometocrossroads.org/event/girls-ministry-134/
END:VEVENT
BEGIN:VEVENT
DTSTART;TZID=America/Indiana/Indianapolis:20270328T173000
DTEND;TZID=America/Indiana/Indianapolis:20270328T180000
DTSTAMP:20260421T084302
CREATED:20250525T174559Z
LAST-MODIFIED:20260108T203037Z
UID:36941-1806255000-1806256800@welcometocrossroads.org
SUMMARY:CSM - Leader Huddle
DESCRIPTION:
URL:https://welcometocrossroads.org/event/csm-leader-huddle-431/
LOCATION:102
END:VEVENT
BEGIN:VEVENT
DTSTART;TZID=America/Indiana/Indianapolis:20270328T180000
DTEND;TZID=America/Indiana/Indianapolis:20270328T200000
DTSTAMP:20260421T084302
CREATED:20250525T174606Z
LAST-MODIFIED:20260108T203036Z
UID:36943-1806256800-1806264000@welcometocrossroads.org
SUMMARY:CSM - Family Group Night: CSM- Family Group Night
DESCRIPTION:
URL:https://welcometocrossroads.org/event/csm-family-group-night-csm-family-group-night-98/
LOCATION:All Rooms
END:VEVENT
BEGIN:VEVENT
DTSTART;TZID=America/Indiana/Indianapolis:20270328T180000
DTEND;TZID=America/Indiana/Indianapolis:20270328T203000
DTSTAMP:20260421T084302
CREATED:20250525T174609Z
LAST-MODIFIED:20260108T203039Z
UID:36944-1806256800-1806265800@welcometocrossroads.org
SUMMARY:CSM - Crossroads Students Ministries
DESCRIPTION:
URL:https://welcometocrossroads.org/event/csm-crossroads-students-ministries-189/
LOCATION:CSM – 7209 E County Rd 100 S\, Avon\, IN\, United States
END:VEVENT
BEGIN:VEVENT
DTSTART;TZID=America/Indiana/Indianapolis:20270328T183000
DTEND;TZID=America/Indiana/Indianapolis:20270328T200000
DTSTAMP:20260421T084302
CREATED:20250525T174603Z
LAST-MODIFIED:20260108T203033Z
UID:36942-1806258600-1806264000@welcometocrossroads.org
SUMMARY:Connecting Life Group
DESCRIPTION:
URL:https://welcometocrossroads.org/event/connecting-life-group-113/
END:VEVENT
END:VCALENDAR