BEGIN:VCALENDAR
VERSION:2.0
PRODID:-//Crossroads Church - ECPv6.15.17.1//NONSGML v1.0//EN
CALSCALE:GREGORIAN
METHOD:PUBLISH
X-WR-CALNAME:Crossroads Church
X-ORIGINAL-URL:https://welcometocrossroads.org
X-WR-CALDESC:Events for Crossroads Church
REFRESH-INTERVAL;VALUE=DURATION:PT1H
X-Robots-Tag:noindex
X-PUBLISHED-TTL:PT1H
BEGIN:VTIMEZONE
TZID:America/Indiana/Indianapolis
BEGIN:DAYLIGHT
TZOFFSETFROM:-0500
TZOFFSETTO:-0400
TZNAME:EDT
DTSTART:20260308T070000
END:DAYLIGHT
BEGIN:STANDARD
TZOFFSETFROM:-0400
TZOFFSETTO:-0500
TZNAME:EST
DTSTART:20261101T060000
END:STANDARD
BEGIN:DAYLIGHT
TZOFFSETFROM:-0500
TZOFFSETTO:-0400
TZNAME:EDT
DTSTART:20270314T070000
END:DAYLIGHT
BEGIN:STANDARD
TZOFFSETFROM:-0400
TZOFFSETTO:-0500
TZNAME:EST
DTSTART:20271107T060000
END:STANDARD
BEGIN:DAYLIGHT
TZOFFSETFROM:-0500
TZOFFSETTO:-0400
TZNAME:EDT
DTSTART:20280312T070000
END:DAYLIGHT
BEGIN:STANDARD
TZOFFSETFROM:-0400
TZOFFSETTO:-0500
TZNAME:EST
DTSTART:20281105T060000
END:STANDARD
END:VTIMEZONE
BEGIN:VEVENT
DTSTART;TZID=America/Indiana/Indianapolis:20270401T133000
DTEND;TZID=America/Indiana/Indianapolis:20270401T143000
DTSTAMP:20260421T072249
CREATED:20260108T203103Z
LAST-MODIFIED:20260108T203103Z
UID:41450-1806586200-1806589800@welcometocrossroads.org
SUMMARY:Operations Meeting
DESCRIPTION:
URL:https://welcometocrossroads.org/event/operations-meeting-65/
END:VEVENT
BEGIN:VEVENT
DTSTART;TZID=America/Indiana/Indianapolis:20270401T140000
DTEND;TZID=America/Indiana/Indianapolis:20270401T150000
DTSTAMP:20260421T072249
CREATED:20250525T174644Z
LAST-MODIFIED:20251117T105813Z
UID:36952-1806588000-1806591600@welcometocrossroads.org
SUMMARY:Operations Weekly Meeting
DESCRIPTION:
URL:https://welcometocrossroads.org/event/operations-weekly-meeting-290/
LOCATION:Crossroads Church – 7209 E County Rd 100 S\, Avon\, IN\, United States
END:VEVENT
BEGIN:VEVENT
DTSTART;TZID=America/Indiana/Indianapolis:20270401T150000
DTEND;TZID=America/Indiana/Indianapolis:20270401T170000
DTSTAMP:20260421T072249
CREATED:20251101T045014Z
LAST-MODIFIED:20251117T105812Z
UID:40599-1806591600-1806598800@welcometocrossroads.org
SUMMARY:Worship Center reserved for filming
DESCRIPTION:
URL:https://welcometocrossroads.org/event/worship-center-reserved-for-filming-74/
END:VEVENT
BEGIN:VEVENT
DTSTART;TZID=America/Indiana/Indianapolis:20270401T183000
DTEND;TZID=America/Indiana/Indianapolis:20270401T200000
DTSTAMP:20260421T072249
CREATED:20250525T174650Z
LAST-MODIFIED:20260108T203104Z
UID:36954-1806604200-1806609600@welcometocrossroads.org
SUMMARY:Men's Bible Study
DESCRIPTION:
URL:https://welcometocrossroads.org/event/mens-bible-study-220/
END:VEVENT
BEGIN:VEVENT
DTSTART;TZID=America/Indiana/Indianapolis:20270401T183000
DTEND;TZID=America/Indiana/Indianapolis:20270401T203000
DTSTAMP:20260421T072249
CREATED:20250525T174647Z
LAST-MODIFIED:20260108T203106Z
UID:36953-1806604200-1806611400@welcometocrossroads.org
SUMMARY:Women in the Word
DESCRIPTION:
URL:https://welcometocrossroads.org/event/women-in-the-word-353/
END:VEVENT
BEGIN:VEVENT
DTSTART;TZID=America/Indiana/Indianapolis:20270401T190000
DTEND;TZID=America/Indiana/Indianapolis:20270401T203000
DTSTAMP:20260421T072249
CREATED:20250525T174652Z
LAST-MODIFIED:20260108T203105Z
UID:36955-1806606000-1806611400@welcometocrossroads.org
SUMMARY:Worship Practice
DESCRIPTION:Weekly Worship Team Practice to Prepare for the weekend
URL:https://welcometocrossroads.org/event/worship-practice-348/
END:VEVENT
END:VCALENDAR