BEGIN:VCALENDAR
VERSION:2.0
PRODID:-//Crossroads Church - ECPv6.15.17.1//NONSGML v1.0//EN
CALSCALE:GREGORIAN
METHOD:PUBLISH
X-ORIGINAL-URL:https://welcometocrossroads.org
X-WR-CALDESC:Events for Crossroads Church
REFRESH-INTERVAL;VALUE=DURATION:PT1H
X-Robots-Tag:noindex
X-PUBLISHED-TTL:PT1H
BEGIN:VTIMEZONE
TZID:America/Indiana/Indianapolis
BEGIN:DAYLIGHT
TZOFFSETFROM:-0500
TZOFFSETTO:-0400
TZNAME:EDT
DTSTART:20260308T070000
END:DAYLIGHT
BEGIN:STANDARD
TZOFFSETFROM:-0400
TZOFFSETTO:-0500
TZNAME:EST
DTSTART:20261101T060000
END:STANDARD
BEGIN:DAYLIGHT
TZOFFSETFROM:-0500
TZOFFSETTO:-0400
TZNAME:EDT
DTSTART:20270314T070000
END:DAYLIGHT
BEGIN:STANDARD
TZOFFSETFROM:-0400
TZOFFSETTO:-0500
TZNAME:EST
DTSTART:20271107T060000
END:STANDARD
BEGIN:DAYLIGHT
TZOFFSETFROM:-0500
TZOFFSETTO:-0400
TZNAME:EDT
DTSTART:20280312T070000
END:DAYLIGHT
BEGIN:STANDARD
TZOFFSETFROM:-0400
TZOFFSETTO:-0500
TZNAME:EST
DTSTART:20281105T060000
END:STANDARD
END:VTIMEZONE
BEGIN:VEVENT
DTSTART;TZID=America/Indiana/Indianapolis:20270407T100000
DTEND;TZID=America/Indiana/Indianapolis:20270407T110000
DTSTAMP:20260423T044146
CREATED:20250525T174816Z
LAST-MODIFIED:20251117T110324Z
UID:36973-1807092000-1807095600@welcometocrossroads.org
SUMMARY:Senior Luncheon: Setup
DESCRIPTION:
URL:https://welcometocrossroads.org/event/senior-luncheon-setup-108/
END:VEVENT
BEGIN:VEVENT
DTSTART;TZID=America/Indiana/Indianapolis:20270407T113000
DTEND;TZID=America/Indiana/Indianapolis:20270407T133000
DTSTAMP:20260423T044146
CREATED:20250525T174821Z
LAST-MODIFIED:20260108T203151Z
UID:36975-1807097400-1807104600@welcometocrossroads.org
SUMMARY:Senior Luncheon
DESCRIPTION:
URL:https://welcometocrossroads.org/event/senior-luncheon-129/
END:VEVENT
BEGIN:VEVENT
DTSTART;TZID=America/Indiana/Indianapolis:20270407T130000
DTEND;TZID=America/Indiana/Indianapolis:20270407T140000
DTSTAMP:20260423T044146
CREATED:20250525T174819Z
LAST-MODIFIED:20251117T110327Z
UID:36974-1807102800-1807106400@welcometocrossroads.org
SUMMARY:Senior Luncheon: Teardown
DESCRIPTION:
URL:https://welcometocrossroads.org/event/senior-luncheon-teardown-108/
END:VEVENT
BEGIN:VEVENT
DTSTART;TZID=America/Indiana/Indianapolis:20270407T140000
DTEND;TZID=America/Indiana/Indianapolis:20270407T160000
DTSTAMP:20260423T044146
CREATED:20250525T174824Z
LAST-MODIFIED:20251001T202945Z
UID:36976-1807106400-1807113600@welcometocrossroads.org
SUMMARY:The Way
DESCRIPTION:
URL:https://welcometocrossroads.org/event/the-way-45/
END:VEVENT
BEGIN:VEVENT
DTSTART;TZID=America/Indiana/Indianapolis:20270407T140000
DTEND;TZID=America/Indiana/Indianapolis:20270407T160000
DTSTAMP:20260423T044146
CREATED:20251002T235420Z
LAST-MODIFIED:20251117T110325Z
UID:40064-1807106400-1807113600@welcometocrossroads.org
SUMMARY:The Way
DESCRIPTION:
URL:https://welcometocrossroads.org/event/the-way-92/
END:VEVENT
BEGIN:VEVENT
DTSTART;TZID=America/Indiana/Indianapolis:20270407T140000
DTEND;TZID=America/Indiana/Indianapolis:20270407T160000
DTSTAMP:20260423T044146
CREATED:20260108T203152Z
LAST-MODIFIED:20260108T203152Z
UID:41452-1807106400-1807113600@welcometocrossroads.org
SUMMARY:The Way
DESCRIPTION:
URL:https://welcometocrossroads.org/event/the-way-173/
END:VEVENT
BEGIN:VEVENT
DTSTART;TZID=America/Indiana/Indianapolis:20270407T180000
DTEND;TZID=America/Indiana/Indianapolis:20270407T200000
DTSTAMP:20260423T044146
CREATED:20250525T174827Z
LAST-MODIFIED:20260108T203154Z
UID:36977-1807120800-1807128000@welcometocrossroads.org
SUMMARY:Women's Wellness LG
DESCRIPTION:Women’s LG\nVisit welcometocrossroads.org/groups for more information
URL:https://welcometocrossroads.org/event/womens-wellness-lg-256/
END:VEVENT
BEGIN:VEVENT
DTSTART;TZID=America/Indiana/Indianapolis:20270407T180000
DTEND;TZID=America/Indiana/Indianapolis:20270407T210000
DTSTAMP:20260423T044146
CREATED:20250525T174844Z
LAST-MODIFIED:20260108T203153Z
UID:36978-1807120800-1807131600@welcometocrossroads.org
SUMMARY:The Well - College & Career: The Well - College & Career Weekly Meetings
DESCRIPTION:
URL:https://welcometocrossroads.org/event/the-well-college-career-the-well-college-career-weekly-meetings-44/
END:VEVENT
BEGIN:VEVENT
DTSTART;TZID=America/Indiana/Indianapolis:20270407T190000
DTEND;TZID=America/Indiana/Indianapolis:20270407T203000
DTSTAMP:20260423T044146
CREATED:20260108T203156Z
LAST-MODIFIED:20260108T203156Z
UID:41453-1807124400-1807129800@welcometocrossroads.org
SUMMARY:Life Group
DESCRIPTION:
URL:https://welcometocrossroads.org/event/life-group-64/
END:VEVENT
END:VCALENDAR