BEGIN:VCALENDAR
VERSION:2.0
PRODID:-//Crossroads Church - ECPv6.15.17.1//NONSGML v1.0//EN
CALSCALE:GREGORIAN
METHOD:PUBLISH
X-WR-CALNAME:Crossroads Church
X-ORIGINAL-URL:https://welcometocrossroads.org
X-WR-CALDESC:Events for Crossroads Church
REFRESH-INTERVAL;VALUE=DURATION:PT1H
X-Robots-Tag:noindex
X-PUBLISHED-TTL:PT1H
BEGIN:VTIMEZONE
TZID:America/Indiana/Indianapolis
BEGIN:DAYLIGHT
TZOFFSETFROM:-0500
TZOFFSETTO:-0400
TZNAME:EDT
DTSTART:20260308T070000
END:DAYLIGHT
BEGIN:STANDARD
TZOFFSETFROM:-0400
TZOFFSETTO:-0500
TZNAME:EST
DTSTART:20261101T060000
END:STANDARD
BEGIN:DAYLIGHT
TZOFFSETFROM:-0500
TZOFFSETTO:-0400
TZNAME:EDT
DTSTART:20270314T070000
END:DAYLIGHT
BEGIN:STANDARD
TZOFFSETFROM:-0400
TZOFFSETTO:-0500
TZNAME:EST
DTSTART:20271107T060000
END:STANDARD
BEGIN:DAYLIGHT
TZOFFSETFROM:-0500
TZOFFSETTO:-0400
TZNAME:EDT
DTSTART:20280312T070000
END:DAYLIGHT
BEGIN:STANDARD
TZOFFSETFROM:-0400
TZOFFSETTO:-0500
TZNAME:EST
DTSTART:20281105T060000
END:STANDARD
END:VTIMEZONE
BEGIN:VEVENT
DTSTART;TZID=America/Indiana/Indianapolis:20270412T183000
DTEND;TZID=America/Indiana/Indianapolis:20270412T203000
DTSTAMP:20260421T101904
CREATED:20250525T174956Z
LAST-MODIFIED:20260108T203242Z
UID:36995-1807554600-1807561800@welcometocrossroads.org
SUMMARY:Divorce Care
DESCRIPTION:
URL:https://welcometocrossroads.org/event/divorce-care-350/
END:VEVENT
BEGIN:VEVENT
DTSTART;TZID=America/Indiana/Indianapolis:20270412T183000
DTEND;TZID=America/Indiana/Indianapolis:20270412T203000
DTSTAMP:20260421T101904
CREATED:20250525T175002Z
LAST-MODIFIED:20260108T203240Z
UID:36997-1807554600-1807561800@welcometocrossroads.org
SUMMARY:Joshua Men
DESCRIPTION:
URL:https://welcometocrossroads.org/event/joshua-men-31/
END:VEVENT
BEGIN:VEVENT
DTSTART;TZID=America/Indiana/Indianapolis:20270412T190000
DTEND;TZID=America/Indiana/Indianapolis:20270412T203000
DTSTAMP:20260421T101904
CREATED:20250525T174959Z
LAST-MODIFIED:20260108T203243Z
UID:36996-1807556400-1807561800@welcometocrossroads.org
SUMMARY:Hey Girl Life Group
DESCRIPTION:
URL:https://welcometocrossroads.org/event/hey-girl-life-group-362/
END:VEVENT
END:VCALENDAR