BEGIN:VCALENDAR
VERSION:2.0
PRODID:-//Crossroads Church - ECPv6.15.17.1//NONSGML v1.0//EN
CALSCALE:GREGORIAN
METHOD:PUBLISH
X-WR-CALNAME:Crossroads Church
X-ORIGINAL-URL:https://welcometocrossroads.org
X-WR-CALDESC:Events for Crossroads Church
REFRESH-INTERVAL;VALUE=DURATION:PT1H
X-Robots-Tag:noindex
X-PUBLISHED-TTL:PT1H
BEGIN:VTIMEZONE
TZID:America/Indiana/Indianapolis
BEGIN:DAYLIGHT
TZOFFSETFROM:-0500
TZOFFSETTO:-0400
TZNAME:EDT
DTSTART:20260308T070000
END:DAYLIGHT
BEGIN:STANDARD
TZOFFSETFROM:-0400
TZOFFSETTO:-0500
TZNAME:EST
DTSTART:20261101T060000
END:STANDARD
BEGIN:DAYLIGHT
TZOFFSETFROM:-0500
TZOFFSETTO:-0400
TZNAME:EDT
DTSTART:20270314T070000
END:DAYLIGHT
BEGIN:STANDARD
TZOFFSETFROM:-0400
TZOFFSETTO:-0500
TZNAME:EST
DTSTART:20271107T060000
END:STANDARD
BEGIN:DAYLIGHT
TZOFFSETFROM:-0500
TZOFFSETTO:-0400
TZNAME:EDT
DTSTART:20280312T070000
END:DAYLIGHT
BEGIN:STANDARD
TZOFFSETFROM:-0400
TZOFFSETTO:-0500
TZNAME:EST
DTSTART:20281105T060000
END:STANDARD
END:VTIMEZONE
BEGIN:VEVENT
DTSTART;TZID=America/Indiana/Indianapolis:20270415T130000
DTEND;TZID=America/Indiana/Indianapolis:20270415T143000
DTSTAMP:20260421T085232
CREATED:20250622T150724Z
LAST-MODIFIED:20260108T203305Z
UID:37951-1807794000-1807799400@welcometocrossroads.org
SUMMARY:Hymns for Him
DESCRIPTION:
URL:https://welcometocrossroads.org/event/hymns-for-him-12/
END:VEVENT
BEGIN:VEVENT
DTSTART;TZID=America/Indiana/Indianapolis:20270415T133000
DTEND;TZID=America/Indiana/Indianapolis:20270415T143000
DTSTAMP:20260421T085232
CREATED:20260108T203306Z
LAST-MODIFIED:20260108T203306Z
UID:41459-1807795800-1807799400@welcometocrossroads.org
SUMMARY:Operations Meeting
DESCRIPTION:
URL:https://welcometocrossroads.org/event/operations-meeting-67/
END:VEVENT
BEGIN:VEVENT
DTSTART;TZID=America/Indiana/Indianapolis:20270415T140000
DTEND;TZID=America/Indiana/Indianapolis:20270415T150000
DTSTAMP:20260421T085232
CREATED:20250525T175039Z
LAST-MODIFIED:20251117T110849Z
UID:37005-1807797600-1807801200@welcometocrossroads.org
SUMMARY:Operations Weekly Meeting
DESCRIPTION:
URL:https://welcometocrossroads.org/event/operations-weekly-meeting-292/
LOCATION:Crossroads Church – 7209 E County Rd 100 S\, Avon\, IN\, United States
END:VEVENT
BEGIN:VEVENT
DTSTART;TZID=America/Indiana/Indianapolis:20270415T150000
DTEND;TZID=America/Indiana/Indianapolis:20270415T170000
DTSTAMP:20260421T085232
CREATED:20251101T045232Z
LAST-MODIFIED:20251117T110852Z
UID:40601-1807801200-1807808400@welcometocrossroads.org
SUMMARY:Worship Center reserved for filming
DESCRIPTION:
URL:https://welcometocrossroads.org/event/worship-center-reserved-for-filming-76/
END:VEVENT
BEGIN:VEVENT
DTSTART;TZID=America/Indiana/Indianapolis:20270415T183000
DTEND;TZID=America/Indiana/Indianapolis:20270415T200000
DTSTAMP:20260421T085232
CREATED:20250525T175041Z
LAST-MODIFIED:20260108T203322Z
UID:37006-1807813800-1807819200@welcometocrossroads.org
SUMMARY:Men's Bible Study
DESCRIPTION:
URL:https://welcometocrossroads.org/event/mens-bible-study-222/
END:VEVENT
BEGIN:VEVENT
DTSTART;TZID=America/Indiana/Indianapolis:20270415T183000
DTEND;TZID=America/Indiana/Indianapolis:20270415T203000
DTSTAMP:20260421T085232
CREATED:20250525T175100Z
LAST-MODIFIED:20260108T203321Z
UID:37008-1807813800-1807821000@welcometocrossroads.org
SUMMARY:Women in the Word
DESCRIPTION:
URL:https://welcometocrossroads.org/event/women-in-the-word-355/
END:VEVENT
BEGIN:VEVENT
DTSTART;TZID=America/Indiana/Indianapolis:20270415T190000
DTEND;TZID=America/Indiana/Indianapolis:20270415T203000
DTSTAMP:20260421T085232
CREATED:20250525T175044Z
LAST-MODIFIED:20260108T203308Z
UID:37007-1807815600-1807821000@welcometocrossroads.org
SUMMARY:Worship Practice
DESCRIPTION:Weekly Worship Team Practice to Prepare for the weekend
URL:https://welcometocrossroads.org/event/worship-practice-350/
END:VEVENT
END:VCALENDAR