BEGIN:VCALENDAR
VERSION:2.0
PRODID:-//Crossroads Church - ECPv6.15.17.1//NONSGML v1.0//EN
CALSCALE:GREGORIAN
METHOD:PUBLISH
X-ORIGINAL-URL:https://welcometocrossroads.org
X-WR-CALDESC:Events for Crossroads Church
REFRESH-INTERVAL;VALUE=DURATION:PT1H
X-Robots-Tag:noindex
X-PUBLISHED-TTL:PT1H
BEGIN:VTIMEZONE
TZID:America/Indiana/Indianapolis
BEGIN:DAYLIGHT
TZOFFSETFROM:-0500
TZOFFSETTO:-0400
TZNAME:EDT
DTSTART:20260308T070000
END:DAYLIGHT
BEGIN:STANDARD
TZOFFSETFROM:-0400
TZOFFSETTO:-0500
TZNAME:EST
DTSTART:20261101T060000
END:STANDARD
BEGIN:DAYLIGHT
TZOFFSETFROM:-0500
TZOFFSETTO:-0400
TZNAME:EDT
DTSTART:20270314T070000
END:DAYLIGHT
BEGIN:STANDARD
TZOFFSETFROM:-0400
TZOFFSETTO:-0500
TZNAME:EST
DTSTART:20271107T060000
END:STANDARD
BEGIN:DAYLIGHT
TZOFFSETFROM:-0500
TZOFFSETTO:-0400
TZNAME:EDT
DTSTART:20280312T070000
END:DAYLIGHT
BEGIN:STANDARD
TZOFFSETFROM:-0400
TZOFFSETTO:-0500
TZNAME:EST
DTSTART:20281105T060000
END:STANDARD
END:VTIMEZONE
BEGIN:VEVENT
DTSTART;TZID=America/Indiana/Indianapolis:20270422T070000
DTEND;TZID=America/Indiana/Indianapolis:20270422T083000
DTSTAMP:20260421T124102
CREATED:20250525T175236Z
LAST-MODIFIED:20260108T203412Z
UID:37028-1808377200-1808382600@welcometocrossroads.org
SUMMARY:Trustees Meeting
DESCRIPTION:
URL:https://welcometocrossroads.org/event/trustees-meeting-107/
LOCATION:117 – 7209 E CR 100 S
END:VEVENT
BEGIN:VEVENT
DTSTART;TZID=America/Indiana/Indianapolis:20270422T133000
DTEND;TZID=America/Indiana/Indianapolis:20270422T143000
DTSTAMP:20260421T124102
CREATED:20260108T203414Z
LAST-MODIFIED:20260108T203414Z
UID:41463-1808400600-1808404200@welcometocrossroads.org
SUMMARY:Operations Meeting
DESCRIPTION:
URL:https://welcometocrossroads.org/event/operations-meeting-68/
END:VEVENT
BEGIN:VEVENT
DTSTART;TZID=America/Indiana/Indianapolis:20270422T140000
DTEND;TZID=America/Indiana/Indianapolis:20270422T150000
DTSTAMP:20260421T124102
CREATED:20250525T175240Z
LAST-MODIFIED:20251117T111321Z
UID:37029-1808402400-1808406000@welcometocrossroads.org
SUMMARY:Operations Weekly Meeting
DESCRIPTION:
URL:https://welcometocrossroads.org/event/operations-weekly-meeting-293/
LOCATION:Crossroads Church – 7209 E County Rd 100 S\, Avon\, IN\, United States
END:VEVENT
BEGIN:VEVENT
DTSTART;TZID=America/Indiana/Indianapolis:20270422T150000
DTEND;TZID=America/Indiana/Indianapolis:20270422T170000
DTSTAMP:20260421T124102
CREATED:20251101T045327Z
LAST-MODIFIED:20251117T111319Z
UID:40602-1808406000-1808413200@welcometocrossroads.org
SUMMARY:Worship Center reserved for filming
DESCRIPTION:
URL:https://welcometocrossroads.org/event/worship-center-reserved-for-filming-77/
END:VEVENT
BEGIN:VEVENT
DTSTART;TZID=America/Indiana/Indianapolis:20270422T183000
DTEND;TZID=America/Indiana/Indianapolis:20270422T200000
DTSTAMP:20260421T124102
CREATED:20250525T175248Z
LAST-MODIFIED:20260108T203415Z
UID:37032-1808418600-1808424000@welcometocrossroads.org
SUMMARY:Men's Bible Study
DESCRIPTION:
URL:https://welcometocrossroads.org/event/mens-bible-study-223/
END:VEVENT
BEGIN:VEVENT
DTSTART;TZID=America/Indiana/Indianapolis:20270422T183000
DTEND;TZID=America/Indiana/Indianapolis:20270422T203000
DTSTAMP:20260421T124102
CREATED:20250525T175245Z
LAST-MODIFIED:20260108T203417Z
UID:37031-1808418600-1808425800@welcometocrossroads.org
SUMMARY:Women in the Word
DESCRIPTION:
URL:https://welcometocrossroads.org/event/women-in-the-word-356/
END:VEVENT
BEGIN:VEVENT
DTSTART;TZID=America/Indiana/Indianapolis:20270422T190000
DTEND;TZID=America/Indiana/Indianapolis:20270422T203000
DTSTAMP:20260421T124102
CREATED:20250525T175243Z
LAST-MODIFIED:20260108T203416Z
UID:37030-1808420400-1808425800@welcometocrossroads.org
SUMMARY:Worship Practice
DESCRIPTION:Weekly Worship Team Practice to Prepare for the weekend
URL:https://welcometocrossroads.org/event/worship-practice-351/
END:VEVENT
END:VCALENDAR