BEGIN:VCALENDAR
VERSION:2.0
PRODID:-//Crossroads Church - ECPv6.15.17.1//NONSGML v1.0//EN
CALSCALE:GREGORIAN
METHOD:PUBLISH
X-ORIGINAL-URL:https://welcometocrossroads.org
X-WR-CALDESC:Events for Crossroads Church
REFRESH-INTERVAL;VALUE=DURATION:PT1H
X-Robots-Tag:noindex
X-PUBLISHED-TTL:PT1H
BEGIN:VTIMEZONE
TZID:America/Indiana/Indianapolis
BEGIN:DAYLIGHT
TZOFFSETFROM:-0500
TZOFFSETTO:-0400
TZNAME:EDT
DTSTART:20260308T070000
END:DAYLIGHT
BEGIN:STANDARD
TZOFFSETFROM:-0400
TZOFFSETTO:-0500
TZNAME:EST
DTSTART:20261101T060000
END:STANDARD
BEGIN:DAYLIGHT
TZOFFSETFROM:-0500
TZOFFSETTO:-0400
TZNAME:EDT
DTSTART:20270314T070000
END:DAYLIGHT
BEGIN:STANDARD
TZOFFSETFROM:-0400
TZOFFSETTO:-0500
TZNAME:EST
DTSTART:20271107T060000
END:STANDARD
BEGIN:DAYLIGHT
TZOFFSETFROM:-0500
TZOFFSETTO:-0400
TZNAME:EDT
DTSTART:20280312T070000
END:DAYLIGHT
BEGIN:STANDARD
TZOFFSETFROM:-0400
TZOFFSETTO:-0500
TZNAME:EST
DTSTART:20281105T060000
END:STANDARD
END:VTIMEZONE
BEGIN:VEVENT
DTSTART;TZID=America/Indiana/Indianapolis:20270502T080000
DTEND;TZID=America/Indiana/Indianapolis:20270502T084500
DTSTAMP:20260421T133525
CREATED:20250525T175423Z
LAST-MODIFIED:20260108T203524Z
UID:37056-1809244800-1809247500@welcometocrossroads.org
SUMMARY:Therefore Life Group
DESCRIPTION:
URL:https://welcometocrossroads.org/event/therefore-life-group-136/
END:VEVENT
BEGIN:VEVENT
DTSTART;TZID=America/Indiana/Indianapolis:20270502T103000
DTEND;TZID=America/Indiana/Indianapolis:20270502T123000
DTSTAMP:20260421T133525
CREATED:20250525T175443Z
LAST-MODIFIED:20260108T203525Z
UID:37058-1809253800-1809261000@welcometocrossroads.org
SUMMARY:Joyfully His LG
DESCRIPTION:
URL:https://welcometocrossroads.org/event/joyfully-his-lg-166/
END:VEVENT
BEGIN:VEVENT
DTSTART;TZID=America/Indiana/Indianapolis:20270502T110000
DTEND;TZID=America/Indiana/Indianapolis:20270502T113000
DTSTAMP:20260421T133525
CREATED:20250525T175426Z
LAST-MODIFIED:20260108T203527Z
UID:37057-1809255600-1809257400@welcometocrossroads.org
SUMMARY:Growth Track
DESCRIPTION:
URL:https://welcometocrossroads.org/event/growth-track-427/
LOCATION:Room 117 – Crossroads Church
END:VEVENT
BEGIN:VEVENT
DTSTART;TZID=America/Indiana/Indianapolis:20270502T133000
DTEND;TZID=America/Indiana/Indianapolis:20270502T160000
DTSTAMP:20260421T133525
CREATED:20250525T175445Z
LAST-MODIFIED:20260108T203528Z
UID:37059-1809264600-1809273600@welcometocrossroads.org
SUMMARY:Christ's Ambassadors
DESCRIPTION:
URL:https://welcometocrossroads.org/event/christs-ambassadors-157/
END:VEVENT
BEGIN:VEVENT
DTSTART;TZID=America/Indiana/Indianapolis:20270502T170000
DTEND;TZID=America/Indiana/Indianapolis:20270502T183000
DTSTAMP:20260421T133525
CREATED:20250525T175455Z
LAST-MODIFIED:20260108T203532Z
UID:37062-1809277200-1809282600@welcometocrossroads.org
SUMMARY:Girl’s Ministry
DESCRIPTION:
URL:https://welcometocrossroads.org/event/girls-ministry-139/
END:VEVENT
BEGIN:VEVENT
DTSTART;TZID=America/Indiana/Indianapolis:20270502T173000
DTEND;TZID=America/Indiana/Indianapolis:20270502T180000
DTSTAMP:20260421T133525
CREATED:20250525T175449Z
LAST-MODIFIED:20260108T203531Z
UID:37060-1809279000-1809280800@welcometocrossroads.org
SUMMARY:CSM - Leader Huddle
DESCRIPTION:
URL:https://welcometocrossroads.org/event/csm-leader-huddle-436/
LOCATION:102
END:VEVENT
BEGIN:VEVENT
DTSTART;TZID=America/Indiana/Indianapolis:20270502T180000
DTEND;TZID=America/Indiana/Indianapolis:20270502T203000
DTSTAMP:20260421T133525
CREATED:20250525T175452Z
LAST-MODIFIED:20260108T203529Z
UID:37061-1809280800-1809289800@welcometocrossroads.org
SUMMARY:CSM - Crossroads Students Ministries
DESCRIPTION:
URL:https://welcometocrossroads.org/event/csm-crossroads-students-ministries-194/
LOCATION:CSM – 7209 E County Rd 100 S\, Avon\, IN\, United States
END:VEVENT
END:VCALENDAR