BEGIN:VCALENDAR
VERSION:2.0
PRODID:-//Crossroads Church - ECPv6.15.17.1//NONSGML v1.0//EN
CALSCALE:GREGORIAN
METHOD:PUBLISH
X-ORIGINAL-URL:https://welcometocrossroads.org
X-WR-CALDESC:Events for Crossroads Church
REFRESH-INTERVAL;VALUE=DURATION:PT1H
X-Robots-Tag:noindex
X-PUBLISHED-TTL:PT1H
BEGIN:VTIMEZONE
TZID:America/Indiana/Indianapolis
BEGIN:DAYLIGHT
TZOFFSETFROM:-0500
TZOFFSETTO:-0400
TZNAME:EDT
DTSTART:20260308T070000
END:DAYLIGHT
BEGIN:STANDARD
TZOFFSETFROM:-0400
TZOFFSETTO:-0500
TZNAME:EST
DTSTART:20261101T060000
END:STANDARD
BEGIN:DAYLIGHT
TZOFFSETFROM:-0500
TZOFFSETTO:-0400
TZNAME:EDT
DTSTART:20270314T070000
END:DAYLIGHT
BEGIN:STANDARD
TZOFFSETFROM:-0400
TZOFFSETTO:-0500
TZNAME:EST
DTSTART:20271107T060000
END:STANDARD
BEGIN:DAYLIGHT
TZOFFSETFROM:-0500
TZOFFSETTO:-0400
TZNAME:EDT
DTSTART:20280312T070000
END:DAYLIGHT
BEGIN:STANDARD
TZOFFSETFROM:-0400
TZOFFSETTO:-0500
TZNAME:EST
DTSTART:20281105T060000
END:STANDARD
END:VTIMEZONE
BEGIN:VEVENT
DTSTART;TZID=America/Indiana/Indianapolis:20270505T100000
DTEND;TZID=America/Indiana/Indianapolis:20270505T110000
DTSTAMP:20260421T133530
CREATED:20250525T175534Z
LAST-MODIFIED:20251117T112048Z
UID:37071-1809511200-1809514800@welcometocrossroads.org
SUMMARY:Senior Luncheon: Setup
DESCRIPTION:
URL:https://welcometocrossroads.org/event/senior-luncheon-setup-109/
END:VEVENT
BEGIN:VEVENT
DTSTART;TZID=America/Indiana/Indianapolis:20270505T113000
DTEND;TZID=America/Indiana/Indianapolis:20270505T133000
DTSTAMP:20260421T133530
CREATED:20250525T175542Z
LAST-MODIFIED:20260108T203553Z
UID:37074-1809516600-1809523800@welcometocrossroads.org
SUMMARY:Senior Luncheon
DESCRIPTION:
URL:https://welcometocrossroads.org/event/senior-luncheon-130/
END:VEVENT
BEGIN:VEVENT
DTSTART;TZID=America/Indiana/Indianapolis:20270505T130000
DTEND;TZID=America/Indiana/Indianapolis:20270505T140000
DTSTAMP:20260421T133530
CREATED:20250525T175539Z
LAST-MODIFIED:20251117T112049Z
UID:37073-1809522000-1809525600@welcometocrossroads.org
SUMMARY:Senior Luncheon: Teardown
DESCRIPTION:
URL:https://welcometocrossroads.org/event/senior-luncheon-teardown-109/
END:VEVENT
BEGIN:VEVENT
DTSTART;TZID=America/Indiana/Indianapolis:20270505T140000
DTEND;TZID=America/Indiana/Indianapolis:20270505T160000
DTSTAMP:20260421T133530
CREATED:20250525T175537Z
LAST-MODIFIED:20251001T204619Z
UID:37072-1809525600-1809532800@welcometocrossroads.org
SUMMARY:The Way
DESCRIPTION:
URL:https://welcometocrossroads.org/event/the-way-47/
END:VEVENT
BEGIN:VEVENT
DTSTART;TZID=America/Indiana/Indianapolis:20270505T140000
DTEND;TZID=America/Indiana/Indianapolis:20270505T160000
DTSTAMP:20260421T133530
CREATED:20251002T235826Z
LAST-MODIFIED:20251117T112052Z
UID:40066-1809525600-1809532800@welcometocrossroads.org
SUMMARY:The Way
DESCRIPTION:
URL:https://welcometocrossroads.org/event/the-way-94/
END:VEVENT
BEGIN:VEVENT
DTSTART;TZID=America/Indiana/Indianapolis:20270505T140000
DTEND;TZID=America/Indiana/Indianapolis:20270505T160000
DTSTAMP:20260421T133530
CREATED:20260108T203554Z
LAST-MODIFIED:20260108T203554Z
UID:41469-1809525600-1809532800@welcometocrossroads.org
SUMMARY:The Way
DESCRIPTION:
URL:https://welcometocrossroads.org/event/the-way-177/
END:VEVENT
BEGIN:VEVENT
DTSTART;TZID=America/Indiana/Indianapolis:20270505T180000
DTEND;TZID=America/Indiana/Indianapolis:20270505T200000
DTSTAMP:20260421T133530
CREATED:20250525T175548Z
LAST-MODIFIED:20260108T203555Z
UID:37076-1809540000-1809547200@welcometocrossroads.org
SUMMARY:Women's Wellness LG
DESCRIPTION:Women’s LG\nVisit welcometocrossroads.org/groups for more information
URL:https://welcometocrossroads.org/event/womens-wellness-lg-258/
END:VEVENT
BEGIN:VEVENT
DTSTART;TZID=America/Indiana/Indianapolis:20270505T180000
DTEND;TZID=America/Indiana/Indianapolis:20270505T210000
DTSTAMP:20260421T133530
CREATED:20250525T175545Z
LAST-MODIFIED:20260108T203556Z
UID:37075-1809540000-1809550800@welcometocrossroads.org
SUMMARY:The Well - College & Career: The Well - College & Career Weekly Meetings
DESCRIPTION:
URL:https://welcometocrossroads.org/event/the-well-college-career-the-well-college-career-weekly-meetings-45/
END:VEVENT
BEGIN:VEVENT
DTSTART;TZID=America/Indiana/Indianapolis:20270505T190000
DTEND;TZID=America/Indiana/Indianapolis:20270505T203000
DTSTAMP:20260421T133530
CREATED:20260108T203557Z
LAST-MODIFIED:20260108T203557Z
UID:41470-1809543600-1809549000@welcometocrossroads.org
SUMMARY:Life Group
DESCRIPTION:
URL:https://welcometocrossroads.org/event/life-group-68/
END:VEVENT
END:VCALENDAR