BEGIN:VCALENDAR
VERSION:2.0
PRODID:-//Crossroads Church - ECPv6.15.17.1//NONSGML v1.0//EN
CALSCALE:GREGORIAN
METHOD:PUBLISH
X-WR-CALNAME:Crossroads Church
X-ORIGINAL-URL:https://welcometocrossroads.org
X-WR-CALDESC:Events for Crossroads Church
REFRESH-INTERVAL;VALUE=DURATION:PT1H
X-Robots-Tag:noindex
X-PUBLISHED-TTL:PT1H
BEGIN:VTIMEZONE
TZID:America/Indiana/Indianapolis
BEGIN:DAYLIGHT
TZOFFSETFROM:-0500
TZOFFSETTO:-0400
TZNAME:EDT
DTSTART:20260308T070000
END:DAYLIGHT
BEGIN:STANDARD
TZOFFSETFROM:-0400
TZOFFSETTO:-0500
TZNAME:EST
DTSTART:20261101T060000
END:STANDARD
BEGIN:DAYLIGHT
TZOFFSETFROM:-0500
TZOFFSETTO:-0400
TZNAME:EDT
DTSTART:20270314T070000
END:DAYLIGHT
BEGIN:STANDARD
TZOFFSETFROM:-0400
TZOFFSETTO:-0500
TZNAME:EST
DTSTART:20271107T060000
END:STANDARD
BEGIN:DAYLIGHT
TZOFFSETFROM:-0500
TZOFFSETTO:-0400
TZNAME:EDT
DTSTART:20280312T070000
END:DAYLIGHT
BEGIN:STANDARD
TZOFFSETFROM:-0400
TZOFFSETTO:-0500
TZNAME:EST
DTSTART:20281105T060000
END:STANDARD
END:VTIMEZONE
BEGIN:VEVENT
DTSTART;TZID=America/Indiana/Indianapolis:20270506T133000
DTEND;TZID=America/Indiana/Indianapolis:20270506T143000
DTSTAMP:20260423T072138
CREATED:20260108T203611Z
LAST-MODIFIED:20260108T203611Z
UID:41471-1809610200-1809613800@welcometocrossroads.org
SUMMARY:Operations Meeting
DESCRIPTION:
URL:https://welcometocrossroads.org/event/operations-meeting-70/
END:VEVENT
BEGIN:VEVENT
DTSTART;TZID=America/Indiana/Indianapolis:20270506T140000
DTEND;TZID=America/Indiana/Indianapolis:20270506T150000
DTSTAMP:20260423T072138
CREATED:20250525T175551Z
LAST-MODIFIED:20251117T112057Z
UID:37077-1809612000-1809615600@welcometocrossroads.org
SUMMARY:Operations Weekly Meeting
DESCRIPTION:
URL:https://welcometocrossroads.org/event/operations-weekly-meeting-295/
LOCATION:Crossroads Church – 7209 E County Rd 100 S\, Avon\, IN\, United States
END:VEVENT
BEGIN:VEVENT
DTSTART;TZID=America/Indiana/Indianapolis:20270506T150000
DTEND;TZID=America/Indiana/Indianapolis:20270506T170000
DTSTAMP:20260423T072138
CREATED:20251101T045526Z
LAST-MODIFIED:20251117T112055Z
UID:40605-1809615600-1809622800@welcometocrossroads.org
SUMMARY:Worship Center reserved for filming
DESCRIPTION:
URL:https://welcometocrossroads.org/event/worship-center-reserved-for-filming-79/
END:VEVENT
BEGIN:VEVENT
DTSTART;TZID=America/Indiana/Indianapolis:20270506T183000
DTEND;TZID=America/Indiana/Indianapolis:20270506T200000
DTSTAMP:20260423T072138
CREATED:20250525T175611Z
LAST-MODIFIED:20260108T203614Z
UID:37080-1809628200-1809633600@welcometocrossroads.org
SUMMARY:Men's Bible Study
DESCRIPTION:
URL:https://welcometocrossroads.org/event/mens-bible-study-225/
END:VEVENT
BEGIN:VEVENT
DTSTART;TZID=America/Indiana/Indianapolis:20270506T183000
DTEND;TZID=America/Indiana/Indianapolis:20270506T203000
DTSTAMP:20260423T072138
CREATED:20250525T175606Z
LAST-MODIFIED:20260108T203612Z
UID:37078-1809628200-1809635400@welcometocrossroads.org
SUMMARY:Women in the Word
DESCRIPTION:
URL:https://welcometocrossroads.org/event/women-in-the-word-358/
END:VEVENT
BEGIN:VEVENT
DTSTART;TZID=America/Indiana/Indianapolis:20270506T190000
DTEND;TZID=America/Indiana/Indianapolis:20270506T203000
DTSTAMP:20260423T072138
CREATED:20250525T175609Z
LAST-MODIFIED:20260108T203613Z
UID:37079-1809630000-1809635400@welcometocrossroads.org
SUMMARY:Worship Practice
DESCRIPTION:Weekly Worship Team Practice to Prepare for the weekend
URL:https://welcometocrossroads.org/event/worship-practice-353/
END:VEVENT
END:VCALENDAR